BEGIN:VCALENDAR
VERSION:2.0
PRODID:-//ArtsQuest - ECPv6.15.5//NONSGML v1.0//EN
CALSCALE:GREGORIAN
METHOD:PUBLISH
X-WR-CALNAME:ArtsQuest
X-ORIGINAL-URL:https://www.artsquest.org
X-WR-CALDESC:Events for ArtsQuest
REFRESH-INTERVAL;VALUE=DURATION:PT1H
X-Robots-Tag:noindex
X-PUBLISHED-TTL:PT1H
BEGIN:VTIMEZONE
TZID:America/New_York
BEGIN:DAYLIGHT
TZOFFSETFROM:-0500
TZOFFSETTO:-0400
TZNAME:EDT
DTSTART:20260308T070000
END:DAYLIGHT
BEGIN:STANDARD
TZOFFSETFROM:-0400
TZOFFSETTO:-0500
TZNAME:EST
DTSTART:20261101T060000
END:STANDARD
END:VTIMEZONE
BEGIN:VEVENT
DTSTART;TZID=America/New_York:20260419T160000
DTEND;TZID=America/New_York:20260419T180000
DTSTAMP:20260424T063838
CREATED:20260313T140047Z
LAST-MODIFIED:20260401T145321Z
UID:10003586-1776614400-1776621600@www.artsquest.org
SUMMARY:Got Nothin’ Keep Going with Matt Candio
DESCRIPTION:
URL:https://www.artsquest.org/event/got-nothin-keep-going-with-matt-candio/
LOCATION:Bethlehem Visitor Center at SteelStacks pres. by Lehigh Valley Health Network\, 711 E. First St.\, Bethlehem\, PA\, 18015\, United States
CATEGORIES:Classes,Comedy,Comedy Class,One-Day Workshop
ATTACH;FMTTYPE=image/jpeg:https://www.artsquest.org/app/uploads/2025/10/COMEDY_MattCandio_1200x392.jpg
END:VEVENT
BEGIN:VEVENT
DTSTART;TZID=America/New_York:20260421T193000
DTEND;TZID=America/New_York:20260421T213000
DTSTAMP:20260424T063838
CREATED:20260126T150037Z
LAST-MODIFIED:20260316T153159Z
UID:10002977-1776799800-1776807000@www.artsquest.org
SUMMARY:Warm Up Comedy Open Mic
DESCRIPTION:
URL:https://www.artsquest.org/event/warm-up-comedy-open-mic-6/
LOCATION:Bethlehem Visitor Center at SteelStacks pres. by Lehigh Valley Health Network\, 711 E. First St.\, Bethlehem\, PA\, 18015\, United States
CATEGORIES:Comedy,Free
ATTACH;FMTTYPE=image/jpeg:https://www.artsquest.org/app/uploads/2025/09/2025_COM_WarmUpOpenMic_1024x576.jpg
END:VEVENT
BEGIN:VEVENT
DTSTART;TZID=America/New_York:20260424T200000
DTEND;TZID=America/New_York:20260424T210000
DTSTAMP:20260424T063838
CREATED:20251201T182735Z
LAST-MODIFIED:20251205T202512Z
UID:10002481-1777060800-1777064400@www.artsquest.org
SUMMARY:COBRA
DESCRIPTION:
URL:https://www.artsquest.org/event/cobra-6/
LOCATION:Bethlehem Visitor Center at SteelStacks pres. by Lehigh Valley Health Network\, 711 E. First St.\, Bethlehem\, PA\, 18015\, United States
CATEGORIES:Comedy
ATTACH;FMTTYPE=image/jpeg:https://www.artsquest.org/app/uploads/2025/09/2025_COM_Cobra_1280x720.jpg
END:VEVENT
BEGIN:VEVENT
DTSTART;TZID=America/New_York:20260425T193000
DTEND;TZID=America/New_York:20260425T220000
DTSTAMP:20260424T063838
CREATED:20260401T180029Z
LAST-MODIFIED:20260406T192448Z
UID:10004083-1777145400-1777154400@www.artsquest.org
SUMMARY:First Impressions: A Speed Dating Experience
DESCRIPTION:
URL:https://www.artsquest.org/event/first-impressions-a-speed-dating-experience/
LOCATION:Bethlehem Visitor Center at SteelStacks pres. by Lehigh Valley Health Network\, 711 E. First St.\, Bethlehem\, PA\, 18015\, United States
CATEGORIES:Comedy,Special Event
ATTACH;FMTTYPE=image/jpeg:https://www.artsquest.org/app/uploads/2026/04/COMEDY_SpeedDating_1920x1080.jpg
END:VEVENT
BEGIN:VEVENT
DTSTART;TZID=America/New_York:20260425T213000
DTEND;TZID=America/New_York:20260425T223000
DTSTAMP:20260424T063838
CREATED:20260203T150015Z
LAST-MODIFIED:20260330T132859Z
UID:10003067-1777152600-1777156200@www.artsquest.org
SUMMARY:Improv House Teams
DESCRIPTION:
URL:https://www.artsquest.org/event/improv-house-teams-6/
LOCATION:Bethlehem Visitor Center at SteelStacks pres. by Lehigh Valley Health Network\, 711 E. First St.\, Bethlehem\, PA\, 18015\, United States
CATEGORIES:Comedy
ATTACH;FMTTYPE=image/jpeg:https://www.artsquest.org/app/uploads/2026/02/COMEDY_HTI_1920x1080.jpg
END:VEVENT
END:VCALENDAR