BEGIN:VCALENDAR
VERSION:2.0
PRODID:-//ArtsQuest - ECPv6.15.5//NONSGML v1.0//EN
CALSCALE:GREGORIAN
METHOD:PUBLISH
X-WR-CALNAME:ArtsQuest
X-ORIGINAL-URL:https://www.artsquest.org
X-WR-CALDESC:Events for ArtsQuest
REFRESH-INTERVAL;VALUE=DURATION:PT1H
X-Robots-Tag:noindex
X-PUBLISHED-TTL:PT1H
BEGIN:VTIMEZONE
TZID:America/New_York
BEGIN:DAYLIGHT
TZOFFSETFROM:-0500
TZOFFSETTO:-0400
TZNAME:EDT
DTSTART:20260308T070000
END:DAYLIGHT
BEGIN:STANDARD
TZOFFSETFROM:-0400
TZOFFSETTO:-0500
TZNAME:EST
DTSTART:20261101T060000
END:STANDARD
END:VTIMEZONE
BEGIN:VEVENT
DTSTART;TZID=America/New_York:20260712T181500
DTEND;TZID=America/New_York:20260712T202300
DTSTAMP:20260423T023247
CREATED:20260409T140044Z
LAST-MODIFIED:20260408T183300Z
UID:10004170-1783880100-1783887780@www.artsquest.org
SUMMARY:42
DESCRIPTION:
URL:https://www.artsquest.org/event/42/
LOCATION:Frank Banko Alehouse Cinemas\, 101 Founders Way\, Bethlehem\, PA\, 18015\, United States
CATEGORIES:Film
ATTACH;FMTTYPE=image/jpeg:https://www.artsquest.org/app/uploads/2026/04/FILM_42_1920x1080.jpg
END:VEVENT
BEGIN:VEVENT
DTSTART;TZID=America/New_York:20260715T133000
DTEND;TZID=America/New_York:20260715T150000
DTSTAMP:20260423T023247
CREATED:20260406T140005Z
LAST-MODIFIED:20260407T210034Z
UID:10004078-1784122200-1784127600@www.artsquest.org
SUMMARY:Aladdin (1992) (Sensory-Friendly)
DESCRIPTION:
URL:https://www.artsquest.org/event/aladdin-1992-sensory-friendly/
LOCATION:Frank Banko Alehouse Cinemas\, 101 Founders Way\, Bethlehem\, PA\, 18015\, United States
CATEGORIES:Film
ATTACH;FMTTYPE=image/jpeg:https://www.artsquest.org/app/uploads/2026/03/FILM_Aladdin_1920x1080.jpg
END:VEVENT
BEGIN:VEVENT
DTSTART;TZID=America/New_York:20260715T183000
DTEND;TZID=America/New_York:20260715T200000
DTSTAMP:20260423T023247
CREATED:20260330T161856Z
LAST-MODIFIED:20260414T142657Z
UID:10004025-1784140200-1784145600@www.artsquest.org
SUMMARY:Aladdin (1992)
DESCRIPTION:
URL:https://www.artsquest.org/event/aladdin-1992/
LOCATION:Levitt Pavilion SteelStacks\, 789 E 1st St\, Bethlehem\, PA\, 18015
CATEGORIES:Film
ATTACH;FMTTYPE=image/jpeg:https://www.artsquest.org/app/uploads/2026/03/FILM_Aladdin_1920x1080.jpg
END:VEVENT
BEGIN:VEVENT
DTSTART;TZID=America/New_York:20260715T191500
DTEND;TZID=America/New_York:20260715T212000
DTSTAMP:20260423T023247
CREATED:20260312T140034Z
LAST-MODIFIED:20260312T165600Z
UID:10003543-1784142900-1784150400@www.artsquest.org
SUMMARY:Cool Hand Luke
DESCRIPTION:
URL:https://www.artsquest.org/event/cool-hand-luke/
LOCATION:Frank Banko Alehouse Cinemas\, 101 Founders Way\, Bethlehem\, PA\, 18015\, United States
CATEGORIES:Film
ATTACH;FMTTYPE=image/jpeg:https://www.artsquest.org/app/uploads/2026/03/FILM_CoolHandLuke_1920x1080.jpg
END:VEVENT
END:VCALENDAR