BEGIN:VCALENDAR
VERSION:2.0
PRODID:-//ArtsQuest - ECPv6.15.5//NONSGML v1.0//EN
CALSCALE:GREGORIAN
METHOD:PUBLISH
X-ORIGINAL-URL:https://www.artsquest.org
X-WR-CALDESC:Events for ArtsQuest
REFRESH-INTERVAL;VALUE=DURATION:PT1H
X-Robots-Tag:noindex
X-PUBLISHED-TTL:PT1H
BEGIN:VTIMEZONE
TZID:America/New_York
BEGIN:DAYLIGHT
TZOFFSETFROM:-0500
TZOFFSETTO:-0400
TZNAME:EDT
DTSTART:20260308T070000
END:DAYLIGHT
BEGIN:STANDARD
TZOFFSETFROM:-0400
TZOFFSETTO:-0500
TZNAME:EST
DTSTART:20261101T060000
END:STANDARD
END:VTIMEZONE
BEGIN:VEVENT
DTSTART;TZID=America/New_York:20260707T180000
DTEND;TZID=America/New_York:20260707T200000
DTSTAMP:20260424T155200
CREATED:20260424T151256Z
LAST-MODIFIED:20260424T151311Z
UID:10005073-1783447200-1783454400@www.artsquest.org
SUMMARY:Goth Sewn Plushie Workshop (Session A)
DESCRIPTION:
URL:https://www.artsquest.org/event/goth-sewn-plushie-workshop-session-a/
LOCATION:Fowler Blast Furnace Room\, 101 Founders Way\, Bethlehem\, PA\, 18015\, United States
CATEGORIES:Classes,Fiber Arts,One-Day Workshop
ATTACH;FMTTYPE=image/jpeg:https://www.artsquest.org/app/uploads/2026/04/VA_GothPlush_1920x1080.jpg
END:VEVENT
BEGIN:VEVENT
DTSTART;TZID=America/New_York:20260708T180000
DTEND;TZID=America/New_York:20260708T210000
DTSTAMP:20260424T155200
CREATED:20260424T152149Z
LAST-MODIFIED:20260424T152149Z
UID:10005074-1783533600-1783544400@www.artsquest.org
SUMMARY:Color\, Materials\, and Process (Session B)
DESCRIPTION:
URL:https://www.artsquest.org/event/color-materials-and-process-session-b/
LOCATION:Artist Garages at 520 Hamilton – Bay 1\, 520 Hamilton St.\, Allentown\, PA\, 18101\, United States
CATEGORIES:Classes,Drawing & Painting
ATTACH;FMTTYPE=image/jpeg:https://www.artsquest.org/app/uploads/2026/04/VA_ColorSessionB_1920x1080.jpg
END:VEVENT
BEGIN:VEVENT
DTSTART;TZID=America/New_York:20260711T103000
DTEND;TZID=America/New_York:20260711T123000
DTSTAMP:20260424T155200
CREATED:20260424T153333Z
LAST-MODIFIED:20260424T153333Z
UID:10005075-1783765800-1783773000@www.artsquest.org
SUMMARY:Watercolor and Embroidery Workshop (Session B)
DESCRIPTION:
URL:https://www.artsquest.org/event/watercolor-and-embroidery-workshop-session-b/
LOCATION:Bethlehem Area Public Library (Main Branch) Laros Room\, 11 W Church St\, Bethlehem\, PA\, 18018\, United States
CATEGORIES:Classes,Drawing & Painting,One-Day Workshop
ATTACH;FMTTYPE=image/jpeg:https://www.artsquest.org/app/uploads/2026/04/VA_Embroidery_1920x1080.jpg
END:VEVENT
END:VCALENDAR