BEGIN:VCALENDAR
VERSION:2.0
PRODID:-//ArtsQuest - ECPv6.15.5//NONSGML v1.0//EN
CALSCALE:GREGORIAN
METHOD:PUBLISH
X-WR-CALNAME:ArtsQuest
X-ORIGINAL-URL:https://www.artsquest.org
X-WR-CALDESC:Events for ArtsQuest
REFRESH-INTERVAL;VALUE=DURATION:PT1H
X-Robots-Tag:noindex
X-PUBLISHED-TTL:PT1H
BEGIN:VTIMEZONE
TZID:America/New_York
BEGIN:DAYLIGHT
TZOFFSETFROM:-0500
TZOFFSETTO:-0400
TZNAME:EDT
DTSTART:20260308T070000
END:DAYLIGHT
BEGIN:STANDARD
TZOFFSETFROM:-0400
TZOFFSETTO:-0500
TZNAME:EST
DTSTART:20261101T060000
END:STANDARD
END:VTIMEZONE
BEGIN:VEVENT
DTSTART;TZID=America/New_York:20260628T110000
DTEND;TZID=America/New_York:20260628T123000
DTSTAMP:20260421T043947
CREATED:20260325T185725Z
LAST-MODIFIED:20260325T185725Z
UID:10003985-1782644400-1782649800@www.artsquest.org
SUMMARY:Steelworkers’ Archives Walking Tours
DESCRIPTION:https://secure.artsquest.org/Online/seatSelect.asp?createBO::WSmap=1&BOparam::WSmap::loadBestAvailable::performance_ids=14D52E77-DA0F-4C7F-A187-A8536DC4F624 \nhttps://secure.artsquest.org/Online/seatSelect.asp?createBO::WSmap=1&BOparam::WSmap::loadBestAvailable::performance_ids=E86466B7-D429-4B63-B2D9-FCD5AE51BAE6 \nhttps://secure.artsquest.org/Online/seatSelect.asp?createBO::WSmap=1&BOparam::WSmap::loadBestAvailable::performance_ids=63E9D0A9-1FF1-4E65-ACBE-55E19C5580A3
URL:https://www.artsquest.org/event/steelworkers-archives-walking-tours-6-28-26/
LOCATION:PA
CATEGORIES:Tours
ATTACH;FMTTYPE=image/png:https://www.artsquest.org/app/uploads/2025/10/Steelworkers-Archives-Walking-Tours-1200x392-1.png
END:VEVENT
BEGIN:VEVENT
DTSTART;TZID=America/New_York:20260628T133000
DTEND;TZID=America/New_York:20260628T150000
DTSTAMP:20260421T043947
CREATED:20260325T185741Z
LAST-MODIFIED:20260325T185741Z
UID:10003980-1782653400-1782658800@www.artsquest.org
SUMMARY:Steelworkers’ Archives Walking Tours
DESCRIPTION:https://secure.artsquest.org/Online/seatSelect.asp?createBO::WSmap=1&BOparam::WSmap::loadBestAvailable::performance_ids=052623BB-0187-4476-82C1-D30B9DB98CCB
URL:https://www.artsquest.org/event/steelworkers-archives-walking-tours-6-28-26-2/
LOCATION:PA
CATEGORIES:Tours
ATTACH;FMTTYPE=image/png:https://www.artsquest.org/app/uploads/2025/10/Steelworkers-Archives-Walking-Tours-1200x392-1.png
END:VEVENT
BEGIN:VEVENT
DTSTART;TZID=America/New_York:20260702T110000
DTEND;TZID=America/New_York:20260702T133000
DTSTAMP:20260421T043947
CREATED:20260406T205243Z
LAST-MODIFIED:20260406T205243Z
UID:10004108-1782990000-1782999000@www.artsquest.org
SUMMARY:Steelworkers’ Archives Walking Tours
DESCRIPTION:https://secure.artsquest.org/Online/seatSelect.asp?createBO::WSmap=1&BOparam::WSmap::loadBestAvailable::performance_ids=59D77E2D-5558-47B5-8FC3-9F8C10F49620
URL:https://www.artsquest.org/event/steelworkers-archives-walking-tours-7-2-26/
LOCATION:PA
CATEGORIES:Tours
ATTACH;FMTTYPE=image/png:https://www.artsquest.org/app/uploads/2025/10/Steelworkers-Archives-Walking-Tours-1200x392-1.png
END:VEVENT
BEGIN:VEVENT
DTSTART;TZID=America/New_York:20260703T110000
DTEND;TZID=America/New_York:20260703T123000
DTSTAMP:20260421T043947
CREATED:20260406T205308Z
LAST-MODIFIED:20260406T205308Z
UID:10004107-1783076400-1783081800@www.artsquest.org
SUMMARY:Steelworkers’ Archives Walking Tours
DESCRIPTION:https://secure.artsquest.org/Online/seatSelect.asp?createBO::WSmap=1&BOparam::WSmap::loadBestAvailable::performance_ids=5277AE10-57A8-481F-804B-D87D10008157 \nhttps://secure.artsquest.org/Online/seatSelect.asp?createBO::WSmap=1&BOparam::WSmap::loadBestAvailable::performance_ids=51A98451-4320-40EF-B4A3-B7103CDB0568
URL:https://www.artsquest.org/event/steelworkers-archives-walking-tours-7-3-26/
LOCATION:PA
CATEGORIES:Tours
ATTACH;FMTTYPE=image/png:https://www.artsquest.org/app/uploads/2025/10/Steelworkers-Archives-Walking-Tours-1200x392-1.png
END:VEVENT
BEGIN:VEVENT
DTSTART;TZID=America/New_York:20260704T110000
DTEND;TZID=America/New_York:20260704T123000
DTSTAMP:20260421T043947
CREATED:20260406T205331Z
LAST-MODIFIED:20260406T205331Z
UID:10004106-1783162800-1783168200@www.artsquest.org
SUMMARY:Steelworkers’ Archives Walking Tours
DESCRIPTION:
URL:https://www.artsquest.org/event/steelworkers-archives-walking-tours-7-4-26/
LOCATION:PA
CATEGORIES:Tours
ATTACH;FMTTYPE=image/png:https://www.artsquest.org/app/uploads/2025/10/Steelworkers-Archives-Walking-Tours-1200x392-1.png
END:VEVENT
BEGIN:VEVENT
DTSTART;TZID=America/New_York:20260704T133000
DTEND;TZID=America/New_York:20260704T150000
DTSTAMP:20260421T043947
CREATED:20260406T205351Z
LAST-MODIFIED:20260406T205351Z
UID:10004105-1783171800-1783177200@www.artsquest.org
SUMMARY:Steelworkers’ Archives Walking Tours
DESCRIPTION:https://secure.artsquest.org/Online/seatSelect.asp?createBO::WSmap=1&BOparam::WSmap::loadBestAvailable::performance_ids=56E93A47-1C0D-41FC-90B4-ABD0AF1FF68D \nhttps://secure.artsquest.org/Online/seatSelect.asp?createBO::WSmap=1&BOparam::WSmap::loadBestAvailable::performance_ids=C7ACAAF0-9F80-4729-BE39-7DD0D1DBF9DC \nhttps://secure.artsquest.org/Online/seatSelect.asp?createBO::WSmap=1&BOparam::WSmap::loadBestAvailable::performance_ids=E29A9992-E59A-4835-8B32-8B594E8CF998 \nhttps://secure.artsquest.org/Online/seatSelect.asp?createBO::WSmap=1&BOparam::WSmap::loadBestAvailable::performance_ids=71BD0CC7-E438-43E7-88DD-1C4AA2D55E4B
URL:https://www.artsquest.org/event/steelworkers-archives-walking-tours-7-4-26-2/
LOCATION:PA
CATEGORIES:Tours
ATTACH;FMTTYPE=image/png:https://www.artsquest.org/app/uploads/2025/10/Steelworkers-Archives-Walking-Tours-1200x392-1.png
END:VEVENT
END:VCALENDAR