BEGIN:VCALENDAR
VERSION:2.0
PRODID:-//ArtsQuest - ECPv6.15.5//NONSGML v1.0//EN
CALSCALE:GREGORIAN
METHOD:PUBLISH
X-WR-CALNAME:ArtsQuest
X-ORIGINAL-URL:https://www.artsquest.org
X-WR-CALDESC:Events for ArtsQuest
REFRESH-INTERVAL;VALUE=DURATION:PT1H
X-Robots-Tag:noindex
X-PUBLISHED-TTL:PT1H
BEGIN:VTIMEZONE
TZID:America/New_York
BEGIN:DAYLIGHT
TZOFFSETFROM:-0500
TZOFFSETTO:-0400
TZNAME:EDT
DTSTART:20260308T070000
END:DAYLIGHT
BEGIN:STANDARD
TZOFFSETFROM:-0400
TZOFFSETTO:-0500
TZNAME:EST
DTSTART:20261101T060000
END:STANDARD
END:VTIMEZONE
BEGIN:VEVENT
DTSTART;TZID=America/New_York:20260621T181500
DTEND;TZID=America/New_York:20260621T202000
DTSTAMP:20260422T220753
CREATED:20260409T140052Z
LAST-MODIFIED:20260408T182045Z
UID:10004169-1782065700-1782073200@www.artsquest.org
SUMMARY:The Natural
DESCRIPTION:
URL:https://www.artsquest.org/event/the-natural/
LOCATION:Frank Banko Alehouse Cinemas\, 101 Founders Way\, Bethlehem\, PA\, 18015\, United States
CATEGORIES:Film
ATTACH;FMTTYPE=image/jpeg:https://www.artsquest.org/app/uploads/2026/04/FILM_TheNatural_1920x1080.jpg
END:VEVENT
BEGIN:VEVENT
DTSTART;TZID=America/New_York:20260624T191500
DTEND;TZID=America/New_York:20260624T211000
DTSTAMP:20260422T220753
CREATED:20260312T140025Z
LAST-MODIFIED:20260312T203014Z
UID:10003540-1782328500-1782335400@www.artsquest.org
SUMMARY:Planet of the Apes
DESCRIPTION:
URL:https://www.artsquest.org/event/planet-of-the-apes/
LOCATION:Frank Banko Alehouse Cinemas\, 101 Founders Way\, Bethlehem\, PA\, 18015\, United States
CATEGORIES:Film
ATTACH;FMTTYPE=image/jpeg:https://www.artsquest.org/app/uploads/2026/03/FILM_PlanetoftheApes_1920x1080.jpg
END:VEVENT
BEGIN:VEVENT
DTSTART;TZID=America/New_York:20260625T190000
DTEND;TZID=America/New_York:20260625T203000
DTSTAMP:20260422T220753
CREATED:20260316T140032Z
LAST-MODIFIED:20260420T200654Z
UID:10003545-1782414000-1782419400@www.artsquest.org
SUMMARY:Salsa
DESCRIPTION:
URL:https://www.artsquest.org/event/salsa/
LOCATION:Frank Banko Alehouse Cinemas\, 101 Founders Way\, Bethlehem\, PA\, 18015\, United States
CATEGORIES:Film
ATTACH;FMTTYPE=image/jpeg:https://www.artsquest.org/app/uploads/2026/03/FILM_Salsa_1920x1080.jpg
END:VEVENT
BEGIN:VEVENT
DTSTART;TZID=America/New_York:20260626T214500
DTEND;TZID=America/New_York:20260626T233700
DTSTAMP:20260422T220753
CREATED:20260407T184142Z
LAST-MODIFIED:20260407T194520Z
UID:10004112-1782510300-1782517020@www.artsquest.org
SUMMARY:Shaolin Soccer: Director's Cut (25th Anniversary)
DESCRIPTION:
URL:https://www.artsquest.org/event/shaolin-soccer-directors-cut-25th-anniversary/
LOCATION:Frank Banko Alehouse Cinemas\, 101 Founders Way\, Bethlehem\, PA\, 18015\, United States
CATEGORIES:Film
ATTACH;FMTTYPE=image/jpeg:https://www.artsquest.org/app/uploads/2026/04/FILM_ShaolinSoccer_1920x1080.jpg
END:VEVENT
BEGIN:VEVENT
DTSTART;TZID=America/New_York:20260626T233000
DTEND;TZID=America/New_York:20260627T013000
DTSTAMP:20260422T220753
CREATED:20251222T150054Z
LAST-MODIFIED:20260304T163613Z
UID:10002590-1782516600-1782523800@www.artsquest.org
SUMMARY:The Rocky Horror Picture Show (50th Anniversary)
DESCRIPTION:
URL:https://www.artsquest.org/event/the-rocky-horror-picture-show-50th-anniversary-6/
LOCATION:Frank Banko Alehouse Cinemas\, 101 Founders Way\, Bethlehem\, PA\, 18015\, United States
CATEGORIES:Film
ATTACH;FMTTYPE=image/jpeg:https://www.artsquest.org/app/uploads/2025/12/FILM_RockyHorrorCrop_1920x1080.jpg
END:VEVENT
BEGIN:VEVENT
DTSTART;TZID=America/New_York:20260627T214500
DTEND;TZID=America/New_York:20260627T232500
DTSTAMP:20260422T220753
CREATED:20251209T150029Z
LAST-MODIFIED:20260205T185522Z
UID:10002528-1782596700-1782602700@www.artsquest.org
SUMMARY:INU-OH
DESCRIPTION:
URL:https://www.artsquest.org/event/inu-oh/
LOCATION:Frank Banko Alehouse Cinemas\, 101 Founders Way\, Bethlehem\, PA\, 18015\, United States
CATEGORIES:Film
ATTACH;FMTTYPE=image/jpeg:https://www.artsquest.org/app/uploads/2025/12/FILM_inuoh_1200x392.jpg
END:VEVENT
END:VCALENDAR