BEGIN:VCALENDAR
VERSION:2.0
PRODID:-//ArtsQuest - ECPv6.15.5//NONSGML v1.0//EN
CALSCALE:GREGORIAN
METHOD:PUBLISH
X-WR-CALNAME:ArtsQuest
X-ORIGINAL-URL:https://www.artsquest.org
X-WR-CALDESC:Events for ArtsQuest
REFRESH-INTERVAL;VALUE=DURATION:PT1H
X-Robots-Tag:noindex
X-PUBLISHED-TTL:PT1H
BEGIN:VTIMEZONE
TZID:America/New_York
BEGIN:DAYLIGHT
TZOFFSETFROM:-0500
TZOFFSETTO:-0400
TZNAME:EDT
DTSTART:20260308T070000
END:DAYLIGHT
BEGIN:STANDARD
TZOFFSETFROM:-0400
TZOFFSETTO:-0500
TZNAME:EST
DTSTART:20261101T060000
END:STANDARD
END:VTIMEZONE
BEGIN:VEVENT
DTSTART;TZID=America/New_York:20260517T181500
DTEND;TZID=America/New_York:20260517T202300
DTSTAMP:20260422T143955
CREATED:20260409T140018Z
LAST-MODIFIED:20260408T181042Z
UID:10004167-1779041700-1779049380@www.artsquest.org
SUMMARY:A League of Their Own
DESCRIPTION:
URL:https://www.artsquest.org/event/a-league-of-their-own/
LOCATION:Frank Banko Alehouse Cinemas\, 101 Founders Way\, Bethlehem\, PA\, 18015\, United States
CATEGORIES:Film
ATTACH;FMTTYPE=image/jpeg:https://www.artsquest.org/app/uploads/2026/04/FILM_ALeagueOfTheirOwn_1920x1080.jpg
END:VEVENT
BEGIN:VEVENT
DTSTART;TZID=America/New_York:20260520T133000
DTEND;TZID=America/New_York:20260520T145300
DTSTAMP:20260422T143955
CREATED:20260406T140043Z
LAST-MODIFIED:20260407T205846Z
UID:10004071-1779283800-1779288780@www.artsquest.org
SUMMARY:The Little Mermaid (1989) (Sensory-Friendly)
DESCRIPTION:
URL:https://www.artsquest.org/event/little-mermaid-sensory-friendly/
LOCATION:Frank Banko Alehouse Cinemas\, 101 Founders Way\, Bethlehem\, PA\, 18015\, United States
CATEGORIES:Film
ATTACH;FMTTYPE=image/jpeg:https://www.artsquest.org/app/uploads/2026/03/FILM_LittleMermaid_1920x1080.jpg
END:VEVENT
BEGIN:VEVENT
DTSTART;TZID=America/New_York:20260520T183000
DTEND;TZID=America/New_York:20260520T195300
DTSTAMP:20260422T143955
CREATED:20260330T154841Z
LAST-MODIFIED:20260414T142554Z
UID:10004020-1779301800-1779306780@www.artsquest.org
SUMMARY:The Little Mermaid (1989)
DESCRIPTION:
URL:https://www.artsquest.org/event/the-little-mermaid-1989/
LOCATION:Levitt Pavilion SteelStacks\, 789 E 1st St\, Bethlehem\, PA\, 18015
CATEGORIES:Film
ATTACH;FMTTYPE=image/jpeg:https://www.artsquest.org/app/uploads/2026/03/FILM_LittleMermaid_1920x1080.jpg
END:VEVENT
BEGIN:VEVENT
DTSTART;TZID=America/New_York:20260520T191500
DTEND;TZID=America/New_York:20260520T211500
DTSTAMP:20260422T143955
CREATED:20260213T150031Z
LAST-MODIFIED:20260312T165222Z
UID:10003237-1779304500-1779311700@www.artsquest.org
SUMMARY:Some Like it Hot
DESCRIPTION:
URL:https://www.artsquest.org/event/some-like-it-hot/
LOCATION:Frank Banko Alehouse Cinemas\, 101 Founders Way\, Bethlehem\, PA\, 18015\, United States
CATEGORIES:Film
ATTACH;FMTTYPE=image/jpeg:https://www.artsquest.org/app/uploads/2026/02/FILM_SomeLikeItHot_1920x1080.jpg
END:VEVENT
BEGIN:VEVENT
DTSTART;TZID=America/New_York:20260521T191500
DTEND;TZID=America/New_York:20260521T211000
DTSTAMP:20260422T143955
CREATED:20260417T140027Z
LAST-MODIFIED:20260417T141452Z
UID:10004960-1779390900-1779397800@www.artsquest.org
SUMMARY:Miles Davis: Birth Of The Cool - A 100th Birthday Celebration
DESCRIPTION:
URL:https://www.artsquest.org/event/miles-davis-birth-of-the-cool-a-100th-birthday-celebration/
LOCATION:Frank Banko Alehouse Cinemas\, 101 Founders Way\, Bethlehem\, PA\, 18015\, United States
CATEGORIES:Film
ATTACH;FMTTYPE=image/jpeg:https://www.artsquest.org/app/uploads/2026/04/FILM_MilesDavis_1920x1080.jpg
END:VEVENT
END:VCALENDAR