BEGIN:VCALENDAR
VERSION:2.0
PRODID:-//ArtsQuest - ECPv6.15.5//NONSGML v1.0//EN
CALSCALE:GREGORIAN
METHOD:PUBLISH
X-ORIGINAL-URL:https://www.artsquest.org
X-WR-CALDESC:Events for ArtsQuest
REFRESH-INTERVAL;VALUE=DURATION:PT1H
X-Robots-Tag:noindex
X-PUBLISHED-TTL:PT1H
BEGIN:VTIMEZONE
TZID:America/New_York
BEGIN:DAYLIGHT
TZOFFSETFROM:-0500
TZOFFSETTO:-0400
TZNAME:EDT
DTSTART:20260308T070000
END:DAYLIGHT
BEGIN:STANDARD
TZOFFSETFROM:-0400
TZOFFSETTO:-0500
TZNAME:EST
DTSTART:20261101T060000
END:STANDARD
END:VTIMEZONE
BEGIN:VEVENT
DTSTART;TZID=America/New_York:20260412T103000
DTEND;TZID=America/New_York:20260412T133000
DTSTAMP:20260424T020811
CREATED:20251124T164201Z
LAST-MODIFIED:20260126T173901Z
UID:10002457-1775989800-1776000600@www.artsquest.org
SUMMARY:Wall-Mounted Bud Vase Workshop
DESCRIPTION:
URL:https://www.artsquest.org/event/wall-mounted-bud-vase-workshop/
LOCATION:ArtsQuest Ceramics Studio\, 1801 Union Blvd Suite G\, Allentown\, PA\, 18109\, United States
CATEGORIES:Ceramics,Classes,One-Day Workshop
ATTACH;FMTTYPE=image/jpeg:https://www.artsquest.org/app/uploads/2025/11/VA_WallVase_1200x392.jpg
END:VEVENT
BEGIN:VEVENT
DTSTART;TZID=America/New_York:20260412T113000
DTEND;TZID=America/New_York:20260412T130000
DTSTAMP:20260424T020811
CREATED:20251124T170756Z
LAST-MODIFIED:20260406T160459Z
UID:10002460-1775993400-1775998800@www.artsquest.org
SUMMARY:Cartooning for All Ages (Session C - 3 Weeks)
DESCRIPTION:
URL:https://www.artsquest.org/event/cartooning-for-all-ages-session-c/
LOCATION:Bethlehem Visitor Center at SteelStacks pres. by Lehigh Valley Health Network\, 711 E. First St.\, Bethlehem\, PA\, 18015\, United States
CATEGORIES:Classes,Drawing & Painting
ATTACH;FMTTYPE=image/jpeg:https://www.artsquest.org/app/uploads/2025/11/VA_Anime_1200x392.jpg
END:VEVENT
BEGIN:VEVENT
DTSTART;TZID=America/New_York:20260413T100000
DTEND;TZID=America/New_York:20260413T130000
DTSTAMP:20260424T020811
CREATED:20260303T165614Z
LAST-MODIFIED:20260303T165614Z
UID:10003435-1776074400-1776085200@www.artsquest.org
SUMMARY:Wheelthrowing for Beginners to Advanced with Asha Serra (Session D - 8 Weeks)
DESCRIPTION:
URL:https://www.artsquest.org/event/wheelthrowing-for-beginners-to-advanced-with-asha-serra-session-d-8-weeks/
LOCATION:ArtsQuest Ceramics Studio\, 1801 Union Blvd Suite G\, Allentown\, PA\, 18109\, United States
CATEGORIES:Ceramics,Classes
ATTACH;FMTTYPE=image/jpeg:https://www.artsquest.org/app/uploads/2025/11/VA_Wheelthrowing_1200x392.jpg
END:VEVENT
BEGIN:VEVENT
DTSTART;TZID=America/New_York:20260415T100000
DTEND;TZID=America/New_York:20260415T110000
DTSTAMP:20260424T020811
CREATED:20260122T154640Z
LAST-MODIFIED:20260210T182320Z
UID:10003007-1776247200-1776250800@www.artsquest.org
SUMMARY:Create & Connect for 50+
DESCRIPTION:
URL:https://www.artsquest.org/event/create-connect-for-50-4-15-2026/
LOCATION:Bethlehem Visitor Center at SteelStacks pres. by Lehigh Valley Health Network\, 711 E. First St.\, Bethlehem\, PA\, 18015\, United States
CATEGORIES:Classes,Free,One-Day Workshop,Special Event,Visual Arts
ATTACH;FMTTYPE=image/jpeg:https://www.artsquest.org/app/uploads/2026/01/create-connect-featured-1920x1080-1.jpg
END:VEVENT
END:VCALENDAR