BEGIN:VCALENDAR
VERSION:2.0
PRODID:-//ArtsQuest - ECPv6.15.5//NONSGML v1.0//EN
CALSCALE:GREGORIAN
METHOD:PUBLISH
X-WR-CALNAME:ArtsQuest
X-ORIGINAL-URL:https://www.artsquest.org
X-WR-CALDESC:Events for ArtsQuest
REFRESH-INTERVAL;VALUE=DURATION:PT1H
X-Robots-Tag:noindex
X-PUBLISHED-TTL:PT1H
BEGIN:VTIMEZONE
TZID:America/New_York
BEGIN:DAYLIGHT
TZOFFSETFROM:-0500
TZOFFSETTO:-0400
TZNAME:EDT
DTSTART:20260308T070000
END:DAYLIGHT
BEGIN:STANDARD
TZOFFSETFROM:-0400
TZOFFSETTO:-0500
TZNAME:EST
DTSTART:20261101T060000
END:STANDARD
END:VTIMEZONE
BEGIN:VEVENT
DTSTART;TZID=America/New_York:20260318T100000
DTEND;TZID=America/New_York:20260318T110000
DTSTAMP:20260424T080254
CREATED:20260122T154408Z
LAST-MODIFIED:20260303T193843Z
UID:10003005-1773828000-1773831600@www.artsquest.org
SUMMARY:Create & Connect for 50+
DESCRIPTION:
URL:https://www.artsquest.org/event/create-connect-for-50-3-18-2026/
LOCATION:Williams Brew Stage\, 101 Founders Way\, Bethlehem\, PA\, 18015\, United States
CATEGORIES:Classes,Free,One-Day Workshop,Special Event,Visual Arts
ATTACH;FMTTYPE=image/jpeg:https://www.artsquest.org/app/uploads/2026/01/create-connect-featured-1920x1080-1.jpg
END:VEVENT
BEGIN:VEVENT
DTSTART;TZID=America/New_York:20260321T120000
DTEND;TZID=America/New_York:20260321T150000
DTSTAMP:20260424T080254
CREATED:20251124T135240Z
LAST-MODIFIED:20260115T152520Z
UID:10002447-1774094400-1774105200@www.artsquest.org
SUMMARY:Ceramic Planter Workshop (Session A)
DESCRIPTION:
URL:https://www.artsquest.org/event/ceramic-planter-workshop-session-a/
LOCATION:ArtsQuest Ceramics Studio\, 1801 Union Blvd Suite G\, Allentown\, PA\, 18109\, United States
CATEGORIES:Ceramics,Classes
ATTACH;FMTTYPE=image/jpeg:https://www.artsquest.org/app/uploads/2025/11/VA_ceramicplanter_1200x392.jpg
END:VEVENT
BEGIN:VEVENT
DTSTART;TZID=America/New_York:20260321T130000
DTEND;TZID=America/New_York:20260321T160000
DTSTAMP:20260424T080254
CREATED:20251124T140546Z
LAST-MODIFIED:20260210T161927Z
UID:10002449-1774098000-1774108800@www.artsquest.org
SUMMARY:Needle Felting: Rabbit Portrait
DESCRIPTION:
URL:https://www.artsquest.org/event/needle-felting-rabbit-portrait/
LOCATION:Bethlehem Area Public Library (Main Branch) Laros Room\, 11 W Church St\, Bethlehem\, PA\, 18018\, United States
CATEGORIES:Classes,Fiber Arts,One-Day Workshop
ATTACH;FMTTYPE=image/jpeg:https://www.artsquest.org/app/uploads/2025/11/VA_needlerabbit_1200x392.jpg
END:VEVENT
END:VCALENDAR