BEGIN:VCALENDAR
VERSION:2.0
PRODID:-//ArtsQuest - ECPv6.15.5//NONSGML v1.0//EN
CALSCALE:GREGORIAN
METHOD:PUBLISH
X-WR-CALNAME:ArtsQuest
X-ORIGINAL-URL:https://www.artsquest.org
X-WR-CALDESC:Events for ArtsQuest
REFRESH-INTERVAL;VALUE=DURATION:PT1H
X-Robots-Tag:noindex
X-PUBLISHED-TTL:PT1H
BEGIN:VTIMEZONE
TZID:America/New_York
BEGIN:DAYLIGHT
TZOFFSETFROM:-0500
TZOFFSETTO:-0400
TZNAME:EDT
DTSTART:20260308T070000
END:DAYLIGHT
BEGIN:STANDARD
TZOFFSETFROM:-0400
TZOFFSETTO:-0500
TZNAME:EST
DTSTART:20261101T060000
END:STANDARD
END:VTIMEZONE
BEGIN:VEVENT
DTSTART;TZID=America/New_York:20260308T113000
DTEND;TZID=America/New_York:20260308T130000
DTSTAMP:20260424T092316
CREATED:20251117T220229Z
LAST-MODIFIED:20260217T162750Z
UID:10002410-1772969400-1772974800@www.artsquest.org
SUMMARY:Cartooning for All Ages (Session B - 3 Weeks)
DESCRIPTION:
URL:https://www.artsquest.org/event/cartooning-for-all-ages-session-b/
LOCATION:Bethlehem Visitor Center at SteelStacks pres. by Lehigh Valley Health Network\, 711 E. First St.\, Bethlehem\, PA\, 18015\, United States
CATEGORIES:Classes,Drawing & Painting
ATTACH;FMTTYPE=image/jpeg:https://www.artsquest.org/app/uploads/2025/11/VA_Anime_1200x392.jpg
END:VEVENT
BEGIN:VEVENT
DTSTART;TZID=America/New_York:20260310T183000
DTEND;TZID=America/New_York:20260310T203000
DTSTAMP:20260424T092316
CREATED:20251118T142231Z
LAST-MODIFIED:20251201T204536Z
UID:10002411-1773167400-1773174600@www.artsquest.org
SUMMARY:Introduction to Figure Drawing (6 Weeks)
DESCRIPTION:
URL:https://www.artsquest.org/event/introduction-to-figure-drawing/
LOCATION:Artist Garages at 520 Hamilton – Bay 1\, 520 Hamilton St.\, Allentown\, PA\, 18101\, United States
CATEGORIES:Classes,Drawing & Painting
ATTACH;FMTTYPE=image/jpeg:https://www.artsquest.org/app/uploads/2025/11/VA_figure_1200x392.jpg
END:VEVENT
BEGIN:VEVENT
DTSTART;TZID=America/New_York:20260311T173000
DTEND;TZID=America/New_York:20260311T193000
DTSTAMP:20260424T092316
CREATED:20251121T205134Z
LAST-MODIFIED:20260115T152219Z
UID:10002443-1773250200-1773257400@www.artsquest.org
SUMMARY:Watercolor 101 (Session B - 3 Weeks)
DESCRIPTION:
URL:https://www.artsquest.org/event/watercolor-101-session-b/
LOCATION:Bethlehem Area Public Library (Main Branch) Cohen Room\, 11 W Church St\, Bethlehem\, 18018\, United States
CATEGORIES:Classes,Drawing & Painting,One-Day Workshop
ATTACH;FMTTYPE=image/jpeg:https://www.artsquest.org/app/uploads/2025/11/VA_WC101_1200x392.jpg
END:VEVENT
BEGIN:VEVENT
DTSTART;TZID=America/New_York:20260312T180000
DTEND;TZID=America/New_York:20260312T200000
DTSTAMP:20260424T092316
CREATED:20251121T210220Z
LAST-MODIFIED:20260115T152241Z
UID:10002444-1773338400-1773345600@www.artsquest.org
SUMMARY:Wine'd Down Workshop: Pennsylvania Wildflower Watercolor
DESCRIPTION:
URL:https://www.artsquest.org/event/wined-down-workshop-pennsylvania-wildflower-watercolor/
LOCATION:Fowler Blast Furnace Room\, 101 Founders Way\, Bethlehem\, PA\, 18015\, United States
CATEGORIES:Classes,Drawing & Painting,One-Day Workshop
ATTACH;FMTTYPE=image/jpeg:https://www.artsquest.org/app/uploads/2025/11/VA_PAflowers_1200x392.jpg
END:VEVENT
BEGIN:VEVENT
DTSTART;TZID=America/New_York:20260314T123000
DTEND;TZID=America/New_York:20260314T153000
DTSTAMP:20260424T092316
CREATED:20251124T134546Z
LAST-MODIFIED:20260115T152432Z
UID:10002446-1773491400-1773502200@www.artsquest.org
SUMMARY:YogART Transformative Chakra Mandala Workshop
DESCRIPTION:
URL:https://www.artsquest.org/event/yogart-transformative-chakra-mandala-workshop-2/
LOCATION:Bethlehem Area Public Library (Main Branch) Laros Room\, 11 W Church St\, Bethlehem\, PA\, 18018\, United States
CATEGORIES:Classes,One-Day Workshop,Other Arts
ATTACH;FMTTYPE=image/jpeg:https://www.artsquest.org/app/uploads/2025/11/VA_YogArt_1200x392.jpg
END:VEVENT
END:VCALENDAR