BEGIN:VCALENDAR
VERSION:2.0
PRODID:-//ArtsQuest - ECPv6.15.5//NONSGML v1.0//EN
CALSCALE:GREGORIAN
METHOD:PUBLISH
X-WR-CALNAME:ArtsQuest
X-ORIGINAL-URL:https://www.artsquest.org
X-WR-CALDESC:Events for ArtsQuest
REFRESH-INTERVAL;VALUE=DURATION:PT1H
X-Robots-Tag:noindex
X-PUBLISHED-TTL:PT1H
BEGIN:VTIMEZONE
TZID:America/New_York
BEGIN:DAYLIGHT
TZOFFSETFROM:-0500
TZOFFSETTO:-0400
TZNAME:EDT
DTSTART:20260308T070000
END:DAYLIGHT
BEGIN:STANDARD
TZOFFSETFROM:-0400
TZOFFSETTO:-0500
TZNAME:EST
DTSTART:20261101T060000
END:STANDARD
END:VTIMEZONE
BEGIN:VEVENT
DTSTART;TZID=America/New_York:20260217T160000
DTEND;TZID=America/New_York:20260217T173000
DTSTAMP:20260424T131432
CREATED:20251215T205433Z
LAST-MODIFIED:20251215T205620Z
UID:10002580-1771344000-1771349400@www.artsquest.org
SUMMARY:Winter 2026 Teen Takeover
DESCRIPTION:
URL:https://www.artsquest.org/event/winter-2026-teen-takeover/2026-02-17/
LOCATION:Lehigh Valley Public Media/PBS39\, 839 Sesame Street\, Bethlehem\, PA\, 18015\, United States
CATEGORIES:Classes,Free,Youth
ATTACH;FMTTYPE=image/jpeg:https://www.artsquest.org/app/uploads/2025/12/podcast-teen-takeover-1200x392-1.jpg
END:VEVENT
BEGIN:VEVENT
DTSTART;TZID=America/New_York:20260218T123000
DTEND;TZID=America/New_York:20260218T133000
DTSTAMP:20260424T131432
CREATED:20260122T154354Z
LAST-MODIFIED:20260210T182057Z
UID:10003004-1771417800-1771421400@www.artsquest.org
SUMMARY:Create & Connect for 50+
DESCRIPTION:
URL:https://www.artsquest.org/event/create-connect-for-50-2-18-2026/
LOCATION:Bethlehem Visitor Center at SteelStacks pres. by Lehigh Valley Health Network\, 711 E. First St.\, Bethlehem\, PA\, 18015\, United States
CATEGORIES:Classes,Free,One-Day Workshop,Special Event,Visual Arts
ATTACH;FMTTYPE=image/jpeg:https://www.artsquest.org/app/uploads/2026/01/create-connect-featured-1920x1080-1.jpg
END:VEVENT
BEGIN:VEVENT
DTSTART;TZID=America/New_York:20260221T130000
DTEND;TZID=America/New_York:20260221T150000
DTSTAMP:20260424T131432
CREATED:20251117T205038Z
LAST-MODIFIED:20260202T213322Z
UID:10002406-1771678800-1771686000@www.artsquest.org
SUMMARY:Sacred Symbol Paint & Breathe
DESCRIPTION:
URL:https://www.artsquest.org/event/wined-down-workshop-sacred-symbol-paint-breathe-2/
LOCATION:Bethlehem Visitor Center at SteelStacks pres. by Lehigh Valley Health Network\, 711 E. First St.\, Bethlehem\, PA\, 18015\, United States
CATEGORIES:Classes,Drawing & Painting,One-Day Workshop
ATTACH;FMTTYPE=image/jpeg:https://www.artsquest.org/app/uploads/2025/11/VA_SacredSymbol_1200x392.jpg
END:VEVENT
BEGIN:VEVENT
DTSTART;TZID=America/New_York:20260221T130000
DTEND;TZID=America/New_York:20260221T160000
DTSTAMP:20260424T131432
CREATED:20251117T212608Z
LAST-MODIFIED:20260212T193145Z
UID:10002407-1771678800-1771689600@www.artsquest.org
SUMMARY:Needle Felting: Penguin
DESCRIPTION:
URL:https://www.artsquest.org/event/needle-felting-penguin/
LOCATION:Bethlehem Area Public Library (Main Branch) Laros Room\, 11 W Church St\, Bethlehem\, PA\, 18018\, United States
CATEGORIES:Classes,Fiber Arts,One-Day Workshop
ATTACH;FMTTYPE=image/jpeg:https://www.artsquest.org/app/uploads/2025/11/VA_FeltPenguin_1200x392.jpg
END:VEVENT
END:VCALENDAR