BEGIN:VCALENDAR
VERSION:2.0
PRODID:-//ArtsQuest - ECPv6.15.5//NONSGML v1.0//EN
CALSCALE:GREGORIAN
METHOD:PUBLISH
X-WR-CALNAME:ArtsQuest
X-ORIGINAL-URL:https://www.artsquest.org
X-WR-CALDESC:Events for ArtsQuest
REFRESH-INTERVAL;VALUE=DURATION:PT1H
X-Robots-Tag:noindex
X-PUBLISHED-TTL:PT1H
BEGIN:VTIMEZONE
TZID:America/New_York
BEGIN:DAYLIGHT
TZOFFSETFROM:-0500
TZOFFSETTO:-0400
TZNAME:EDT
DTSTART:20260308T070000
END:DAYLIGHT
BEGIN:STANDARD
TZOFFSETFROM:-0400
TZOFFSETTO:-0500
TZNAME:EST
DTSTART:20261101T060000
END:STANDARD
END:VTIMEZONE
BEGIN:VEVENT
DTSTART;TZID=America/New_York:20260201T113000
DTEND;TZID=America/New_York:20260201T130000
DTSTAMP:20260424T155713
CREATED:20260112T175856Z
LAST-MODIFIED:20260115T151342Z
UID:10002866-1769945400-1769950800@www.artsquest.org
SUMMARY:Cartooning for All Ages (Session A - 3 Weeks)
DESCRIPTION:
URL:https://www.artsquest.org/event/cartooning-for-all-ages-session-a-3-weeks/
LOCATION:Bethlehem Visitor Center at SteelStacks pres. by Lehigh Valley Health Network\, 711 E. First St.\, Bethlehem\, PA\, 18015\, United States
CATEGORIES:Classes,Drawing & Painting
ATTACH;FMTTYPE=image/jpeg:https://www.artsquest.org/app/uploads/2025/11/VA_Anime_1200x392.jpg
END:VEVENT
BEGIN:VEVENT
DTSTART;TZID=America/New_York:20260201T130000
DTEND;TZID=America/New_York:20260201T160000
DTSTAMP:20260424T155713
CREATED:20251121T190117Z
LAST-MODIFIED:20260123T182008Z
UID:10002432-1769950800-1769961600@www.artsquest.org
SUMMARY:Intro to Standup with Kirk Griffiths
DESCRIPTION:
URL:https://www.artsquest.org/event/intro-to-standup-with-kirk-griffiths/
LOCATION:Bethlehem Visitor Center at SteelStacks pres. by Lehigh Valley Health Network\, 711 E. First St.\, Bethlehem\, PA\, 18015\, United States
CATEGORIES:Classes,Comedy,Comedy Class
ATTACH;FMTTYPE=image/jpeg:https://www.artsquest.org/app/uploads/2025/11/COMEDY_kirkgriffiths_1200x392.jpg
END:VEVENT
BEGIN:VEVENT
DTSTART;TZID=America/New_York:20260202T180000
DTEND;TZID=America/New_York:20260202T210000
DTSTAMP:20260424T155713
CREATED:20251117T161100Z
LAST-MODIFIED:20260126T144413Z
UID:10002391-1770055200-1770066000@www.artsquest.org
SUMMARY:Ceramic Open Studio (8 Weeks)
DESCRIPTION:
URL:https://www.artsquest.org/event/ceramic-open-studio/
LOCATION:ArtsQuest Ceramics Studio\, 1801 Union Blvd Suite G\, Allentown\, PA\, 18109\, United States
CATEGORIES:Ceramics,Classes
ATTACH;FMTTYPE=image/jpeg:https://www.artsquest.org/app/uploads/2025/11/VA_CeramicOpen_1200x392.jpg
END:VEVENT
BEGIN:VEVENT
DTSTART;TZID=America/New_York:20260203T160000
DTEND;TZID=America/New_York:20260203T173000
DTSTAMP:20260424T155713
CREATED:20251215T205433Z
LAST-MODIFIED:20251215T205620Z
UID:10002578-1770134400-1770139800@www.artsquest.org
SUMMARY:Winter 2026 Teen Takeover
DESCRIPTION:
URL:https://www.artsquest.org/event/winter-2026-teen-takeover/2026-02-03/
LOCATION:Lehigh Valley Public Media/PBS39\, 839 Sesame Street\, Bethlehem\, PA\, 18015\, United States
CATEGORIES:Classes,Free,Youth
ATTACH;FMTTYPE=image/jpeg:https://www.artsquest.org/app/uploads/2025/12/podcast-teen-takeover-1200x392-1.jpg
END:VEVENT
BEGIN:VEVENT
DTSTART;TZID=America/New_York:20260204T123000
DTEND;TZID=America/New_York:20260204T133000
DTSTAMP:20260424T155713
CREATED:20260122T154302Z
LAST-MODIFIED:20260130T141923Z
UID:10002994-1770208200-1770211800@www.artsquest.org
SUMMARY:Create & Connect for 50+
DESCRIPTION:
URL:https://www.artsquest.org/event/create-connect-for-50-2-4-2026/
LOCATION:Bethlehem Visitor Center at SteelStacks pres. by Lehigh Valley Health Network\, 711 E. First St.\, Bethlehem\, PA\, 18015\, United States
CATEGORIES:Classes,Free,One-Day Workshop,Special Event,Visual Arts
ATTACH;FMTTYPE=image/jpeg:https://www.artsquest.org/app/uploads/2026/01/create-connect-featured-1920x1080-1.jpg
END:VEVENT
BEGIN:VEVENT
DTSTART;TZID=America/New_York:20260205T180000
DTEND;TZID=America/New_York:20260205T210000
DTSTAMP:20260424T155713
CREATED:20251117T170534Z
LAST-MODIFIED:20260128T144313Z
UID:10002396-1770314400-1770325200@www.artsquest.org
SUMMARY:Exploring Painting (3 Weeks)
DESCRIPTION:
URL:https://www.artsquest.org/event/exploring-painting/
LOCATION:Spring Garden Elementary School\, 901 North Blvd.\, Bethlehem\, PA\, 18017\, United States
CATEGORIES:Classes,Drawing & Painting
ATTACH;FMTTYPE=image/jpeg:https://www.artsquest.org/app/uploads/2025/11/VA_ExploringPainting_1200x392.jpg
END:VEVENT
BEGIN:VEVENT
DTSTART;TZID=America/New_York:20260207T103000
DTEND;TZID=America/New_York:20260207T130000
DTSTAMP:20260424T155713
CREATED:20251117T173738Z
LAST-MODIFIED:20260126T155643Z
UID:10002398-1770460200-1770469200@www.artsquest.org
SUMMARY:Felt Tea Bag Bookmarks Workshop
DESCRIPTION:
URL:https://www.artsquest.org/event/felt-tea-bag-bookmarks-workshop/
LOCATION:Bethlehem Area Public Library (Main Branch) Cohen Room\, 11 W Church St\, Bethlehem\, 18018\, United States
CATEGORIES:Classes,Fiber Arts,One-Day Workshop
ATTACH;FMTTYPE=image/jpeg:https://www.artsquest.org/app/uploads/2025/11/VA_FeltTeaBag_1200x392.jpg
END:VEVENT
END:VCALENDAR