BEGIN:VCALENDAR
VERSION:2.0
PRODID:-//ArtsQuest - ECPv6.15.5//NONSGML v1.0//EN
CALSCALE:GREGORIAN
METHOD:PUBLISH
X-WR-CALNAME:ArtsQuest
X-ORIGINAL-URL:https://www.artsquest.org
X-WR-CALDESC:Events for ArtsQuest
REFRESH-INTERVAL;VALUE=DURATION:PT1H
X-Robots-Tag:noindex
X-PUBLISHED-TTL:PT1H
BEGIN:VTIMEZONE
TZID:America/New_York
BEGIN:DAYLIGHT
TZOFFSETFROM:-0500
TZOFFSETTO:-0400
TZNAME:EDT
DTSTART:20260308T070000
END:DAYLIGHT
BEGIN:STANDARD
TZOFFSETFROM:-0400
TZOFFSETTO:-0500
TZNAME:EST
DTSTART:20261101T060000
END:STANDARD
END:VTIMEZONE
BEGIN:VEVENT
DTSTART;TZID=America/New_York:20260201T113000
DTEND;TZID=America/New_York:20260201T140000
DTSTAMP:20260423T011219
CREATED:20260128T155219Z
LAST-MODIFIED:20260128T155219Z
UID:10003046-1769945400-1769954400@www.artsquest.org
SUMMARY:Marty Supreme
DESCRIPTION:
URL:https://www.artsquest.org/event/marty-supreme-7/
LOCATION:Frank Banko Alehouse Cinemas\, 101 Founders Way\, Bethlehem\, PA\, 18015\, United States
CATEGORIES:Film
ATTACH;FMTTYPE=image/jpeg:https://www.artsquest.org/app/uploads/2026/01/FILM_MartySupreme_1920x1080.jpg
END:VEVENT
BEGIN:VEVENT
DTSTART;TZID=America/New_York:20260201T144500
DTEND;TZID=America/New_York:20260201T171500
DTSTAMP:20260423T011219
CREATED:20260128T155258Z
LAST-MODIFIED:20260128T155258Z
UID:10003047-1769957100-1769966100@www.artsquest.org
SUMMARY:Marty Supreme
DESCRIPTION:
URL:https://www.artsquest.org/event/marty-supreme-8/
LOCATION:Frank Banko Alehouse Cinemas\, 101 Founders Way\, Bethlehem\, PA\, 18015\, United States
CATEGORIES:Film
ATTACH;FMTTYPE=image/jpeg:https://www.artsquest.org/app/uploads/2026/01/FILM_MartySupreme_1920x1080.jpg
END:VEVENT
BEGIN:VEVENT
DTSTART;TZID=America/New_York:20260201T151500
DTEND;TZID=America/New_York:20260201T173500
DTSTAMP:20260423T011219
CREATED:20260128T152204Z
LAST-MODIFIED:20260128T152846Z
UID:10003035-1769958900-1769967300@www.artsquest.org
SUMMARY:Sinners
DESCRIPTION:
URL:https://www.artsquest.org/event/sinners-4/
LOCATION:Frank Banko Alehouse Cinemas\, 101 Founders Way\, Bethlehem\, PA\, 18015\, United States
CATEGORIES:Film
ATTACH;FMTTYPE=image/jpeg:https://www.artsquest.org/app/uploads/2026/01/FILM_Sinners_1920x1080.jpg
END:VEVENT
BEGIN:VEVENT
DTSTART;TZID=America/New_York:20260201T180000
DTEND;TZID=America/New_York:20260201T203000
DTSTAMP:20260423T011219
CREATED:20260128T155344Z
LAST-MODIFIED:20260128T155344Z
UID:10003048-1769968800-1769977800@www.artsquest.org
SUMMARY:Marty Supreme
DESCRIPTION:
URL:https://www.artsquest.org/event/marty-supreme-9/
LOCATION:Frank Banko Alehouse Cinemas\, 101 Founders Way\, Bethlehem\, PA\, 18015\, United States
CATEGORIES:Film
ATTACH;FMTTYPE=image/jpeg:https://www.artsquest.org/app/uploads/2026/01/FILM_MartySupreme_1920x1080.jpg
END:VEVENT
BEGIN:VEVENT
DTSTART;TZID=America/New_York:20260201T181500
DTEND;TZID=America/New_York:20260201T202000
DTSTAMP:20260423T011219
CREATED:20251126T192937Z
LAST-MODIFIED:20260129T213808Z
UID:10002475-1769969700-1769977200@www.artsquest.org
SUMMARY:Amelie (25th Anniversary)
DESCRIPTION:
URL:https://www.artsquest.org/event/amelie-25th-anniversary/
LOCATION:Frank Banko Alehouse Cinemas\, 101 Founders Way\, Bethlehem\, PA\, 18015\, United States
CATEGORIES:Film
ATTACH;FMTTYPE=image/jpeg:https://www.artsquest.org/app/uploads/2025/11/FILM_amelie2_1200x392.jpg
END:VEVENT
BEGIN:VEVENT
DTSTART;TZID=America/New_York:20260202T160000
DTEND;TZID=America/New_York:20260202T183000
DTSTAMP:20260423T011219
CREATED:20260128T155519Z
LAST-MODIFIED:20260128T155519Z
UID:10003049-1770048000-1770057000@www.artsquest.org
SUMMARY:Marty Supreme
DESCRIPTION:
URL:https://www.artsquest.org/event/marty-supreme-10/
LOCATION:Frank Banko Alehouse Cinemas\, 101 Founders Way\, Bethlehem\, PA\, 18015\, United States
CATEGORIES:Film
ATTACH;FMTTYPE=image/jpeg:https://www.artsquest.org/app/uploads/2026/01/FILM_MartySupreme_1920x1080.jpg
END:VEVENT
BEGIN:VEVENT
DTSTART;TZID=America/New_York:20260202T191500
DTEND;TZID=America/New_York:20260202T214500
DTSTAMP:20260423T011219
CREATED:20260128T155613Z
LAST-MODIFIED:20260128T155614Z
UID:10003050-1770059700-1770068700@www.artsquest.org
SUMMARY:Marty Supreme
DESCRIPTION:
URL:https://www.artsquest.org/event/marty-supreme-11/
LOCATION:Frank Banko Alehouse Cinemas\, 101 Founders Way\, Bethlehem\, PA\, 18015\, United States
CATEGORIES:Film
ATTACH;FMTTYPE=image/jpeg:https://www.artsquest.org/app/uploads/2026/01/FILM_MartySupreme_1920x1080.jpg
END:VEVENT
BEGIN:VEVENT
DTSTART;TZID=America/New_York:20260203T154500
DTEND;TZID=America/New_York:20260203T181500
DTSTAMP:20260423T011219
CREATED:20260128T155712Z
LAST-MODIFIED:20260128T155712Z
UID:10003051-1770133500-1770142500@www.artsquest.org
SUMMARY:Marty Supreme
DESCRIPTION:
URL:https://www.artsquest.org/event/marty-supreme-12/
LOCATION:Frank Banko Alehouse Cinemas\, 101 Founders Way\, Bethlehem\, PA\, 18015\, United States
CATEGORIES:Film
ATTACH;FMTTYPE=image/jpeg:https://www.artsquest.org/app/uploads/2026/01/FILM_MartySupreme_1920x1080.jpg
END:VEVENT
BEGIN:VEVENT
DTSTART;TZID=America/New_York:20260203T161500
DTEND;TZID=America/New_York:20260203T183500
DTSTAMP:20260423T011219
CREATED:20260128T152248Z
LAST-MODIFIED:20260128T152855Z
UID:10003036-1770135300-1770143700@www.artsquest.org
SUMMARY:Sinners
DESCRIPTION:
URL:https://www.artsquest.org/event/sinners-5/
LOCATION:Frank Banko Alehouse Cinemas\, 101 Founders Way\, Bethlehem\, PA\, 18015\, United States
CATEGORIES:Film
ATTACH;FMTTYPE=image/jpeg:https://www.artsquest.org/app/uploads/2026/01/FILM_Sinners_1920x1080.jpg
END:VEVENT
BEGIN:VEVENT
DTSTART;TZID=America/New_York:20260203T190000
DTEND;TZID=America/New_York:20260203T213000
DTSTAMP:20260423T011219
CREATED:20260128T155750Z
LAST-MODIFIED:20260128T155750Z
UID:10003052-1770145200-1770154200@www.artsquest.org
SUMMARY:Marty Supreme
DESCRIPTION:
URL:https://www.artsquest.org/event/marty-supreme-13/
LOCATION:Frank Banko Alehouse Cinemas\, 101 Founders Way\, Bethlehem\, PA\, 18015\, United States
CATEGORIES:Film
ATTACH;FMTTYPE=image/jpeg:https://www.artsquest.org/app/uploads/2026/01/FILM_MartySupreme_1920x1080.jpg
END:VEVENT
BEGIN:VEVENT
DTSTART;TZID=America/New_York:20260204T130000
DTEND;TZID=America/New_York:20260204T153000
DTSTAMP:20260423T011219
CREATED:20260128T155906Z
LAST-MODIFIED:20260128T155906Z
UID:10003053-1770210000-1770219000@www.artsquest.org
SUMMARY:Marty Supreme
DESCRIPTION:
URL:https://www.artsquest.org/event/marty-supreme-14/
LOCATION:Frank Banko Alehouse Cinemas\, 101 Founders Way\, Bethlehem\, PA\, 18015\, United States
CATEGORIES:Film
ATTACH;FMTTYPE=image/jpeg:https://www.artsquest.org/app/uploads/2026/01/FILM_MartySupreme_1920x1080.jpg
END:VEVENT
BEGIN:VEVENT
DTSTART;TZID=America/New_York:20260204T131500
DTEND;TZID=America/New_York:20260204T153500
DTSTAMP:20260423T011219
CREATED:20260128T152445Z
LAST-MODIFIED:20260128T152905Z
UID:10003037-1770210900-1770219300@www.artsquest.org
SUMMARY:Sinners
DESCRIPTION:
URL:https://www.artsquest.org/event/sinners-6/
LOCATION:Frank Banko Alehouse Cinemas\, 101 Founders Way\, Bethlehem\, PA\, 18015\, United States
CATEGORIES:Film
ATTACH;FMTTYPE=image/jpeg:https://www.artsquest.org/app/uploads/2026/01/FILM_Sinners_1920x1080.jpg
END:VEVENT
BEGIN:VEVENT
DTSTART;TZID=America/New_York:20260204T160000
DTEND;TZID=America/New_York:20260204T183000
DTSTAMP:20260423T011219
CREATED:20260128T155954Z
LAST-MODIFIED:20260128T155954Z
UID:10003054-1770220800-1770229800@www.artsquest.org
SUMMARY:Marty Supreme
DESCRIPTION:
URL:https://www.artsquest.org/event/marty-supreme-15/
LOCATION:Frank Banko Alehouse Cinemas\, 101 Founders Way\, Bethlehem\, PA\, 18015\, United States
CATEGORIES:Film
ATTACH;FMTTYPE=image/jpeg:https://www.artsquest.org/app/uploads/2026/01/FILM_MartySupreme_1920x1080.jpg
END:VEVENT
BEGIN:VEVENT
DTSTART;TZID=America/New_York:20260204T190000
DTEND;TZID=America/New_York:20260204T213000
DTSTAMP:20260423T011219
CREATED:20260128T160051Z
LAST-MODIFIED:20260128T160051Z
UID:10003055-1770231600-1770240600@www.artsquest.org
SUMMARY:Marty Supreme
DESCRIPTION:
URL:https://www.artsquest.org/event/marty-supreme-16/
LOCATION:Frank Banko Alehouse Cinemas\, 101 Founders Way\, Bethlehem\, PA\, 18015\, United States
CATEGORIES:Film
ATTACH;FMTTYPE=image/jpeg:https://www.artsquest.org/app/uploads/2026/01/FILM_MartySupreme_1920x1080.jpg
END:VEVENT
BEGIN:VEVENT
DTSTART;TZID=America/New_York:20260204T193000
DTEND;TZID=America/New_York:20260204T215000
DTSTAMP:20260423T011219
CREATED:20260128T152521Z
LAST-MODIFIED:20260128T152918Z
UID:10003038-1770233400-1770241800@www.artsquest.org
SUMMARY:Sinners
DESCRIPTION:
URL:https://www.artsquest.org/event/sinners-7/
LOCATION:Frank Banko Alehouse Cinemas\, 101 Founders Way\, Bethlehem\, PA\, 18015\, United States
CATEGORIES:Film
ATTACH;FMTTYPE=image/jpeg:https://www.artsquest.org/app/uploads/2026/01/FILM_Sinners_1920x1080.jpg
END:VEVENT
BEGIN:VEVENT
DTSTART;TZID=America/New_York:20260205T131500
DTEND;TZID=America/New_York:20260205T152000
DTSTAMP:20260423T011219
CREATED:20260126T153437Z
LAST-MODIFIED:20260127T144330Z
UID:10003012-1770297300-1770304800@www.artsquest.org
SUMMARY:Amelie (25th Anniversary)
DESCRIPTION:
URL:https://www.artsquest.org/event/amelie-25th-anniversary-2/
LOCATION:Frank Banko Alehouse Cinemas\, 101 Founders Way\, Bethlehem\, PA\, 18015\, United States
CATEGORIES:Film
ATTACH;FMTTYPE=image/jpeg:https://www.artsquest.org/app/uploads/2025/11/FILM_amelie2_1200x392.jpg
END:VEVENT
BEGIN:VEVENT
DTSTART;TZID=America/New_York:20260205T160000
DTEND;TZID=America/New_York:20260205T183000
DTSTAMP:20260423T011219
CREATED:20260128T160139Z
LAST-MODIFIED:20260128T160139Z
UID:10003056-1770307200-1770316200@www.artsquest.org
SUMMARY:Marty Supreme
DESCRIPTION:
URL:https://www.artsquest.org/event/marty-supreme-17/
LOCATION:Frank Banko Alehouse Cinemas\, 101 Founders Way\, Bethlehem\, PA\, 18015\, United States
CATEGORIES:Film
ATTACH;FMTTYPE=image/jpeg:https://www.artsquest.org/app/uploads/2026/01/FILM_MartySupreme_1920x1080.jpg
END:VEVENT
BEGIN:VEVENT
DTSTART;TZID=America/New_York:20260205T161500
DTEND;TZID=America/New_York:20260205T183500
DTSTAMP:20260423T011219
CREATED:20260128T152557Z
LAST-MODIFIED:20260128T152709Z
UID:10003039-1770308100-1770316500@www.artsquest.org
SUMMARY:Sinners
DESCRIPTION:
URL:https://www.artsquest.org/event/sinners-8/
LOCATION:Frank Banko Alehouse Cinemas\, 101 Founders Way\, Bethlehem\, PA\, 18015\, United States
CATEGORIES:Film
ATTACH;FMTTYPE=image/jpeg:https://www.artsquest.org/app/uploads/2026/01/FILM_Sinners_1920x1080.jpg
END:VEVENT
BEGIN:VEVENT
DTSTART;TZID=America/New_York:20260205T191500
DTEND;TZID=America/New_York:20260205T214500
DTSTAMP:20260423T011219
CREATED:20260128T160208Z
LAST-MODIFIED:20260128T160254Z
UID:10003057-1770318900-1770327900@www.artsquest.org
SUMMARY:Marty Supreme
DESCRIPTION:
URL:https://www.artsquest.org/event/marty-supreme-18/
LOCATION:Frank Banko Alehouse Cinemas\, 101 Founders Way\, Bethlehem\, PA\, 18015\, United States
CATEGORIES:Film
ATTACH;FMTTYPE=image/jpeg:https://www.artsquest.org/app/uploads/2026/01/FILM_MartySupreme_1920x1080.jpg
END:VEVENT
BEGIN:VEVENT
DTSTART;TZID=America/New_York:20260205T193000
DTEND;TZID=America/New_York:20260205T205500
DTSTAMP:20260423T011219
CREATED:20260112T150014Z
LAST-MODIFIED:20260129T200726Z
UID:10002836-1770319800-1770324900@www.artsquest.org
SUMMARY:Fruitvale Station
DESCRIPTION:
URL:https://www.artsquest.org/event/fruitvale-station/
LOCATION:Frank Banko Alehouse Cinemas\, 101 Founders Way\, Bethlehem\, PA\, 18015\, United States
CATEGORIES:Film
ATTACH;FMTTYPE=image/jpeg:https://www.artsquest.org/app/uploads/2026/01/FILM_Fruitvale_1200x392.jpg
END:VEVENT
BEGIN:VEVENT
DTSTART;TZID=America/New_York:20260206T130000
DTEND;TZID=America/New_York:20260206T154000
DTSTAMP:20260423T011219
CREATED:20260203T153654Z
LAST-MODIFIED:20260204T194140Z
UID:10003083-1770382800-1770392400@www.artsquest.org
SUMMARY:The Secret Agent
DESCRIPTION:
URL:https://www.artsquest.org/event/the-secret-agent/
LOCATION:Frank Banko Alehouse Cinemas\, 101 Founders Way\, Bethlehem\, PA\, 18015\, United States
CATEGORIES:Film
ATTACH;FMTTYPE=image/jpeg:https://www.artsquest.org/app/uploads/2026/02/FILM_TheSecretAgent_1920x1080.jpg
END:VEVENT
BEGIN:VEVENT
DTSTART;TZID=America/New_York:20260206T133000
DTEND;TZID=America/New_York:20260206T160000
DTSTAMP:20260423T011219
CREATED:20260203T162642Z
LAST-MODIFIED:20260203T162642Z
UID:10003090-1770384600-1770393600@www.artsquest.org
SUMMARY:Marty Supreme
DESCRIPTION:
URL:https://www.artsquest.org/event/marty-supreme-19/
LOCATION:Frank Banko Alehouse Cinemas\, 101 Founders Way\, Bethlehem\, PA\, 18015\, United States
CATEGORIES:Film
ATTACH;FMTTYPE=image/jpeg:https://www.artsquest.org/app/uploads/2026/01/FILM_MartySupreme_1920x1080.jpg
END:VEVENT
BEGIN:VEVENT
DTSTART;TZID=America/New_York:20260206T164500
DTEND;TZID=America/New_York:20260206T191500
DTSTAMP:20260423T011219
CREATED:20260203T162753Z
LAST-MODIFIED:20260203T162753Z
UID:10003091-1770396300-1770405300@www.artsquest.org
SUMMARY:Marty Supreme
DESCRIPTION:
URL:https://www.artsquest.org/event/marty-supreme-20/
LOCATION:Frank Banko Alehouse Cinemas\, 101 Founders Way\, Bethlehem\, PA\, 18015\, United States
CATEGORIES:Film
ATTACH;FMTTYPE=image/jpeg:https://www.artsquest.org/app/uploads/2026/01/FILM_MartySupreme_1920x1080.jpg
END:VEVENT
BEGIN:VEVENT
DTSTART;TZID=America/New_York:20260206T193000
DTEND;TZID=America/New_York:20260206T220000
DTSTAMP:20260423T011219
CREATED:20260109T150012Z
LAST-MODIFIED:20260204T194540Z
UID:10002839-1770406200-1770415200@www.artsquest.org
SUMMARY:Stray Kids: The dominATE Experience
DESCRIPTION:
URL:https://www.artsquest.org/event/stray-kids-the-dominate-experience/
LOCATION:Frank Banko Alehouse Cinemas\, 101 Founders Way\, Bethlehem\, PA\, 18015\, United States
CATEGORIES:Film
ATTACH;FMTTYPE=image/jpeg:https://www.artsquest.org/app/uploads/2026/01/FILM_StrayKids_1200x392.jpg
END:VEVENT
BEGIN:VEVENT
DTSTART;TZID=America/New_York:20260206T200000
DTEND;TZID=America/New_York:20260206T223000
DTSTAMP:20260423T011219
CREATED:20260203T162846Z
LAST-MODIFIED:20260203T162846Z
UID:10003092-1770408000-1770417000@www.artsquest.org
SUMMARY:Marty Supreme
DESCRIPTION:
URL:https://www.artsquest.org/event/marty-supreme-21/
LOCATION:Frank Banko Alehouse Cinemas\, 101 Founders Way\, Bethlehem\, PA\, 18015\, United States
CATEGORIES:Film
ATTACH;FMTTYPE=image/jpeg:https://www.artsquest.org/app/uploads/2026/01/FILM_MartySupreme_1920x1080.jpg
END:VEVENT
BEGIN:VEVENT
DTSTART;TZID=America/New_York:20260207T130000
DTEND;TZID=America/New_York:20260207T153000
DTSTAMP:20260423T011219
CREATED:20260109T150018Z
LAST-MODIFIED:20260204T194558Z
UID:10002840-1770469200-1770478200@www.artsquest.org
SUMMARY:Stray Kids: The dominATE Experience
DESCRIPTION:
URL:https://www.artsquest.org/event/stray-kids-the-dominate-experience-2/
LOCATION:Frank Banko Alehouse Cinemas\, 101 Founders Way\, Bethlehem\, PA\, 18015\, United States
CATEGORIES:Film
ATTACH;FMTTYPE=image/jpeg:https://www.artsquest.org/app/uploads/2026/01/FILM_StrayKids_1200x392.jpg
END:VEVENT
BEGIN:VEVENT
DTSTART;TZID=America/New_York:20260207T133000
DTEND;TZID=America/New_York:20260207T160000
DTSTAMP:20260423T011219
CREATED:20260203T162926Z
LAST-MODIFIED:20260203T162926Z
UID:10003093-1770471000-1770480000@www.artsquest.org
SUMMARY:Marty Supreme
DESCRIPTION:
URL:https://www.artsquest.org/event/marty-supreme-22/
LOCATION:Frank Banko Alehouse Cinemas\, 101 Founders Way\, Bethlehem\, PA\, 18015\, United States
CATEGORIES:Film
ATTACH;FMTTYPE=image/jpeg:https://www.artsquest.org/app/uploads/2026/01/FILM_MartySupreme_1920x1080.jpg
END:VEVENT
BEGIN:VEVENT
DTSTART;TZID=America/New_York:20260207T164500
DTEND;TZID=America/New_York:20260207T191500
DTSTAMP:20260423T011219
CREATED:20260203T163007Z
LAST-MODIFIED:20260203T163007Z
UID:10003094-1770482700-1770491700@www.artsquest.org
SUMMARY:Marty Supreme
DESCRIPTION:
URL:https://www.artsquest.org/event/marty-supreme-23/
LOCATION:Frank Banko Alehouse Cinemas\, 101 Founders Way\, Bethlehem\, PA\, 18015\, United States
CATEGORIES:Film
ATTACH;FMTTYPE=image/jpeg:https://www.artsquest.org/app/uploads/2026/01/FILM_MartySupreme_1920x1080.jpg
END:VEVENT
BEGIN:VEVENT
DTSTART;TZID=America/New_York:20260207T183000
DTEND;TZID=America/New_York:20260207T221000
DTSTAMP:20260423T011219
CREATED:20260203T154424Z
LAST-MODIFIED:20260204T194201Z
UID:10003084-1770489000-1770502200@www.artsquest.org
SUMMARY:The Secret Agent
DESCRIPTION:
URL:https://www.artsquest.org/event/the-secret-agent-2/
LOCATION:Frank Banko Alehouse Cinemas\, 101 Founders Way\, Bethlehem\, PA\, 18015\, United States
CATEGORIES:Film
ATTACH;FMTTYPE=image/jpeg:https://www.artsquest.org/app/uploads/2026/02/FILM_TheSecretAgent_1920x1080.jpg
END:VEVENT
BEGIN:VEVENT
DTSTART;TZID=America/New_York:20260207T200000
DTEND;TZID=America/New_York:20260207T223000
DTSTAMP:20260423T011219
CREATED:20260203T163040Z
LAST-MODIFIED:20260203T163040Z
UID:10003095-1770494400-1770503400@www.artsquest.org
SUMMARY:Marty Supreme
DESCRIPTION:
URL:https://www.artsquest.org/event/marty-supreme-24/
LOCATION:Frank Banko Alehouse Cinemas\, 101 Founders Way\, Bethlehem\, PA\, 18015\, United States
CATEGORIES:Film
ATTACH;FMTTYPE=image/jpeg:https://www.artsquest.org/app/uploads/2026/01/FILM_MartySupreme_1920x1080.jpg
END:VEVENT
END:VCALENDAR