BEGIN:VCALENDAR
VERSION:2.0
PRODID:-//ArtsQuest - ECPv6.15.5//NONSGML v1.0//EN
CALSCALE:GREGORIAN
METHOD:PUBLISH
X-ORIGINAL-URL:https://www.artsquest.org
X-WR-CALDESC:Events for ArtsQuest
REFRESH-INTERVAL;VALUE=DURATION:PT1H
X-Robots-Tag:noindex
X-PUBLISHED-TTL:PT1H
BEGIN:VTIMEZONE
TZID:America/New_York
BEGIN:DAYLIGHT
TZOFFSETFROM:-0500
TZOFFSETTO:-0400
TZNAME:EDT
DTSTART:20260308T070000
END:DAYLIGHT
BEGIN:STANDARD
TZOFFSETFROM:-0400
TZOFFSETTO:-0500
TZNAME:EST
DTSTART:20261101T060000
END:STANDARD
END:VTIMEZONE
BEGIN:VEVENT
DTSTART;TZID=America/New_York:20260120T190000
DTEND;TZID=America/New_York:20260120T210000
DTSTAMP:20260424T182546
CREATED:20251121T193955Z
LAST-MODIFIED:20251121T193955Z
UID:10002437-1768935600-1768942800@www.artsquest.org
SUMMARY:Improv 101 with Laurie Wagner Storlie
DESCRIPTION:
URL:https://www.artsquest.org/event/improv-101-with-laurie-wagner-storlie/
LOCATION:Lincoln Elementary School\, 1260 Gresham Street\, Bethlehem\, Pennsylvania\, 18017\, United States
CATEGORIES:Classes,Comedy,Comedy Class
ATTACH;FMTTYPE=image/jpeg:https://www.artsquest.org/app/uploads/2025/11/COMEDY_laurie_1200x392.jpg
END:VEVENT
BEGIN:VEVENT
DTSTART;TZID=America/New_York:20260120T190000
DTEND;TZID=America/New_York:20260120T210000
DTSTAMP:20260424T182546
CREATED:20251121T195025Z
LAST-MODIFIED:20251121T195025Z
UID:10002439-1768935600-1768942800@www.artsquest.org
SUMMARY:Improv 201 with Matt Candio
DESCRIPTION:
URL:https://www.artsquest.org/event/improv-201-with-matt-candio/
LOCATION:Lincoln Elementary School\, 1260 Gresham Street\, Bethlehem\, Pennsylvania\, 18017\, United States
CATEGORIES:Classes,Comedy,Comedy Class
ATTACH;FMTTYPE=image/jpeg:https://www.artsquest.org/app/uploads/2025/10/COMEDY_MattCandio_1200x392.jpg
END:VEVENT
BEGIN:VEVENT
DTSTART;TZID=America/New_York:20260120T190000
DTEND;TZID=America/New_York:20260120T210000
DTSTAMP:20260424T182546
CREATED:20251121T195852Z
LAST-MODIFIED:20251204T171037Z
UID:10002441-1768935600-1768942800@www.artsquest.org
SUMMARY:Improv 301 with Justin Passino
DESCRIPTION:
URL:https://www.artsquest.org/event/improv-301-with-justin-passino/
LOCATION:Lincoln Elementary School\, 1260 Gresham Street\, Bethlehem\, Pennsylvania\, 18017\, United States
CATEGORIES:Classes,Comedy,Comedy Class
ATTACH;FMTTYPE=image/jpeg:https://www.artsquest.org/app/uploads/2025/11/COMEDY_passino_1200x392.jpg
END:VEVENT
BEGIN:VEVENT
DTSTART;TZID=America/New_York:20260124T100000
DTEND;TZID=America/New_York:20260124T120000
DTSTAMP:20260424T182546
CREATED:20251222T201537Z
LAST-MODIFIED:20260121T191520Z
UID:10002707-1769248800-1769256000@www.artsquest.org
SUMMARY:Simple & Sustainable Scene Work with Connor Ratliff
DESCRIPTION:
URL:https://www.artsquest.org/event/simple-sustainable-scene-work-with-connor-ratliff/
LOCATION:Bethlehem Visitor Center at SteelStacks pres. by Lehigh Valley Health Network\, 711 E. First St.\, Bethlehem\, PA\, 18015\, United States
CATEGORIES:Classes,Comedy,Comedy Class
ATTACH;FMTTYPE=image/jpeg:https://www.artsquest.org/app/uploads/2025/12/Connor-Ratliff-comedy-2026-feature-1920x1080-1.jpg
END:VEVENT
BEGIN:VEVENT
DTSTART;TZID=America/New_York:20260124T110000
DTEND;TZID=America/New_York:20260124T130000
DTSTAMP:20260424T182546
CREATED:20251222T201845Z
LAST-MODIFIED:20260122T195216Z
UID:10002709-1769252400-1769259600@www.artsquest.org
SUMMARY:MUSIC IMPROV WORKSHOP For Beginners with Shulie Cowen and Jonathan Dinerstien
DESCRIPTION:https://secure.artsquest.org/Online/seatSelect.asp?createBO::WSmap=1&BOparam::WSmap::loadBestAvailable::performance_ids=AA5F8C63-FC1E-4091-BA5B-DD11563FAE8F
URL:https://www.artsquest.org/event/music-improv-workshop-for-beginners-with-shulie-cowen-and-jonathan-dinerstien/
LOCATION:Musikfest Café\, 101 Founders Way\, Bethlehem\, PA\, 18015\, United States
CATEGORIES:Classes,Comedy,Comedy Class
ATTACH;FMTTYPE=image/jpeg:https://www.artsquest.org/app/uploads/2025/12/Shulie-Cowen-and-Jonathan-Dinerstien-comedy-2026-feature-1920x1080-1.jpg
END:VEVENT
BEGIN:VEVENT
DTSTART;TZID=America/New_York:20260124T123000
DTEND;TZID=America/New_York:20260124T143000
DTSTAMP:20260424T182546
CREATED:20251222T201712Z
LAST-MODIFIED:20260122T194927Z
UID:10002708-1769257800-1769265000@www.artsquest.org
SUMMARY:Every Scene a Painting with Nick Gillette
DESCRIPTION:https://secure.artsquest.org/Online/seatSelect.asp?createBO::WSmap=1&BOparam::WSmap::loadBestAvailable::performance_ids=4D79D21D-139F-4A96-AA86-F355FA06BEE1
URL:https://www.artsquest.org/event/every-scene-a-paintin-with-nick-gillette/
LOCATION:Bethlehem Visitor Center at SteelStacks pres. by Lehigh Valley Health Network\, 711 E. First St.\, Bethlehem\, PA\, 18015\, United States
CATEGORIES:Classes,Comedy,Comedy Class
ATTACH;FMTTYPE=image/jpeg:https://www.artsquest.org/app/uploads/2025/12/Nick-Gillette-comedy-2026-feature-1920x1080-1.jpg
END:VEVENT
BEGIN:VEVENT
DTSTART;TZID=America/New_York:20260124T133000
DTEND;TZID=America/New_York:20260124T153000
DTSTAMP:20260424T182546
CREATED:20251222T201922Z
LAST-MODIFIED:20260122T195139Z
UID:10002710-1769261400-1769268600@www.artsquest.org
SUMMARY:INTERMEDIATE MUSIC IMPROV Workshop with Shulie Cowen and Jonathan Dinerstien
DESCRIPTION:
URL:https://www.artsquest.org/event/intermediate-music-improv-workshop-with-shulie-cowen-and-jonathan-dinerstien/
LOCATION:Musikfest Café\, 101 Founders Way\, Bethlehem\, PA\, 18015\, United States
CATEGORIES:Classes,Comedy,Comedy Class
ATTACH;FMTTYPE=image/jpeg:https://www.artsquest.org/app/uploads/2025/12/Shulie-Cowen-and-Jonathan-Dinerstien-comedy-2026-feature-1920x1080-1.jpg
END:VEVENT
END:VCALENDAR