BEGIN:VCALENDAR
VERSION:2.0
PRODID:-//ArtsQuest - ECPv6.15.5//NONSGML v1.0//EN
CALSCALE:GREGORIAN
METHOD:PUBLISH
X-WR-CALNAME:ArtsQuest
X-ORIGINAL-URL:https://www.artsquest.org
X-WR-CALDESC:Events for ArtsQuest
REFRESH-INTERVAL;VALUE=DURATION:PT1H
X-Robots-Tag:noindex
X-PUBLISHED-TTL:PT1H
BEGIN:VTIMEZONE
TZID:America/New_York
BEGIN:DAYLIGHT
TZOFFSETFROM:-0500
TZOFFSETTO:-0400
TZNAME:EDT
DTSTART:20260308T070000
END:DAYLIGHT
BEGIN:STANDARD
TZOFFSETFROM:-0400
TZOFFSETTO:-0500
TZNAME:EST
DTSTART:20261101T060000
END:STANDARD
END:VTIMEZONE
BEGIN:VEVENT
DTSTART;TZID=America/New_York:20260104T080000
DTEND;TZID=America/New_York:20260104T093000
DTSTAMP:20260423T061758
CREATED:20260102T152216Z
LAST-MODIFIED:20260102T153930Z
UID:10002779-1767513600-1767519000@www.artsquest.org
SUMMARY:The Rise and Fall of Bethlehem Steel Tour
DESCRIPTION:
URL:https://www.artsquest.org/event/the-rise-and-fall-of-bethlehem-steel-tour-1-4-2026/
LOCATION:PA
CATEGORIES:Tours
ATTACH;FMTTYPE=image/jpeg:https://www.artsquest.org/app/uploads/2025/08/rise-fall-tour.jpg
END:VEVENT
BEGIN:VEVENT
DTSTART;TZID=America/New_York:20260109T130000
DTEND;TZID=America/New_York:20260109T143000
DTSTAMP:20260423T061758
CREATED:20260105T184837Z
LAST-MODIFIED:20260105T184837Z
UID:10002787-1767963600-1767969000@www.artsquest.org
SUMMARY:The Rise and Fall of Bethlehem Steel Tour
DESCRIPTION:
URL:https://www.artsquest.org/event/the-rise-and-fall-of-bethlehem-steel-tour-1-9-2026/
LOCATION:PA
CATEGORIES:Tours
ATTACH;FMTTYPE=image/jpeg:https://www.artsquest.org/app/uploads/2025/08/rise-fall-tour.jpg
END:VEVENT
BEGIN:VEVENT
DTSTART;TZID=America/New_York:20260110T130000
DTEND;TZID=America/New_York:20260110T143000
DTSTAMP:20260423T061758
CREATED:20260105T185038Z
LAST-MODIFIED:20260105T185038Z
UID:10002788-1768050000-1768055400@www.artsquest.org
SUMMARY:The Rise and Fall of Bethlehem Steel Tour
DESCRIPTION:
URL:https://www.artsquest.org/event/the-rise-and-fall-of-bethlehem-steel-tour-1-10-2026/
LOCATION:PA
CATEGORIES:Tours
ATTACH;FMTTYPE=image/jpeg:https://www.artsquest.org/app/uploads/2025/08/rise-fall-tour.jpg
END:VEVENT
END:VCALENDAR