BEGIN:VCALENDAR
VERSION:2.0
PRODID:-//ArtsQuest - ECPv6.15.5//NONSGML v1.0//EN
CALSCALE:GREGORIAN
METHOD:PUBLISH
X-WR-CALNAME:ArtsQuest
X-ORIGINAL-URL:https://www.artsquest.org
X-WR-CALDESC:Events for ArtsQuest
REFRESH-INTERVAL;VALUE=DURATION:PT1H
X-Robots-Tag:noindex
X-PUBLISHED-TTL:PT1H
BEGIN:VTIMEZONE
TZID:America/New_York
BEGIN:DAYLIGHT
TZOFFSETFROM:-0500
TZOFFSETTO:-0400
TZNAME:EDT
DTSTART:20250309T070000
END:DAYLIGHT
BEGIN:STANDARD
TZOFFSETFROM:-0400
TZOFFSETTO:-0500
TZNAME:EST
DTSTART:20251102T060000
END:STANDARD
END:VTIMEZONE
BEGIN:VEVENT
DTSTART;VALUE=DATE:20251207
DTEND;VALUE=DATE:20251208
DTSTAMP:20260423T071720
CREATED:20251009T162612Z
LAST-MODIFIED:20251009T194051Z
UID:10001860-1765065600-1765151999@www.artsquest.org
SUMMARY:Marissa Alise Baez : Materia Medica
DESCRIPTION:
URL:https://www.artsquest.org/event/marissa-alise-baez-materia-medica/2025-12-07/
LOCATION:Alvin H. Butz Gallery\, 101 Founders Way\, Bethlehem\, PA\, 18015\, United States
CATEGORIES:Exhibition,Visual Arts
ATTACH;FMTTYPE=image/png:https://www.artsquest.org/app/uploads/2025/10/materia-medica-marissa_exhibition_1200x392.png
END:VEVENT
BEGIN:VEVENT
DTSTART;VALUE=DATE:20251208
DTEND;VALUE=DATE:20251209
DTSTAMP:20260423T071720
CREATED:20251009T162612Z
LAST-MODIFIED:20251009T194051Z
UID:10001861-1765152000-1765238399@www.artsquest.org
SUMMARY:Marissa Alise Baez : Materia Medica
DESCRIPTION:
URL:https://www.artsquest.org/event/marissa-alise-baez-materia-medica/2025-12-08/
LOCATION:Alvin H. Butz Gallery\, 101 Founders Way\, Bethlehem\, PA\, 18015\, United States
CATEGORIES:Exhibition,Visual Arts
ATTACH;FMTTYPE=image/png:https://www.artsquest.org/app/uploads/2025/10/materia-medica-marissa_exhibition_1200x392.png
END:VEVENT
BEGIN:VEVENT
DTSTART;VALUE=DATE:20251209
DTEND;VALUE=DATE:20251210
DTSTAMP:20260423T071720
CREATED:20251009T162612Z
LAST-MODIFIED:20251009T194051Z
UID:10001862-1765238400-1765324799@www.artsquest.org
SUMMARY:Marissa Alise Baez : Materia Medica
DESCRIPTION:
URL:https://www.artsquest.org/event/marissa-alise-baez-materia-medica/2025-12-09/
LOCATION:Alvin H. Butz Gallery\, 101 Founders Way\, Bethlehem\, PA\, 18015\, United States
CATEGORIES:Exhibition,Visual Arts
ATTACH;FMTTYPE=image/png:https://www.artsquest.org/app/uploads/2025/10/materia-medica-marissa_exhibition_1200x392.png
END:VEVENT
BEGIN:VEVENT
DTSTART;VALUE=DATE:20251210
DTEND;VALUE=DATE:20251211
DTSTAMP:20260423T071720
CREATED:20251009T162612Z
LAST-MODIFIED:20251009T194051Z
UID:10001863-1765324800-1765411199@www.artsquest.org
SUMMARY:Marissa Alise Baez : Materia Medica
DESCRIPTION:
URL:https://www.artsquest.org/event/marissa-alise-baez-materia-medica/2025-12-10/
LOCATION:Alvin H. Butz Gallery\, 101 Founders Way\, Bethlehem\, PA\, 18015\, United States
CATEGORIES:Exhibition,Visual Arts
ATTACH;FMTTYPE=image/png:https://www.artsquest.org/app/uploads/2025/10/materia-medica-marissa_exhibition_1200x392.png
END:VEVENT
BEGIN:VEVENT
DTSTART;VALUE=DATE:20251211
DTEND;VALUE=DATE:20251212
DTSTAMP:20260423T071720
CREATED:20251009T162612Z
LAST-MODIFIED:20251009T194051Z
UID:10001864-1765411200-1765497599@www.artsquest.org
SUMMARY:Marissa Alise Baez : Materia Medica
DESCRIPTION:
URL:https://www.artsquest.org/event/marissa-alise-baez-materia-medica/2025-12-11/
LOCATION:Alvin H. Butz Gallery\, 101 Founders Way\, Bethlehem\, PA\, 18015\, United States
CATEGORIES:Exhibition,Visual Arts
ATTACH;FMTTYPE=image/png:https://www.artsquest.org/app/uploads/2025/10/materia-medica-marissa_exhibition_1200x392.png
END:VEVENT
BEGIN:VEVENT
DTSTART;VALUE=DATE:20251212
DTEND;VALUE=DATE:20251213
DTSTAMP:20260423T071720
CREATED:20251009T162612Z
LAST-MODIFIED:20251009T194051Z
UID:10001865-1765497600-1765583999@www.artsquest.org
SUMMARY:Marissa Alise Baez : Materia Medica
DESCRIPTION:
URL:https://www.artsquest.org/event/marissa-alise-baez-materia-medica/2025-12-12/
LOCATION:Alvin H. Butz Gallery\, 101 Founders Way\, Bethlehem\, PA\, 18015\, United States
CATEGORIES:Exhibition,Visual Arts
ATTACH;FMTTYPE=image/png:https://www.artsquest.org/app/uploads/2025/10/materia-medica-marissa_exhibition_1200x392.png
END:VEVENT
BEGIN:VEVENT
DTSTART;VALUE=DATE:20251213
DTEND;VALUE=DATE:20251214
DTSTAMP:20260423T071720
CREATED:20251009T162612Z
LAST-MODIFIED:20251009T194051Z
UID:10001866-1765584000-1765670399@www.artsquest.org
SUMMARY:Marissa Alise Baez : Materia Medica
DESCRIPTION:
URL:https://www.artsquest.org/event/marissa-alise-baez-materia-medica/2025-12-13/
LOCATION:Alvin H. Butz Gallery\, 101 Founders Way\, Bethlehem\, PA\, 18015\, United States
CATEGORIES:Exhibition,Visual Arts
ATTACH;FMTTYPE=image/png:https://www.artsquest.org/app/uploads/2025/10/materia-medica-marissa_exhibition_1200x392.png
END:VEVENT
END:VCALENDAR