BEGIN:VCALENDAR
VERSION:2.0
PRODID:-//ArtsQuest - ECPv6.15.5//NONSGML v1.0//EN
CALSCALE:GREGORIAN
METHOD:PUBLISH
X-WR-CALNAME:ArtsQuest
X-ORIGINAL-URL:https://www.artsquest.org
X-WR-CALDESC:Events for ArtsQuest
REFRESH-INTERVAL;VALUE=DURATION:PT1H
X-Robots-Tag:noindex
X-PUBLISHED-TTL:PT1H
BEGIN:VTIMEZONE
TZID:America/New_York
BEGIN:DAYLIGHT
TZOFFSETFROM:-0500
TZOFFSETTO:-0400
TZNAME:EDT
DTSTART:20250309T070000
END:DAYLIGHT
BEGIN:STANDARD
TZOFFSETFROM:-0400
TZOFFSETTO:-0500
TZNAME:EST
DTSTART:20251102T060000
END:STANDARD
END:VTIMEZONE
BEGIN:VEVENT
DTSTART;TZID=America/New_York:20251123T083000
DTEND;TZID=America/New_York:20251123T100000
DTSTAMP:20260425T185115
CREATED:20251027T140039Z
LAST-MODIFIED:20260310T150108Z
UID:10002137-1763886600-1763892000@www.artsquest.org
SUMMARY:Holiday Breakfast with Bluey and Bingo
DESCRIPTION:
URL:https://www.artsquest.org/event/holiday-breakfast-with-bluey-and-bingo/
LOCATION:Christkindlmarkt
CATEGORIES:Family Event,Food,Holiday,Special Event
ATTACH;FMTTYPE=image/jpeg:https://www.artsquest.org/app/uploads/2025/10/holiday-breakfast-ckm-2025-1200x392-1.jpg
END:VEVENT
BEGIN:VEVENT
DTSTART;TZID=America/New_York:20251129T081500
DTEND;TZID=America/New_York:20251129T093000
DTSTAMP:20260425T185115
CREATED:20251023T145300Z
LAST-MODIFIED:20260310T152658Z
UID:10002116-1764404100-1764408600@www.artsquest.org
SUMMARY:Breakfast with St. Nick
DESCRIPTION:
URL:https://www.artsquest.org/event/breakfast-with-st-nick/
LOCATION:Christkindlmarkt
CATEGORIES:Family Event,Food,Holiday,Special Event
ATTACH;FMTTYPE=image/jpeg:https://www.artsquest.org/app/uploads/2025/10/breakfast-with-stnick-2025-featured-1200x392-1.jpg
END:VEVENT
END:VCALENDAR