BEGIN:VCALENDAR
VERSION:2.0
PRODID:-//ArtsQuest - ECPv6.15.5//NONSGML v1.0//EN
CALSCALE:GREGORIAN
METHOD:PUBLISH
X-WR-CALNAME:ArtsQuest
X-ORIGINAL-URL:https://www.artsquest.org
X-WR-CALDESC:Events for ArtsQuest
REFRESH-INTERVAL;VALUE=DURATION:PT1H
X-Robots-Tag:noindex
X-PUBLISHED-TTL:PT1H
BEGIN:VTIMEZONE
TZID:America/New_York
BEGIN:DAYLIGHT
TZOFFSETFROM:-0500
TZOFFSETTO:-0400
TZNAME:EDT
DTSTART:20250309T070000
END:DAYLIGHT
BEGIN:STANDARD
TZOFFSETFROM:-0400
TZOFFSETTO:-0500
TZNAME:EST
DTSTART:20251102T060000
END:STANDARD
END:VTIMEZONE
BEGIN:VEVENT
DTSTART;VALUE=DATE:20251012
DTEND;VALUE=DATE:20251013
DTSTAMP:20260423T183502
CREATED:20251009T162612Z
LAST-MODIFIED:20251009T194051Z
UID:10001804-1760227200-1760313599@www.artsquest.org
SUMMARY:Marissa Alise Baez : Materia Medica
DESCRIPTION:
URL:https://www.artsquest.org/event/marissa-alise-baez-materia-medica/2025-10-12/
LOCATION:Alvin H. Butz Gallery\, 101 Founders Way\, Bethlehem\, PA\, 18015\, United States
CATEGORIES:Exhibition,Visual Arts
ATTACH;FMTTYPE=image/png:https://www.artsquest.org/app/uploads/2025/10/materia-medica-marissa_exhibition_1200x392.png
END:VEVENT
BEGIN:VEVENT
DTSTART;VALUE=DATE:20251013
DTEND;VALUE=DATE:20251014
DTSTAMP:20260423T183502
CREATED:20251009T162612Z
LAST-MODIFIED:20251009T194051Z
UID:10001805-1760313600-1760399999@www.artsquest.org
SUMMARY:Marissa Alise Baez : Materia Medica
DESCRIPTION:
URL:https://www.artsquest.org/event/marissa-alise-baez-materia-medica/2025-10-13/
LOCATION:Alvin H. Butz Gallery\, 101 Founders Way\, Bethlehem\, PA\, 18015\, United States
CATEGORIES:Exhibition,Visual Arts
ATTACH;FMTTYPE=image/png:https://www.artsquest.org/app/uploads/2025/10/materia-medica-marissa_exhibition_1200x392.png
END:VEVENT
BEGIN:VEVENT
DTSTART;VALUE=DATE:20251014
DTEND;VALUE=DATE:20251015
DTSTAMP:20260423T183502
CREATED:20251009T162612Z
LAST-MODIFIED:20251009T194051Z
UID:10001806-1760400000-1760486399@www.artsquest.org
SUMMARY:Marissa Alise Baez : Materia Medica
DESCRIPTION:
URL:https://www.artsquest.org/event/marissa-alise-baez-materia-medica/2025-10-14/
LOCATION:Alvin H. Butz Gallery\, 101 Founders Way\, Bethlehem\, PA\, 18015\, United States
CATEGORIES:Exhibition,Visual Arts
ATTACH;FMTTYPE=image/png:https://www.artsquest.org/app/uploads/2025/10/materia-medica-marissa_exhibition_1200x392.png
END:VEVENT
BEGIN:VEVENT
DTSTART;VALUE=DATE:20251015
DTEND;VALUE=DATE:20251016
DTSTAMP:20260423T183502
CREATED:20251009T162612Z
LAST-MODIFIED:20251009T194051Z
UID:10001807-1760486400-1760572799@www.artsquest.org
SUMMARY:Marissa Alise Baez : Materia Medica
DESCRIPTION:
URL:https://www.artsquest.org/event/marissa-alise-baez-materia-medica/2025-10-15/
LOCATION:Alvin H. Butz Gallery\, 101 Founders Way\, Bethlehem\, PA\, 18015\, United States
CATEGORIES:Exhibition,Visual Arts
ATTACH;FMTTYPE=image/png:https://www.artsquest.org/app/uploads/2025/10/materia-medica-marissa_exhibition_1200x392.png
END:VEVENT
BEGIN:VEVENT
DTSTART;VALUE=DATE:20251016
DTEND;VALUE=DATE:20251017
DTSTAMP:20260423T183502
CREATED:20251009T162612Z
LAST-MODIFIED:20251009T194051Z
UID:10001808-1760572800-1760659199@www.artsquest.org
SUMMARY:Marissa Alise Baez : Materia Medica
DESCRIPTION:
URL:https://www.artsquest.org/event/marissa-alise-baez-materia-medica/2025-10-16/
LOCATION:Alvin H. Butz Gallery\, 101 Founders Way\, Bethlehem\, PA\, 18015\, United States
CATEGORIES:Exhibition,Visual Arts
ATTACH;FMTTYPE=image/png:https://www.artsquest.org/app/uploads/2025/10/materia-medica-marissa_exhibition_1200x392.png
END:VEVENT
BEGIN:VEVENT
DTSTART;VALUE=DATE:20251017
DTEND;VALUE=DATE:20251018
DTSTAMP:20260423T183502
CREATED:20251009T162612Z
LAST-MODIFIED:20251009T194051Z
UID:10001809-1760659200-1760745599@www.artsquest.org
SUMMARY:Marissa Alise Baez : Materia Medica
DESCRIPTION:
URL:https://www.artsquest.org/event/marissa-alise-baez-materia-medica/2025-10-17/
LOCATION:Alvin H. Butz Gallery\, 101 Founders Way\, Bethlehem\, PA\, 18015\, United States
CATEGORIES:Exhibition,Visual Arts
ATTACH;FMTTYPE=image/png:https://www.artsquest.org/app/uploads/2025/10/materia-medica-marissa_exhibition_1200x392.png
END:VEVENT
BEGIN:VEVENT
DTSTART;VALUE=DATE:20251018
DTEND;VALUE=DATE:20251019
DTSTAMP:20260423T183502
CREATED:20251009T162612Z
LAST-MODIFIED:20251009T194051Z
UID:10001810-1760745600-1760831999@www.artsquest.org
SUMMARY:Marissa Alise Baez : Materia Medica
DESCRIPTION:
URL:https://www.artsquest.org/event/marissa-alise-baez-materia-medica/2025-10-18/
LOCATION:Alvin H. Butz Gallery\, 101 Founders Way\, Bethlehem\, PA\, 18015\, United States
CATEGORIES:Exhibition,Visual Arts
ATTACH;FMTTYPE=image/png:https://www.artsquest.org/app/uploads/2025/10/materia-medica-marissa_exhibition_1200x392.png
END:VEVENT
END:VCALENDAR