BEGIN:VCALENDAR
VERSION:2.0
PRODID:-//ArtsQuest - ECPv6.15.5//NONSGML v1.0//EN
CALSCALE:GREGORIAN
METHOD:PUBLISH
X-ORIGINAL-URL:https://www.artsquest.org
X-WR-CALDESC:Events for ArtsQuest
REFRESH-INTERVAL;VALUE=DURATION:PT1H
X-Robots-Tag:noindex
X-PUBLISHED-TTL:PT1H
BEGIN:VTIMEZONE
TZID:America/New_York
BEGIN:DAYLIGHT
TZOFFSETFROM:-0500
TZOFFSETTO:-0400
TZNAME:EDT
DTSTART:20260308T070000
END:DAYLIGHT
BEGIN:STANDARD
TZOFFSETFROM:-0400
TZOFFSETTO:-0500
TZNAME:EST
DTSTART:20261101T060000
END:STANDARD
END:VTIMEZONE
BEGIN:VEVENT
DTSTART;TZID=America/New_York:20260511T190000
DTEND;TZID=America/New_York:20260511T203000
DTSTAMP:20260424T080919
CREATED:20260102T153615Z
LAST-MODIFIED:20260303T215846Z
UID:10002782-1778526000-1778531400@www.artsquest.org
SUMMARY:The Improv JAM-BER-REE
DESCRIPTION:
URL:https://www.artsquest.org/event/the-improv-jam-ber-ree-7/
LOCATION:Bethlehem Visitor Center at SteelStacks pres. by Lehigh Valley Health Network\, 711 E. First St.\, Bethlehem\, PA\, 18015\, United States
CATEGORIES:Comedy,Free
ATTACH;FMTTYPE=image/jpeg:https://www.artsquest.org/app/uploads/2025/09/2025_Comedy_improv-jam-ber-ee.jpg
END:VEVENT
BEGIN:VEVENT
DTSTART;TZID=America/New_York:20260512T193000
DTEND;TZID=America/New_York:20260512T213000
DTSTAMP:20260424T080919
CREATED:20260126T150013Z
LAST-MODIFIED:20260422T125058Z
UID:10002980-1778614200-1778621400@www.artsquest.org
SUMMARY:Warm Up Comedy Open Mic
DESCRIPTION:
URL:https://www.artsquest.org/event/warm-up-comedy-open-mic-9/
LOCATION:Bethlehem Visitor Center at SteelStacks pres. by Lehigh Valley Health Network\, 711 E. First St.\, Bethlehem\, PA\, 18015\, United States
CATEGORIES:Comedy,Free
ATTACH;FMTTYPE=image/jpeg:https://www.artsquest.org/app/uploads/2025/09/2025_COM_WarmUpOpenMic_1024x576.jpg
END:VEVENT
BEGIN:VEVENT
DTSTART;TZID=America/New_York:20260513T190000
DTEND;TZID=America/New_York:20260513T210000
DTSTAMP:20260424T080919
CREATED:20260227T204738Z
LAST-MODIFIED:20260227T205054Z
UID:10003392-1778698800-1778706000@www.artsquest.org
SUMMARY:Improv 101 with Stu Shaw
DESCRIPTION:
URL:https://www.artsquest.org/event/improv-101-with-stu-shaw/
LOCATION:Bethlehem Visitor Center at SteelStacks pres. by Lehigh Valley Health Network\, 711 E. First St.\, Bethlehem\, PA\, 18015\, United States
CATEGORIES:Classes,Comedy,Comedy Class
ATTACH;FMTTYPE=image/jpeg:https://www.artsquest.org/app/uploads/2026/02/COMEDY_StuShaw_1920x1080-2.jpg
END:VEVENT
BEGIN:VEVENT
DTSTART;TZID=America/New_York:20260514T183000
DTEND;TZID=America/New_York:20260514T200000
DTSTAMP:20260424T080919
CREATED:20251121T191820Z
LAST-MODIFIED:20260304T202533Z
UID:10002435-1778783400-1778788800@www.artsquest.org
SUMMARY:Grad Show - Intro to Meisner Technique
DESCRIPTION:https://secure.artsquest.org/Online/seatSelect.asp?createBO::WSmap=1&BOparam::WSmap::loadBestAvailable::performance_ids=0CD4810B-6F07-454B-AE6F-7797D0DBFA17
URL:https://www.artsquest.org/event/grad-show-intro-to-meisner-technique/
LOCATION:Bethlehem Visitor Center at SteelStacks pres. by Lehigh Valley Health Network\, 711 E. First St.\, Bethlehem\, PA\, 18015\, United States
CATEGORIES:Comedy
ATTACH;FMTTYPE=image/jpeg:https://www.artsquest.org/app/uploads/2025/11/COMEDY_MeisnerTechGradShow_1920x1080.jpg
END:VEVENT
BEGIN:VEVENT
DTSTART;TZID=America/New_York:20260516T210000
DTEND;TZID=America/New_York:20260516T223000
DTSTAMP:20260424T080919
CREATED:20260217T150024Z
LAST-MODIFIED:20260320T211119Z
UID:10002974-1778965200-1778970600@www.artsquest.org
SUMMARY:Toasted: A Standup Showcase
DESCRIPTION:
URL:https://www.artsquest.org/event/toasted-a-standup-showcase-2/
LOCATION:Bethlehem Visitor Center at SteelStacks pres. by Lehigh Valley Health Network\, 711 E. First St.\, Bethlehem\, PA\, 18015\, United States
CATEGORIES:Comedy
ATTACH;FMTTYPE=image/jpeg:https://www.artsquest.org/app/uploads/2026/02/COMEDY_Toasted_1920x1080.jpg
END:VEVENT
BEGIN:VEVENT
DTSTART;TZID=America/New_York:20260517T170000
DTEND;TZID=America/New_York:20260517T200000
DTSTAMP:20260424T080919
CREATED:20260313T140005Z
LAST-MODIFIED:20260310T190926Z
UID:10003590-1779037200-1779048000@www.artsquest.org
SUMMARY:Three is the Magic Number Workshop
DESCRIPTION:
URL:https://www.artsquest.org/event/three-is-the-magic-number-workshop/
LOCATION:Bethlehem Visitor Center at SteelStacks pres. by Lehigh Valley Health Network\, 711 E. First St.\, Bethlehem\, PA\, 18015\, United States
CATEGORIES:Classes,Comedy,Comedy Class,One-Day Workshop
ATTACH;FMTTYPE=image/jpeg:https://www.artsquest.org/app/uploads/2026/03/COMEDY_ElanaFishbein_1920x1080.jpg
END:VEVENT
BEGIN:VEVENT
DTSTART;TZID=America/New_York:20260517T170000
DTEND;TZID=America/New_York:20260517T200000
DTSTAMP:20260424T080919
CREATED:20260313T140006Z
LAST-MODIFIED:20260310T185833Z
UID:10003588-1779037200-1779048000@www.artsquest.org
SUMMARY:Beginning Music Improv Comedy Workout Workshop
DESCRIPTION:
URL:https://www.artsquest.org/event/beginning-music-improv-comedy-workout-workshop/
LOCATION:Fowler Blast Furnace Room\, 101 Founders Way\, Bethlehem\, PA\, 18015\, United States
CATEGORIES:Classes,Comedy,Comedy Class,One-Day Workshop
ATTACH;FMTTYPE=image/jpeg:https://www.artsquest.org/app/uploads/2026/03/COMEDY_ShulieCowen_1920x1080.jpg
END:VEVENT
BEGIN:VEVENT
DTSTART;TZID=America/New_York:20260518T190000
DTEND;TZID=America/New_York:20260518T210000
DTSTAMP:20260424T080919
CREATED:20260313T140012Z
LAST-MODIFIED:20260422T200733Z
UID:10003589-1779130800-1779138000@www.artsquest.org
SUMMARY:Theatricality in Improv Workshop
DESCRIPTION:
URL:https://www.artsquest.org/event/theatricality-in-improv-workshop/
LOCATION:Fowler Blast Furnace Room\, 101 Founders Way\, Bethlehem\, PA\, 18015\, United States
CATEGORIES:Classes,Comedy,Comedy Class,One-Day Workshop
ATTACH;FMTTYPE=image/jpeg:https://www.artsquest.org/app/uploads/2026/03/COMEDY_ShulieCowen_1920x1080.jpg
END:VEVENT
BEGIN:VEVENT
DTSTART;TZID=America/New_York:20260519T190000
DTEND;TZID=America/New_York:20260519T210000
DTSTAMP:20260424T080919
CREATED:20260227T205831Z
LAST-MODIFIED:20260227T205831Z
UID:10003393-1779217200-1779224400@www.artsquest.org
SUMMARY:Improv 201 with Danielle Tampier
DESCRIPTION:
URL:https://www.artsquest.org/event/improv-201-with-danielle-tampier/
LOCATION:Bethlehem Visitor Center at SteelStacks pres. by Lehigh Valley Health Network\, 711 E. First St.\, Bethlehem\, PA\, 18015\, United States
CATEGORIES:Classes,Comedy,Comedy Class
ATTACH;FMTTYPE=image/jpeg:https://www.artsquest.org/app/uploads/2026/02/COMEDY_DanielleTampier_1920x1080.jpg
END:VEVENT
BEGIN:VEVENT
DTSTART;TZID=America/New_York:20260601T190000
DTEND;TZID=America/New_York:20260601T210000
DTSTAMP:20260424T080919
CREATED:20260227T210317Z
LAST-MODIFIED:20260227T210317Z
UID:10003394-1780340400-1780347600@www.artsquest.org
SUMMARY:Improv 301 with Matt Candio
DESCRIPTION:
URL:https://www.artsquest.org/event/improv-301-with-matt-candio/
LOCATION:Bethlehem Visitor Center at SteelStacks pres. by Lehigh Valley Health Network\, 711 E. First St.\, Bethlehem\, PA\, 18015\, United States
CATEGORIES:Classes,Comedy,Comedy Class
ATTACH;FMTTYPE=image/jpeg:https://www.artsquest.org/app/uploads/2025/10/COMEDY_MattCandio_1200x392.jpg
END:VEVENT
BEGIN:VEVENT
DTSTART;TZID=America/New_York:20260605T210000
DTEND;TZID=America/New_York:20260605T220000
DTSTAMP:20260424T080919
CREATED:20260401T193821Z
LAST-MODIFIED:20260401T193910Z
UID:10004085-1780693200-1780696800@www.artsquest.org
SUMMARY:We're Good\, You're Great
DESCRIPTION:
URL:https://www.artsquest.org/event/were-good-youre-great-7/
LOCATION:Bethlehem Visitor Center at SteelStacks pres. by Lehigh Valley Health Network\, 711 E. First St.\, Bethlehem\, PA\, 18015\, United States
CATEGORIES:Comedy
ATTACH;FMTTYPE=image/jpeg:https://www.artsquest.org/app/uploads/2025/09/2025_COM_wgyg_1280x720.jpg
END:VEVENT
BEGIN:VEVENT
DTSTART;TZID=America/New_York:20260614T160000
DTEND;TZID=America/New_York:20260614T180000
DTSTAMP:20260424T080919
CREATED:20260402T140003Z
LAST-MODIFIED:20260401T181520Z
UID:10004084-1781452800-1781460000@www.artsquest.org
SUMMARY:Short Form Improv Games with Stu Shaw
DESCRIPTION:
URL:https://www.artsquest.org/event/short-form-improv-games-with-stu-shaw/
LOCATION:Bethlehem Visitor Center at SteelStacks pres. by Lehigh Valley Health Network\, 711 E. First St.\, Bethlehem\, PA\, 18015\, United States
CATEGORIES:Classes,Comedy,Comedy Class,One-Day Workshop
ATTACH;FMTTYPE=image/jpeg:https://www.artsquest.org/app/uploads/2026/02/COMEDY_StuShaw_1920x1080-2.jpg
END:VEVENT
BEGIN:VEVENT
DTSTART;TZID=America/New_York:20260619T210000
DTEND;TZID=America/New_York:20260619T230000
DTSTAMP:20260424T080919
CREATED:20251201T150057Z
LAST-MODIFIED:20260304T201338Z
UID:10002468-1781902800-1781910000@www.artsquest.org
SUMMARY:What's Wrong with Tyler Rothrock?
DESCRIPTION:
URL:https://www.artsquest.org/event/whats-wrong-with-tyler-rothrock/
LOCATION:Bethlehem Visitor Center at SteelStacks pres. by Lehigh Valley Health Network\, 711 E. First St.\, Bethlehem\, PA\, 18015\, United States
CATEGORIES:Comedy
ATTACH;FMTTYPE=image/jpeg:https://www.artsquest.org/app/uploads/2026/02/COMEDY_TylerRothrock2_1920x1080.jpg
END:VEVENT
BEGIN:VEVENT
DTSTART;TZID=America/New_York:20260628T183000
DTEND;TZID=America/New_York:20260628T200000
DTSTAMP:20260424T080919
CREATED:20260313T140031Z
LAST-MODIFIED:20260414T143404Z
UID:10003587-1782671400-1782676800@www.artsquest.org
SUMMARY:Grad Show - Intro to Standup
DESCRIPTION:https://secure.artsquest.org/Online/seatSelect.asp?createBO::WSmap=1&BOparam::WSmap::loadBestAvailable::performance_ids=0CD4810B-6F07-454B-AE6F-7797D0DBFA17
URL:https://www.artsquest.org/event/grad-show-intro-to-standup-2/
LOCATION:Bethlehem Visitor Center at SteelStacks pres. by Lehigh Valley Health Network\, 711 E. First St.\, Bethlehem\, PA\, 18015\, United States
CATEGORIES:Comedy
ATTACH;FMTTYPE=image/jpeg:https://www.artsquest.org/app/uploads/2026/03/COMEDY_GradshowTickle_1920x1080.jpg
END:VEVENT
BEGIN:VEVENT
DTSTART;TZID=America/New_York:20260703T210000
DTEND;TZID=America/New_York:20260703T220000
DTSTAMP:20260424T080919
CREATED:20260401T193946Z
LAST-MODIFIED:20260401T193946Z
UID:10004086-1783112400-1783116000@www.artsquest.org
SUMMARY:We're Good\, You're Great
DESCRIPTION:
URL:https://www.artsquest.org/event/were-good-youre-great-8/
LOCATION:Bethlehem Visitor Center at SteelStacks pres. by Lehigh Valley Health Network\, 711 E. First St.\, Bethlehem\, PA\, 18015\, United States
CATEGORIES:Comedy
ATTACH;FMTTYPE=image/jpeg:https://www.artsquest.org/app/uploads/2025/09/2025_COM_wgyg_1280x720.jpg
END:VEVENT
BEGIN:VEVENT
DTSTART;TZID=America/New_York:20260708T183000
DTEND;TZID=America/New_York:20260708T200000
DTSTAMP:20260424T080919
CREATED:20260227T210757Z
LAST-MODIFIED:20260304T201236Z
UID:10003395-1783535400-1783540800@www.artsquest.org
SUMMARY:Grad Show - Improv 101
DESCRIPTION:https://secure.artsquest.org/Online/seatSelect.asp?createBO::WSmap=1&BOparam::WSmap::loadBestAvailable::performance_ids=0CD4810B-6F07-454B-AE6F-7797D0DBFA17
URL:https://www.artsquest.org/event/grad-show-improv-101-3/
LOCATION:Bethlehem Visitor Center at SteelStacks pres. by Lehigh Valley Health Network\, 711 E. First St.\, Bethlehem\, PA\, 18015\, United States
CATEGORIES:Comedy
ATTACH;FMTTYPE=image/jpeg:https://www.artsquest.org/app/uploads/2026/02/COMEDY_StuShaw2_1920x1080.jpg
END:VEVENT
BEGIN:VEVENT
DTSTART;TZID=America/New_York:20260710T153000
DTEND;TZID=America/New_York:20260710T173000
DTSTAMP:20260424T080919
CREATED:20260217T150045Z
LAST-MODIFIED:20260226T195054Z
UID:10003259-1783697400-1783704600@www.artsquest.org
SUMMARY:A Salute to Bethlehem hosted by Ed Larson of Last Podcast On The Left
DESCRIPTION:https://www.facebook.com/michaelblacksonofficial/
URL:https://www.artsquest.org/event/a-salute-to-bethlehem-hosted-by-ed-larson-of-last-podcast-on-the-left/
LOCATION:Musikfest Café\, 101 Founders Way\, Bethlehem\, PA\, 18015\, United States
CATEGORIES:Comedy
ATTACH;FMTTYPE=image/jpeg:https://www.artsquest.org/app/uploads/2026/02/COMEDY_ASaluteToBethlehem_1920x1080-1.jpg
END:VEVENT
BEGIN:VEVENT
DTSTART;TZID=America/New_York:20260710T210000
DTEND;TZID=America/New_York:20260710T230000
DTSTAMP:20260424T080919
CREATED:20260213T174523Z
LAST-MODIFIED:20260304T201009Z
UID:10003268-1783717200-1783724400@www.artsquest.org
SUMMARY:What's Wrong with Tyler Rothrock?
DESCRIPTION:
URL:https://www.artsquest.org/event/whats-wrong-with-tyler-rothrock-2/
LOCATION:Bethlehem Visitor Center at SteelStacks pres. by Lehigh Valley Health Network\, 711 E. First St.\, Bethlehem\, PA\, 18015\, United States
CATEGORIES:Comedy
ATTACH;FMTTYPE=image/jpeg:https://www.artsquest.org/app/uploads/2026/02/COMEDY_TylerRothrock2_1920x1080.jpg
END:VEVENT
BEGIN:VEVENT
DTSTART;TZID=America/New_York:20260714T183000
DTEND;TZID=America/New_York:20260714T200000
DTSTAMP:20260424T080919
CREATED:20260227T211037Z
LAST-MODIFIED:20260304T200934Z
UID:10003396-1784053800-1784059200@www.artsquest.org
SUMMARY:Grad Show - Improv 201
DESCRIPTION:https://secure.artsquest.org/Online/seatSelect.asp?createBO::WSmap=1&BOparam::WSmap::loadBestAvailable::performance_ids=0CD4810B-6F07-454B-AE6F-7797D0DBFA17
URL:https://www.artsquest.org/event/grad-show-improv-101-4/
LOCATION:Bethlehem Visitor Center at SteelStacks pres. by Lehigh Valley Health Network\, 711 E. First St.\, Bethlehem\, PA\, 18015\, United States
CATEGORIES:Comedy
ATTACH;FMTTYPE=image/jpeg:https://www.artsquest.org/app/uploads/2026/02/COMEDY_TampierGradShow_1920x1080.jpg
END:VEVENT
BEGIN:VEVENT
DTSTART;TZID=America/New_York:20260718T190000
DTEND;TZID=America/New_York:20260718T230000
DTSTAMP:20260424T080919
CREATED:20251104T150027Z
LAST-MODIFIED:20260304T200112Z
UID:10002211-1784401200-1784415600@www.artsquest.org
SUMMARY:SteelStacks Fantasy Ball: Enchanted Garden
DESCRIPTION:
URL:https://www.artsquest.org/event/steelstacks-fantasy-ball-enchanted-garden/
LOCATION:Musikfest Café\, 101 Founders Way\, Bethlehem\, PA\, 18015\, United States
CATEGORIES:Comedy,Concerts,Special Event
ATTACH;FMTTYPE=image/jpeg:https://www.artsquest.org/app/uploads/2025/11/FantasyBall_1920x1080.jpg
END:VEVENT
BEGIN:VEVENT
DTSTART;TZID=America/New_York:20260718T210000
DTEND;TZID=America/New_York:20260718T223000
DTSTAMP:20260424T080919
CREATED:20260422T140053Z
LAST-MODIFIED:20260423T192046Z
UID:10002324-1784408400-1784413800@www.artsquest.org
SUMMARY:Synced Up
DESCRIPTION:
URL:https://www.artsquest.org/event/synced-up-1/
LOCATION:Bethlehem Visitor Center at SteelStacks pres. by Lehigh Valley Health Network\, 711 E. First St.\, Bethlehem\, PA\, 18015\, United States
CATEGORIES:Comedy
ATTACH;FMTTYPE=image/jpeg:https://www.artsquest.org/app/uploads/2025/09/2025_COM_syncedup_1280x720.jpg
END:VEVENT
BEGIN:VEVENT
DTSTART;TZID=America/New_York:20260724T200000
DTEND;TZID=America/New_York:20260724T210000
DTSTAMP:20260424T080919
CREATED:20260414T153554Z
LAST-MODIFIED:20260414T153554Z
UID:10004961-1784923200-1784926800@www.artsquest.org
SUMMARY:COBRA
DESCRIPTION:
URL:https://www.artsquest.org/event/cobra-7/
LOCATION:Bethlehem Visitor Center at SteelStacks pres. by Lehigh Valley Health Network\, 711 E. First St.\, Bethlehem\, PA\, 18015\, United States
CATEGORIES:Comedy
ATTACH;FMTTYPE=image/jpeg:https://www.artsquest.org/app/uploads/2025/09/2025_COM_Cobra_1280x720.jpg
END:VEVENT
BEGIN:VEVENT
DTSTART;TZID=America/New_York:20260725T210000
DTEND;TZID=America/New_York:20260725T223000
DTSTAMP:20260424T080919
CREATED:20260423T140052Z
LAST-MODIFIED:20260423T192226Z
UID:10005007-1785013200-1785018600@www.artsquest.org
SUMMARY:Glen Tickle's Special Interests
DESCRIPTION:
URL:https://www.artsquest.org/event/glen-tickles-special-interests/
LOCATION:Bethlehem Visitor Center at SteelStacks pres. by Lehigh Valley Health Network\, 711 E. First St.\, Bethlehem\, PA\, 18015\, United States
CATEGORIES:Comedy
ATTACH;FMTTYPE=image/jpeg:https://www.artsquest.org/app/uploads/2026/03/COMEDY_GlenTickle_1920x1080.jpg
END:VEVENT
BEGIN:VEVENT
DTSTART;TZID=America/New_York:20260727T183000
DTEND;TZID=America/New_York:20260727T200000
DTSTAMP:20260424T080919
CREATED:20260227T211403Z
LAST-MODIFIED:20260304T195714Z
UID:10003397-1785177000-1785182400@www.artsquest.org
SUMMARY:Grad Show - Improv 301
DESCRIPTION:https://secure.artsquest.org/Online/seatSelect.asp?createBO::WSmap=1&BOparam::WSmap::loadBestAvailable::performance_ids=0CD4810B-6F07-454B-AE6F-7797D0DBFA17
URL:https://www.artsquest.org/event/grad-show-improv-301-3/
LOCATION:Bethlehem Visitor Center at SteelStacks pres. by Lehigh Valley Health Network\, 711 E. First St.\, Bethlehem\, PA\, 18015\, United States
CATEGORIES:Comedy
ATTACH;FMTTYPE=image/jpeg:https://www.artsquest.org/app/uploads/2025/11/COMEDY_CandioGradShow_1920x1080.jpg
END:VEVENT
BEGIN:VEVENT
DTSTART;TZID=America/New_York:20260801T180000
DTEND;TZID=America/New_York:20260801T220000
DTSTAMP:20260424T080919
CREATED:20251118T150009Z
LAST-MODIFIED:20260331T131325Z
UID:10002397-1785607200-1785621600@www.artsquest.org
SUMMARY:John Mulaney: Mister Whatever
DESCRIPTION:https://www.instagram.com/bailey.zimmerman/
URL:https://www.artsquest.org/event/john-mulaney-mister-whatever/
LOCATION:Wind Creek Steel Stage at PNC Plaza\, 711 E. First St.\, Bethlehem\, PA\, 18015\, United States
CATEGORIES:Comedy,Musikfest
ATTACH;FMTTYPE=image/jpeg:https://www.artsquest.org/app/uploads/2025/11/john-mulaney-mf2026-wcss-1920x1080-1.jpg
END:VEVENT
BEGIN:VEVENT
DTSTART;TZID=America/New_York:20260904T210000
DTEND;TZID=America/New_York:20260904T220000
DTSTAMP:20260424T080919
CREATED:20260401T194016Z
LAST-MODIFIED:20260401T194016Z
UID:10004087-1788555600-1788559200@www.artsquest.org
SUMMARY:We're Good\, You're Great
DESCRIPTION:
URL:https://www.artsquest.org/event/were-good-youre-great-9/
LOCATION:Bethlehem Visitor Center at SteelStacks pres. by Lehigh Valley Health Network\, 711 E. First St.\, Bethlehem\, PA\, 18015\, United States
CATEGORIES:Comedy
ATTACH;FMTTYPE=image/jpeg:https://www.artsquest.org/app/uploads/2025/09/2025_COM_wgyg_1280x720.jpg
END:VEVENT
BEGIN:VEVENT
DTSTART;TZID=America/New_York:20260911T210000
DTEND;TZID=America/New_York:20260911T230000
DTSTAMP:20260424T080919
CREATED:20260213T174609Z
LAST-MODIFIED:20260304T195612Z
UID:10003269-1789160400-1789167600@www.artsquest.org
SUMMARY:What's Wrong with Tyler Rothrock?
DESCRIPTION:
URL:https://www.artsquest.org/event/whats-wrong-with-tyler-rothrock-3/
LOCATION:Bethlehem Visitor Center at SteelStacks pres. by Lehigh Valley Health Network\, 711 E. First St.\, Bethlehem\, PA\, 18015\, United States
CATEGORIES:Comedy
ATTACH;FMTTYPE=image/jpeg:https://www.artsquest.org/app/uploads/2026/02/COMEDY_TylerRothrock2_1920x1080.jpg
END:VEVENT
BEGIN:VEVENT
DTSTART;TZID=America/New_York:20260912T210000
DTEND;TZID=America/New_York:20260912T223000
DTSTAMP:20260424T080919
CREATED:20260422T140024Z
LAST-MODIFIED:20260423T192117Z
UID:10005014-1789246800-1789252200@www.artsquest.org
SUMMARY:Synced Up
DESCRIPTION:
URL:https://www.artsquest.org/event/synced-up-2/
LOCATION:Bethlehem Visitor Center at SteelStacks pres. by Lehigh Valley Health Network\, 711 E. First St.\, Bethlehem\, PA\, 18015\, United States
CATEGORIES:Comedy
ATTACH;FMTTYPE=image/jpeg:https://www.artsquest.org/app/uploads/2025/09/2025_COM_syncedup_1280x720.jpg
END:VEVENT
BEGIN:VEVENT
DTSTART;TZID=America/New_York:20260919T200000
DTEND;TZID=America/New_York:20260919T210000
DTSTAMP:20260424T080919
CREATED:20260414T153756Z
LAST-MODIFIED:20260414T153756Z
UID:10004962-1789848000-1789851600@www.artsquest.org
SUMMARY:COBRA
DESCRIPTION:
URL:https://www.artsquest.org/event/cobra-8/
LOCATION:Bethlehem Visitor Center at SteelStacks pres. by Lehigh Valley Health Network\, 711 E. First St.\, Bethlehem\, PA\, 18015\, United States
CATEGORIES:Comedy
ATTACH;FMTTYPE=image/jpeg:https://www.artsquest.org/app/uploads/2025/09/2025_COM_Cobra_1280x720.jpg
END:VEVENT
BEGIN:VEVENT
DTSTART;TZID=America/New_York:20261002T160000
DTEND;TZID=America/New_York:20261002T180000
DTSTAMP:20260424T080919
CREATED:20260310T140020Z
LAST-MODIFIED:20260316T171740Z
UID:10003272-1790956800-1790964000@www.artsquest.org
SUMMARY:RANDY FELTFACE: GIMMICK!
DESCRIPTION:https://www.facebook.com/michaelblacksonofficial/
URL:https://www.artsquest.org/event/randy-feltface-gimmick/
LOCATION:Musikfest Café\, 101 Founders Way\, Bethlehem\, PA\, 18015\, United States
CATEGORIES:Comedy
ATTACH;FMTTYPE=image/jpeg:https://www.artsquest.org/app/uploads/2026/02/COMEDY_RandyFeltface_1920x1080.jpg
END:VEVENT
END:VCALENDAR