BEGIN:VCALENDAR
VERSION:2.0
PRODID:-//ArtsQuest - ECPv6.15.5//NONSGML v1.0//EN
CALSCALE:GREGORIAN
METHOD:PUBLISH
X-ORIGINAL-URL:https://www.artsquest.org
X-WR-CALDESC:Events for ArtsQuest
REFRESH-INTERVAL;VALUE=DURATION:PT1H
X-Robots-Tag:noindex
X-PUBLISHED-TTL:PT1H
BEGIN:VTIMEZONE
TZID:America/New_York
BEGIN:DAYLIGHT
TZOFFSETFROM:-0500
TZOFFSETTO:-0400
TZNAME:EDT
DTSTART:20260308T070000
END:DAYLIGHT
BEGIN:STANDARD
TZOFFSETFROM:-0400
TZOFFSETTO:-0500
TZNAME:EST
DTSTART:20261101T060000
END:STANDARD
END:VTIMEZONE
BEGIN:VEVENT
DTSTART;TZID=America/New_York:20260509T170000
DTEND;TZID=America/New_York:20260509T180000
DTSTAMP:20260424T093000
CREATED:20260112T143639Z
LAST-MODIFIED:20260304T212615Z
UID:10002860-1778346000-1778349600@www.artsquest.org
SUMMARY:Ten Tiny Dances
DESCRIPTION:
URL:https://www.artsquest.org/event/ten-tiny-dances-2/
LOCATION:Williams Brew Stage\, 101 Founders Way\, Bethlehem\, PA\, 18015\, United States
CATEGORIES:Concerts,Free
ATTACH;FMTTYPE=image/jpeg:https://www.artsquest.org/app/uploads/2026/01/WBS_TenTinyDacnes_1920x1080.jpg
END:VEVENT
BEGIN:VEVENT
DTSTART;TZID=America/New_York:20260509T190000
DTEND;TZID=America/New_York:20260509T220000
DTSTAMP:20260424T093000
CREATED:20251031T190303Z
LAST-MODIFIED:20260126T182221Z
UID:10002217-1778353200-1778364000@www.artsquest.org
SUMMARY:Rock Steady
DESCRIPTION:
URL:https://www.artsquest.org/event/rock-steady-3/
LOCATION:Williams Brew Stage\, 101 Founders Way\, Bethlehem\, PA\, 18015\, United States
CATEGORIES:Concerts,Free
ATTACH;FMTTYPE=image/jpeg:https://www.artsquest.org/app/uploads/2025/10/WBS_RockSteady_1200x392.jpg
END:VEVENT
BEGIN:VEVENT
DTSTART;TZID=America/New_York:20260510T100000
DTEND;TZID=America/New_York:20260510T140000
DTSTAMP:20260424T093000
CREATED:20260126T150023Z
LAST-MODIFIED:20260304T211716Z
UID:10002863-1778407200-1778421600@www.artsquest.org
SUMMARY:Mother's Day Brunch
DESCRIPTION:
URL:https://www.artsquest.org/event/mothers-day-brunch/
LOCATION:Musikfest Café\, 101 Founders Way\, Bethlehem\, PA\, 18015\, United States
CATEGORIES:Concerts,Food,Special Event
ATTACH;FMTTYPE=image/png:https://www.artsquest.org/app/uploads/2026/01/Mothers-Day-Brunch-Web-1.png
END:VEVENT
BEGIN:VEVENT
DTSTART;TZID=America/New_York:20260514T150000
DTEND;TZID=America/New_York:20260514T180000
DTSTAMP:20260424T093000
CREATED:20250903T222600Z
LAST-MODIFIED:20260305T202132Z
UID:10002706-1778770800-1778781600@www.artsquest.org
SUMMARY:Open Mic Night
DESCRIPTION:
URL:https://www.artsquest.org/event/open-mic-night-2/2026-05-14/
LOCATION:Williams Brew Stage\, 101 Founders Way\, Bethlehem\, PA\, 18015\, United States
CATEGORIES:Concerts,Free
ATTACH;FMTTYPE=image/jpeg:https://www.artsquest.org/app/uploads/2025/09/WBS_OpenMicNight_1920x1080.jpg
END:VEVENT
BEGIN:VEVENT
DTSTART;TZID=America/New_York:20260522T180000
DTEND;TZID=America/New_York:20260522T210000
DTSTAMP:20260424T093000
CREATED:20260406T150735Z
LAST-MODIFIED:20260406T152607Z
UID:10004094-1779472800-1779483600@www.artsquest.org
SUMMARY:Low Cut Connie with Slingshot Dakota
DESCRIPTION:
URL:https://www.artsquest.org/event/low-cut-connie-with-slingshot-dakota/
LOCATION:Union Terrace Amphitheater\, 200 S St Elmo St\, Allentown\, PA\, 18104\, United States
CATEGORIES:Concerts,Free
ATTACH;FMTTYPE=image/jpeg:https://www.artsquest.org/app/uploads/2026/04/UT_low-cut-connie-1920x1080-1.jpg
END:VEVENT
BEGIN:VEVENT
DTSTART;VALUE=DATE:20260523
DTEND;VALUE=DATE:20260524
DTSTAMP:20260424T093000
CREATED:20260209T155634Z
LAST-MODIFIED:20260209T155708Z
UID:10003238-1779494400-1779580799@www.artsquest.org
SUMMARY:Memorial Day Celebration
DESCRIPTION:
URL:https://www.artsquest.org/event/memorial-day-celebration-5-23-2026/
LOCATION:SteelStacks\, 101 Founders Way\, Bethlehem\, PA\, 18015\, United States
CATEGORIES:Concerts,Family Event,Festival,Free,Holiday,Special Event
ATTACH;FMTTYPE=image/jpeg:https://www.artsquest.org/app/uploads/2026/02/memorial-day-featured-1920x1080-1.jpg
END:VEVENT
BEGIN:VEVENT
DTSTART;VALUE=DATE:20260524
DTEND;VALUE=DATE:20260525
DTSTAMP:20260424T093000
CREATED:20260209T155739Z
LAST-MODIFIED:20260209T155739Z
UID:10003239-1779580800-1779667199@www.artsquest.org
SUMMARY:Memorial Day Celebration
DESCRIPTION:
URL:https://www.artsquest.org/event/memorial-day-celebration-5-24-2026/
LOCATION:SteelStacks\, 101 Founders Way\, Bethlehem\, PA\, 18015\, United States
CATEGORIES:Concerts,Family Event,Festival,Free,Holiday,Special Event
ATTACH;FMTTYPE=image/jpeg:https://www.artsquest.org/app/uploads/2026/02/memorial-day-featured-1920x1080-1.jpg
END:VEVENT
BEGIN:VEVENT
DTSTART;VALUE=DATE:20260525
DTEND;VALUE=DATE:20260526
DTSTAMP:20260424T093000
CREATED:20260209T155807Z
LAST-MODIFIED:20260209T155807Z
UID:10003240-1779667200-1779753599@www.artsquest.org
SUMMARY:Memorial Day Celebration
DESCRIPTION:
URL:https://www.artsquest.org/event/memorial-day-celebration-5-25-2026/
LOCATION:SteelStacks\, 101 Founders Way\, Bethlehem\, PA\, 18015\, United States
CATEGORIES:Concerts,Family Event,Festival,Free,Holiday,Special Event
ATTACH;FMTTYPE=image/jpeg:https://www.artsquest.org/app/uploads/2026/02/memorial-day-featured-1920x1080-1.jpg
END:VEVENT
BEGIN:VEVENT
DTSTART;TZID=America/New_York:20260604T200000
DTEND;TZID=America/New_York:20260604T220000
DTSTAMP:20260424T093000
CREATED:20260304T150028Z
LAST-MODIFIED:20260318T140224Z
UID:10003377-1780603200-1780610400@www.artsquest.org
SUMMARY:Built To Spill
DESCRIPTION:
URL:https://www.artsquest.org/event/built-to-spill/
LOCATION:Musikfest Café\, 101 Founders Way\, Bethlehem\, PA\, 18015\, United States
CATEGORIES:Concerts
ATTACH;FMTTYPE=image/jpeg:https://www.artsquest.org/app/uploads/2026/03/MFC_BTS_1920x1080-1.jpg
END:VEVENT
BEGIN:VEVENT
DTSTART;TZID=America/New_York:20260606T133000
DTEND;TZID=America/New_York:20260606T143000
DTSTAMP:20260424T093000
CREATED:20260224T170603Z
LAST-MODIFIED:20260224T170643Z
UID:10003314-1780752600-1780756200@www.artsquest.org
SUMMARY:Flag Day Celebration
DESCRIPTION:
URL:https://www.artsquest.org/event/flag-day-celebration/
LOCATION:Musikfest Café\, 101 Founders Way\, Bethlehem\, PA\, 18015\, United States
CATEGORIES:Concerts,Family Event,Festival,Free,Holiday,Special Event
ATTACH;FMTTYPE=image/jpeg:https://www.artsquest.org/app/uploads/2026/02/flag-day-feature-1200x392-1.jpg
END:VEVENT
BEGIN:VEVENT
DTSTART;TZID=America/New_York:20260617T200000
DTEND;TZID=America/New_York:20260617T223000
DTSTAMP:20260424T093000
CREATED:20260303T150026Z
LAST-MODIFIED:20260320T184141Z
UID:10003376-1781726400-1781735400@www.artsquest.org
SUMMARY:An Evening with Wilco
DESCRIPTION:
URL:https://www.artsquest.org/event/an-evening-with-wilco/
LOCATION:SteelStacks\, 101 Founders Way\, Bethlehem\, PA\, 18015\, United States
CATEGORIES:Concerts
ATTACH;FMTTYPE=image/jpeg:https://www.artsquest.org/app/uploads/2026/02/LP_WILCO_1920x1080.jpg
END:VEVENT
BEGIN:VEVENT
DTSTART;TZID=America/New_York:20260618T200000
DTEND;TZID=America/New_York:20260618T220000
DTSTAMP:20260424T093000
CREATED:20260203T150028Z
LAST-MODIFIED:20260408T134311Z
UID:10003011-1781812800-1781820000@www.artsquest.org
SUMMARY:Everclear
DESCRIPTION:
URL:https://www.artsquest.org/event/everclear/
LOCATION:Musikfest Café\, 101 Founders Way\, Bethlehem\, PA\, 18015\, United States
CATEGORIES:Concerts
ATTACH;FMTTYPE=image/jpeg:https://www.artsquest.org/app/uploads/2026/01/MFC_Everclear_1200x392.jpg
END:VEVENT
BEGIN:VEVENT
DTSTART;TZID=America/New_York:20260621T190000
DTEND;TZID=America/New_York:20260621T220000
DTSTAMP:20260424T093000
CREATED:20260223T150015Z
LAST-MODIFIED:20260302T214834Z
UID:10003309-1782068400-1782079200@www.artsquest.org
SUMMARY:JAMES McMURTRY & The Martial Law Review
DESCRIPTION:
URL:https://www.artsquest.org/event/james-mcmurtry-the-martial-law-review/
LOCATION:Musikfest Café\, 101 Founders Way\, Bethlehem\, PA\, 18015\, United States
CATEGORIES:Concerts
ATTACH;FMTTYPE=image/jpeg:https://www.artsquest.org/app/uploads/2026/02/MFC_JamesMcMurtry_1920x1080.jpg
END:VEVENT
BEGIN:VEVENT
DTSTART;TZID=America/New_York:20260625T190000
DTEND;TZID=America/New_York:20260625T213000
DTSTAMP:20260424T093000
CREATED:20260324T203118Z
LAST-MODIFIED:20260324T203118Z
UID:10003967-1782414000-1782423000@www.artsquest.org
SUMMARY:¡Sabor! Latin Festival - Thursday
DESCRIPTION:
URL:https://www.artsquest.org/event/sabor-latin-festival-thursday/
LOCATION:SteelStacks\, 101 Founders Way\, Bethlehem\, PA\, 18015\, United States
CATEGORIES:Concerts,Festival,Food,Free
ATTACH;FMTTYPE=image/jpeg:https://www.artsquest.org/app/uploads/2025/09/EVENT_Sabor_header_1280x720.jpg
END:VEVENT
BEGIN:VEVENT
DTSTART;TZID=America/New_York:20260626T170000
DTEND;TZID=America/New_York:20260626T180000
DTSTAMP:20260424T093000
CREATED:20260415T133543Z
LAST-MODIFIED:20260415T133543Z
UID:10004959-1782493200-1782496800@www.artsquest.org
SUMMARY:La Mega Live Happy Hour
DESCRIPTION:
URL:https://www.artsquest.org/event/la-mega-live-happy-hour/
LOCATION:Highmark Blue Shield Community Stage on the Air Products Town Square\, 101 Founders Way\, Bethlehem\, PA\, 18015\, United States
CATEGORIES:Concerts,Free
ATTACH;FMTTYPE=image/jpeg:https://www.artsquest.org/app/uploads/2026/04/Sabor_placeholder_1920x1080.jpg
END:VEVENT
BEGIN:VEVENT
DTSTART;TZID=America/New_York:20260626T170000
DTEND;TZID=America/New_York:20260626T235900
DTSTAMP:20260424T093000
CREATED:20250929T152835Z
LAST-MODIFIED:20260324T203210Z
UID:10001397-1782493200-1782518340@www.artsquest.org
SUMMARY:¡Sabor! Latin Festival - Friday Night
DESCRIPTION:
URL:https://www.artsquest.org/event/sabor-latin-festival-friday-night/
LOCATION:SteelStacks\, 101 Founders Way\, Bethlehem\, PA\, 18015\, United States
CATEGORIES:Concerts,Festival,Food,Free
ATTACH;FMTTYPE=image/jpeg:https://www.artsquest.org/app/uploads/2025/09/EVENT_Sabor_header_1280x720.jpg
END:VEVENT
BEGIN:VEVENT
DTSTART;TZID=America/New_York:20260626T180000
DTEND;TZID=America/New_York:20260626T220000
DTSTAMP:20260424T093000
CREATED:20260406T150748Z
LAST-MODIFIED:20260406T150919Z
UID:10004095-1782496800-1782511200@www.artsquest.org
SUMMARY:Reggae Night in partnership with Movement Moves Media
DESCRIPTION:
URL:https://www.artsquest.org/event/reggae-night-in-partnership-with-movement-moves-media/
LOCATION:Union Terrace Amphitheater\, 200 S St Elmo St\, Allentown\, PA\, 18104\, United States
CATEGORIES:Concerts,Free
ATTACH;FMTTYPE=image/jpeg:https://www.artsquest.org/app/uploads/2026/04/UT_redfox-goe-troupe-space-kamp-1920x1080-1.jpg
END:VEVENT
BEGIN:VEVENT
DTSTART;TZID=America/New_York:20260626T183000
DTEND;TZID=America/New_York:20260626T200000
DTSTAMP:20260424T093000
CREATED:20260415T133642Z
LAST-MODIFIED:20260415T133642Z
UID:10004109-1782498600-1782504000@www.artsquest.org
SUMMARY:Fabricio Orihuela
DESCRIPTION:
URL:https://www.artsquest.org/event/fabricio-orihuela/
LOCATION:Highmark Blue Shield Community Stage on the Air Products Town Square\, 101 Founders Way\, Bethlehem\, PA\, 18015\, United States
CATEGORIES:Concerts,Free
ATTACH;FMTTYPE=image/jpeg:https://www.artsquest.org/app/uploads/2026/04/sabor_Fabricio-Orihuela-1920x1080-1.jpg
END:VEVENT
BEGIN:VEVENT
DTSTART;TZID=America/New_York:20260626T200000
DTEND;TZID=America/New_York:20260626T220000
DTSTAMP:20260424T093000
CREATED:20260406T140011Z
LAST-MODIFIED:20260423T180839Z
UID:10004099-1782504000-1782511200@www.artsquest.org
SUMMARY:Take Me Home: The Phil Collins Tribute
DESCRIPTION:
URL:https://www.artsquest.org/event/take-me-home-the-phil-collins-tribute/
LOCATION:Musikfest Café\, 101 Founders Way\, Bethlehem\, PA\, 18015\, United States
CATEGORIES:Concerts
ATTACH;FMTTYPE=image/jpeg:https://www.artsquest.org/app/uploads/2026/04/MFC_TakeMeHome_1920x1080-1.jpg
END:VEVENT
BEGIN:VEVENT
DTSTART;TZID=America/New_York:20260626T200000
DTEND;TZID=America/New_York:20260626T220000
DTSTAMP:20260424T093000
CREATED:20260415T133703Z
LAST-MODIFIED:20260423T151635Z
UID:10004114-1782504000-1782511200@www.artsquest.org
SUMMARY:Hector Rosado y su Orq Hache
DESCRIPTION:
URL:https://www.artsquest.org/event/hector-rosado-y-su-orq-hache/
LOCATION:Levitt Pavilion SteelStacks\, 789 E 1st St\, Bethlehem\, PA\, 18015
CATEGORIES:Concerts,Free
ATTACH;FMTTYPE=image/jpeg:https://www.artsquest.org/app/uploads/2026/04/sabor_Hector-Rosado-1920x1080-1.jpg
END:VEVENT
BEGIN:VEVENT
DTSTART;TZID=America/New_York:20260626T220000
DTEND;TZID=America/New_York:20260626T235900
DTSTAMP:20260424T093000
CREATED:20260415T133713Z
LAST-MODIFIED:20260415T133713Z
UID:10004113-1782511200-1782518340@www.artsquest.org
SUMMARY:Herencia Jibara
DESCRIPTION:
URL:https://www.artsquest.org/event/herencia-jibara/
LOCATION:Highmark Blue Shield Community Stage on the Air Products Town Square\, 101 Founders Way\, Bethlehem\, PA\, 18015\, United States
CATEGORIES:Concerts,Free
ATTACH;FMTTYPE=image/jpeg:https://www.artsquest.org/app/uploads/2026/04/sabor_Herencia-Jibara-1920x1080-1.jpg
END:VEVENT
BEGIN:VEVENT
DTSTART;TZID=America/New_York:20260627T163000
DTEND;TZID=America/New_York:20260627T173000
DTSTAMP:20260424T093000
CREATED:20260415T133740Z
LAST-MODIFIED:20260415T133740Z
UID:10004115-1782577800-1782581400@www.artsquest.org
SUMMARY:Grupo Folclórico – Portugal no Coração
DESCRIPTION:
URL:https://www.artsquest.org/event/grupo-folclorico-portugal-no-coracao/
LOCATION:Highmark Blue Shield Community Stage on the Air Products Town Square\, 101 Founders Way\, Bethlehem\, PA\, 18015\, United States
CATEGORIES:Concerts,Free
ATTACH;FMTTYPE=image/jpeg:https://www.artsquest.org/app/uploads/2026/04/sabor_Grupo-Folclorico-1920x1080-1.jpg
END:VEVENT
BEGIN:VEVENT
DTSTART;TZID=America/New_York:20260627T163000
DTEND;TZID=America/New_York:20260627T235900
DTSTAMP:20260424T093000
CREATED:20250929T152947Z
LAST-MODIFIED:20260324T203308Z
UID:10001398-1782577800-1782604740@www.artsquest.org
SUMMARY:¡Sabor! Latin Festival - Saturday
DESCRIPTION:
URL:https://www.artsquest.org/event/sabor-latin-festival-saturday/
LOCATION:SteelStacks\, 101 Founders Way\, Bethlehem\, PA\, 18015\, United States
CATEGORIES:Concerts,Festival,Food,Free
ATTACH;FMTTYPE=image/jpeg:https://www.artsquest.org/app/uploads/2025/09/EVENT_Sabor_header_1280x720.jpg
END:VEVENT
BEGIN:VEVENT
DTSTART;TZID=America/New_York:20260627T173000
DTEND;TZID=America/New_York:20260627T190000
DTSTAMP:20260424T093000
CREATED:20260415T133751Z
LAST-MODIFIED:20260415T133751Z
UID:10004119-1782581400-1782586800@www.artsquest.org
SUMMARY:Alea
DESCRIPTION:
URL:https://www.artsquest.org/event/alea/
LOCATION:Levitt Pavilion SteelStacks\, 789 E 1st St\, Bethlehem\, PA\, 18015
CATEGORIES:Concerts,Free
ATTACH;FMTTYPE=image/jpeg:https://www.artsquest.org/app/uploads/2026/04/sabor-alea-1920x1080-1.jpg
END:VEVENT
BEGIN:VEVENT
DTSTART;TZID=America/New_York:20260627T190000
DTEND;TZID=America/New_York:20260627T210000
DTSTAMP:20260424T093000
CREATED:20260415T133959Z
LAST-MODIFIED:20260415T133959Z
UID:10004116-1782586800-1782594000@www.artsquest.org
SUMMARY:Grupo Hipnosis
DESCRIPTION:
URL:https://www.artsquest.org/event/grupo-hipnosis/
LOCATION:Highmark Blue Shield Community Stage on the Air Products Town Square\, 101 Founders Way\, Bethlehem\, PA\, 18015\, United States
CATEGORIES:Concerts,Free
ATTACH;FMTTYPE=image/jpeg:https://www.artsquest.org/app/uploads/2026/04/sabor-Grupo-Hipnosis-1920x1080-1.jpg
END:VEVENT
BEGIN:VEVENT
DTSTART;TZID=America/New_York:20260627T200000
DTEND;TZID=America/New_York:20260627T223000
DTSTAMP:20260424T093000
CREATED:20260202T150044Z
LAST-MODIFIED:20260331T191049Z
UID:10003059-1782590400-1782599400@www.artsquest.org
SUMMARY:Life After Dead: Grateful Dead Tribute
DESCRIPTION:
URL:https://www.artsquest.org/event/life-after-dead-grateful-dead-tribute/
LOCATION:Musikfest Café\, 101 Founders Way\, Bethlehem\, PA\, 18015\, United States
CATEGORIES:Concerts
ATTACH;FMTTYPE=image/jpeg:https://www.artsquest.org/app/uploads/2026/02/MFC_LifeAfterDead2_1920x1080.jpg
END:VEVENT
BEGIN:VEVENT
DTSTART;TZID=America/New_York:20260627T210000
DTEND;TZID=America/New_York:20260627T220000
DTSTAMP:20260424T093000
CREATED:20260415T134022Z
LAST-MODIFIED:20260415T134022Z
UID:10004120-1782594000-1782597600@www.artsquest.org
SUMMARY:Cita Rodriguez
DESCRIPTION:
URL:https://www.artsquest.org/event/cita-rodriguez/
LOCATION:Levitt Pavilion SteelStacks\, 789 E 1st St\, Bethlehem\, PA\, 18015
CATEGORIES:Concerts,Free
ATTACH;FMTTYPE=image/jpeg:https://www.artsquest.org/app/uploads/2026/04/sabor-Cita-Rodriguez-1920x1080-1.jpg
END:VEVENT
BEGIN:VEVENT
DTSTART;TZID=America/New_York:20260627T220000
DTEND;TZID=America/New_York:20260627T235900
DTSTAMP:20260424T093000
CREATED:20260413T195012Z
LAST-MODIFIED:20260415T134035Z
UID:10004117-1782597600-1782604740@www.artsquest.org
SUMMARY:Pancho Bongo
DESCRIPTION:
URL:https://www.artsquest.org/event/pancho-bongo/
LOCATION:Highmark Blue Shield Community Stage on the Air Products Town Square\, 101 Founders Way\, Bethlehem\, PA\, 18015\, United States
CATEGORIES:Concerts,Free
ATTACH;FMTTYPE=image/jpeg:https://www.artsquest.org/app/uploads/2026/04/sabor_PanchoBongo-1920x1080-1.jpg
END:VEVENT
BEGIN:VEVENT
DTSTART;VALUE=DATE:20260710
DTEND;VALUE=DATE:20260712
DTSTAMP:20260424T093000
CREATED:20250904T180655Z
LAST-MODIFIED:20260324T203450Z
UID:10001192-1783713600-1783799999@www.artsquest.org
SUMMARY:One Earth ReggaeFest
DESCRIPTION:
URL:https://www.artsquest.org/event/one-earth-reggaefest/
LOCATION:SteelStacks\, 101 Founders Way\, Bethlehem\, PA\, 18015\, United States
CATEGORIES:Concerts,Festival
ATTACH;FMTTYPE=image/jpeg:https://www.artsquest.org/app/uploads/2025/09/FESTIVALS_Reggae_850x850.jpg
END:VEVENT
BEGIN:VEVENT
DTSTART;TZID=America/New_York:20260712T190000
DTEND;TZID=America/New_York:20260712T220000
DTSTAMP:20260424T093000
CREATED:20260126T150035Z
LAST-MODIFIED:20260205T162153Z
UID:10002934-1783882800-1783893600@www.artsquest.org
SUMMARY:Toad the Wet Sprocket
DESCRIPTION:
URL:https://www.artsquest.org/event/toad-the-wet-sprocket/
LOCATION:Musikfest Café\, 101 Founders Way\, Bethlehem\, PA\, 18015\, United States
CATEGORIES:Concerts
ATTACH;FMTTYPE=image/jpeg:https://www.artsquest.org/app/uploads/2026/01/MFC_ToadWetSprocket_1920x1080.jpg
END:VEVENT
END:VCALENDAR