BEGIN:VCALENDAR
VERSION:2.0
PRODID:-//ArtsQuest - ECPv6.15.5//NONSGML v1.0//EN
CALSCALE:GREGORIAN
METHOD:PUBLISH
X-WR-CALNAME:ArtsQuest
X-ORIGINAL-URL:https://www.artsquest.org
X-WR-CALDESC:Events for ArtsQuest
REFRESH-INTERVAL;VALUE=DURATION:PT1H
X-Robots-Tag:noindex
X-PUBLISHED-TTL:PT1H
BEGIN:VTIMEZONE
TZID:America/New_York
BEGIN:DAYLIGHT
TZOFFSETFROM:-0500
TZOFFSETTO:-0400
TZNAME:EDT
DTSTART:20250309T070000
END:DAYLIGHT
BEGIN:STANDARD
TZOFFSETFROM:-0400
TZOFFSETTO:-0500
TZNAME:EST
DTSTART:20251102T060000
END:STANDARD
END:VTIMEZONE
BEGIN:VEVENT
DTSTART;TZID=America/New_York:20251201T163000
DTEND;TZID=America/New_York:20251201T180000
DTSTAMP:20260421T082907
CREATED:20251104T154926Z
LAST-MODIFIED:20251104T154926Z
UID:10002273-1764606600-1764612000@www.artsquest.org
SUMMARY:Saint Nick of Bethlehem
DESCRIPTION:
URL:https://www.artsquest.org/event/saint-nick-of-bethlehem-19/
LOCATION:Frank Banko Alehouse Cinemas\, 101 Founders Way\, Bethlehem\, PA\, 18015\, United States
CATEGORIES:Film,Holiday
ATTACH;FMTTYPE=image/jpeg:https://www.artsquest.org/app/uploads/2025/11/FILM_StNick_1200x392.jpg
END:VEVENT
BEGIN:VEVENT
DTSTART;TZID=America/New_York:20251201T133000
DTEND;TZID=America/New_York:20251201T150000
DTSTAMP:20260421T082907
CREATED:20251104T154854Z
LAST-MODIFIED:20251104T154854Z
UID:10002272-1764595800-1764601200@www.artsquest.org
SUMMARY:Saint Nick of Bethlehem
DESCRIPTION:
URL:https://www.artsquest.org/event/saint-nick-of-bethlehem-18/
LOCATION:Frank Banko Alehouse Cinemas\, 101 Founders Way\, Bethlehem\, PA\, 18015\, United States
CATEGORIES:Film,Holiday
ATTACH;FMTTYPE=image/jpeg:https://www.artsquest.org/app/uploads/2025/11/FILM_StNick_1200x392.jpg
END:VEVENT
BEGIN:VEVENT
DTSTART;TZID=America/New_York:20251130T200000
DTEND;TZID=America/New_York:20251130T213000
DTSTAMP:20260421T082907
CREATED:20251104T154748Z
LAST-MODIFIED:20251104T154748Z
UID:10002271-1764532800-1764538200@www.artsquest.org
SUMMARY:Saint Nick of Bethlehem
DESCRIPTION:
URL:https://www.artsquest.org/event/saint-nick-of-bethlehem-17/
LOCATION:Frank Banko Alehouse Cinemas\, 101 Founders Way\, Bethlehem\, PA\, 18015\, United States
CATEGORIES:Film,Holiday
ATTACH;FMTTYPE=image/jpeg:https://www.artsquest.org/app/uploads/2025/11/FILM_StNick_1200x392.jpg
END:VEVENT
BEGIN:VEVENT
DTSTART;TZID=America/New_York:20251130T170000
DTEND;TZID=America/New_York:20251130T183000
DTSTAMP:20260421T082907
CREATED:20251104T154636Z
LAST-MODIFIED:20251104T154636Z
UID:10002270-1764522000-1764527400@www.artsquest.org
SUMMARY:Saint Nick of Bethlehem
DESCRIPTION:
URL:https://www.artsquest.org/event/saint-nick-of-bethlehem-16/
LOCATION:Frank Banko Alehouse Cinemas\, 101 Founders Way\, Bethlehem\, PA\, 18015\, United States
CATEGORIES:Film,Holiday
ATTACH;FMTTYPE=image/jpeg:https://www.artsquest.org/app/uploads/2025/11/FILM_StNick_1200x392.jpg
END:VEVENT
BEGIN:VEVENT
DTSTART;TZID=America/New_York:20251130T140000
DTEND;TZID=America/New_York:20251130T153000
DTSTAMP:20260421T082907
CREATED:20251104T154554Z
LAST-MODIFIED:20251104T154554Z
UID:10002269-1764511200-1764516600@www.artsquest.org
SUMMARY:Saint Nick of Bethlehem
DESCRIPTION:
URL:https://www.artsquest.org/event/saint-nick-of-bethlehem-15/
LOCATION:Frank Banko Alehouse Cinemas\, 101 Founders Way\, Bethlehem\, PA\, 18015\, United States
CATEGORIES:Film,Holiday
ATTACH;FMTTYPE=image/jpeg:https://www.artsquest.org/app/uploads/2025/11/FILM_StNick_1200x392.jpg
END:VEVENT
BEGIN:VEVENT
DTSTART;TZID=America/New_York:20251130T110000
DTEND;TZID=America/New_York:20251130T123000
DTSTAMP:20260421T082907
CREATED:20251104T154406Z
LAST-MODIFIED:20251104T154406Z
UID:10002268-1764500400-1764505800@www.artsquest.org
SUMMARY:Saint Nick of Bethlehem
DESCRIPTION:
URL:https://www.artsquest.org/event/saint-nick-of-bethlehem-14/
LOCATION:Frank Banko Alehouse Cinemas\, 101 Founders Way\, Bethlehem\, PA\, 18015\, United States
CATEGORIES:Film,Holiday
ATTACH;FMTTYPE=image/jpeg:https://www.artsquest.org/app/uploads/2025/11/FILM_StNick_1200x392.jpg
END:VEVENT
BEGIN:VEVENT
DTSTART;TZID=America/New_York:20251129T200000
DTEND;TZID=America/New_York:20251129T213000
DTSTAMP:20260421T082907
CREATED:20251104T154307Z
LAST-MODIFIED:20251104T154307Z
UID:10002267-1764446400-1764451800@www.artsquest.org
SUMMARY:Saint Nick of Bethlehem
DESCRIPTION:
URL:https://www.artsquest.org/event/saint-nick-of-bethlehem-13/
LOCATION:Frank Banko Alehouse Cinemas\, 101 Founders Way\, Bethlehem\, PA\, 18015\, United States
CATEGORIES:Film,Holiday
ATTACH;FMTTYPE=image/jpeg:https://www.artsquest.org/app/uploads/2025/11/FILM_StNick_1200x392.jpg
END:VEVENT
BEGIN:VEVENT
DTSTART;TZID=America/New_York:20251129T170000
DTEND;TZID=America/New_York:20251129T183000
DTSTAMP:20260421T082907
CREATED:20251104T154238Z
LAST-MODIFIED:20251104T154238Z
UID:10002266-1764435600-1764441000@www.artsquest.org
SUMMARY:Saint Nick of Bethlehem
DESCRIPTION:
URL:https://www.artsquest.org/event/saint-nick-of-bethlehem-12/
LOCATION:Frank Banko Alehouse Cinemas\, 101 Founders Way\, Bethlehem\, PA\, 18015\, United States
CATEGORIES:Film,Holiday
ATTACH;FMTTYPE=image/jpeg:https://www.artsquest.org/app/uploads/2025/11/FILM_StNick_1200x392.jpg
END:VEVENT
BEGIN:VEVENT
DTSTART;TZID=America/New_York:20251129T140000
DTEND;TZID=America/New_York:20251129T153000
DTSTAMP:20260421T082907
CREATED:20251104T154158Z
LAST-MODIFIED:20251104T154158Z
UID:10002265-1764424800-1764430200@www.artsquest.org
SUMMARY:Saint Nick of Bethlehem
DESCRIPTION:
URL:https://www.artsquest.org/event/saint-nick-of-bethlehem-11/
LOCATION:Frank Banko Alehouse Cinemas\, 101 Founders Way\, Bethlehem\, PA\, 18015\, United States
CATEGORIES:Film,Holiday
ATTACH;FMTTYPE=image/jpeg:https://www.artsquest.org/app/uploads/2025/11/FILM_StNick_1200x392.jpg
END:VEVENT
BEGIN:VEVENT
DTSTART;TZID=America/New_York:20251129T110000
DTEND;TZID=America/New_York:20251129T123000
DTSTAMP:20260421T082907
CREATED:20251104T153933Z
LAST-MODIFIED:20251104T153933Z
UID:10002264-1764414000-1764419400@www.artsquest.org
SUMMARY:Saint Nick of Bethlehem
DESCRIPTION:
URL:https://www.artsquest.org/event/saint-nick-of-bethlehem-10/
LOCATION:Frank Banko Alehouse Cinemas\, 101 Founders Way\, Bethlehem\, PA\, 18015\, United States
CATEGORIES:Film,Holiday
ATTACH;FMTTYPE=image/jpeg:https://www.artsquest.org/app/uploads/2025/11/FILM_StNick_1200x392.jpg
END:VEVENT
BEGIN:VEVENT
DTSTART;TZID=America/New_York:20251128T200000
DTEND;TZID=America/New_York:20251128T213000
DTSTAMP:20260421T082907
CREATED:20251104T153859Z
LAST-MODIFIED:20251104T153859Z
UID:10002263-1764360000-1764365400@www.artsquest.org
SUMMARY:Saint Nick of Bethlehem
DESCRIPTION:
URL:https://www.artsquest.org/event/saint-nick-of-bethlehem-9/
LOCATION:Frank Banko Alehouse Cinemas\, 101 Founders Way\, Bethlehem\, PA\, 18015\, United States
CATEGORIES:Film,Holiday
ATTACH;FMTTYPE=image/jpeg:https://www.artsquest.org/app/uploads/2025/11/FILM_StNick_1200x392.jpg
END:VEVENT
BEGIN:VEVENT
DTSTART;TZID=America/New_York:20251128T170000
DTEND;TZID=America/New_York:20251128T183000
DTSTAMP:20260421T082907
CREATED:20251104T153808Z
LAST-MODIFIED:20251104T153808Z
UID:10002262-1764349200-1764354600@www.artsquest.org
SUMMARY:Saint Nick of Bethlehem
DESCRIPTION:
URL:https://www.artsquest.org/event/saint-nick-of-bethlehem-8/
LOCATION:Frank Banko Alehouse Cinemas\, 101 Founders Way\, Bethlehem\, PA\, 18015\, United States
CATEGORIES:Film,Holiday
ATTACH;FMTTYPE=image/jpeg:https://www.artsquest.org/app/uploads/2025/11/FILM_StNick_1200x392.jpg
END:VEVENT
BEGIN:VEVENT
DTSTART;TZID=America/New_York:20251128T140000
DTEND;TZID=America/New_York:20251128T153000
DTSTAMP:20260421T082907
CREATED:20251104T153731Z
LAST-MODIFIED:20251104T153731Z
UID:10002261-1764338400-1764343800@www.artsquest.org
SUMMARY:Saint Nick of Bethlehem
DESCRIPTION:
URL:https://www.artsquest.org/event/saint-nick-of-bethlehem-7/
LOCATION:Frank Banko Alehouse Cinemas\, 101 Founders Way\, Bethlehem\, PA\, 18015\, United States
CATEGORIES:Film,Holiday
ATTACH;FMTTYPE=image/jpeg:https://www.artsquest.org/app/uploads/2025/11/FILM_StNick_1200x392.jpg
END:VEVENT
BEGIN:VEVENT
DTSTART;TZID=America/New_York:20251128T110000
DTEND;TZID=America/New_York:20251128T123000
DTSTAMP:20260421T082907
CREATED:20251104T153638Z
LAST-MODIFIED:20251104T153638Z
UID:10002260-1764327600-1764333000@www.artsquest.org
SUMMARY:Saint Nick of Bethlehem
DESCRIPTION:
URL:https://www.artsquest.org/event/saint-nick-of-bethlehem-6/
LOCATION:Frank Banko Alehouse Cinemas\, 101 Founders Way\, Bethlehem\, PA\, 18015\, United States
CATEGORIES:Film,Holiday
ATTACH;FMTTYPE=image/jpeg:https://www.artsquest.org/app/uploads/2025/11/FILM_StNick_1200x392.jpg
END:VEVENT
BEGIN:VEVENT
DTSTART;TZID=America/New_York:20251127T213000
DTEND;TZID=America/New_York:20251127T230000
DTSTAMP:20260421T082907
CREATED:20251104T153024Z
LAST-MODIFIED:20251104T153550Z
UID:10002259-1764279000-1764284400@www.artsquest.org
SUMMARY:Saint Nick of Bethlehem
DESCRIPTION:
URL:https://www.artsquest.org/event/saint-nick-of-bethlehem-5/
LOCATION:Frank Banko Alehouse Cinemas\, 101 Founders Way\, Bethlehem\, PA\, 18015\, United States
CATEGORIES:Film,Holiday
ATTACH;FMTTYPE=image/jpeg:https://www.artsquest.org/app/uploads/2025/11/FILM_StNick_1200x392.jpg
END:VEVENT
BEGIN:VEVENT
DTSTART;TZID=America/New_York:20251127T183000
DTEND;TZID=America/New_York:20251127T201500
DTSTAMP:20260421T082907
CREATED:20251104T152915Z
LAST-MODIFIED:20251104T152915Z
UID:10002258-1764268200-1764274500@www.artsquest.org
SUMMARY:Saint Nick of Bethlehem
DESCRIPTION:
URL:https://www.artsquest.org/event/saint-nick-of-bethlehem-4/
LOCATION:Frank Banko Alehouse Cinemas\, 101 Founders Way\, Bethlehem\, PA\, 18015\, United States
CATEGORIES:Film,Holiday
ATTACH;FMTTYPE=image/jpeg:https://www.artsquest.org/app/uploads/2025/11/FILM_StNick_1200x392.jpg
END:VEVENT
BEGIN:VEVENT
DTSTART;TZID=America/New_York:20251126T200000
DTEND;TZID=America/New_York:20251126T220000
DTSTAMP:20260421T082907
CREATED:20251104T152634Z
LAST-MODIFIED:20251110T164816Z
UID:10002257-1764187200-1764194400@www.artsquest.org
SUMMARY:Saint Nick of Bethlehem feat. Q&A with Daniel Roebuck & Tammy Roebuck
DESCRIPTION:
URL:https://www.artsquest.org/event/saint-nick-of-bethlehem-3/
LOCATION:Frank Banko Alehouse Cinemas\, 101 Founders Way\, Bethlehem\, PA\, 18015\, United States
CATEGORIES:Film,Holiday
ATTACH;FMTTYPE=image/jpeg:https://www.artsquest.org/app/uploads/2025/11/FILM_StNick_1200x392.jpg
END:VEVENT
BEGIN:VEVENT
DTSTART;TZID=America/New_York:20251126T164500
DTEND;TZID=America/New_York:20251126T181500
DTSTAMP:20260421T082907
CREATED:20251104T152521Z
LAST-MODIFIED:20251104T152810Z
UID:10002256-1764175500-1764180900@www.artsquest.org
SUMMARY:Saint Nick of Bethlehem
DESCRIPTION:
URL:https://www.artsquest.org/event/saint-nick-of-bethlehem-2/
LOCATION:Frank Banko Alehouse Cinemas\, 101 Founders Way\, Bethlehem\, PA\, 18015\, United States
CATEGORIES:Film,Holiday
ATTACH;FMTTYPE=image/jpeg:https://www.artsquest.org/app/uploads/2025/11/FILM_StNick_1200x392.jpg
END:VEVENT
BEGIN:VEVENT
DTSTART;TZID=America/New_York:20251126T133000
DTEND;TZID=America/New_York:20251126T150000
DTSTAMP:20260421T082907
CREATED:20251104T151454Z
LAST-MODIFIED:20251104T152722Z
UID:10002255-1764163800-1764169200@www.artsquest.org
SUMMARY:Saint Nick of Bethlehem
DESCRIPTION:
URL:https://www.artsquest.org/event/saint-nick-of-bethlehem/
LOCATION:Frank Banko Alehouse Cinemas\, 101 Founders Way\, Bethlehem\, PA\, 18015\, United States
CATEGORIES:Film,Holiday
ATTACH;FMTTYPE=image/jpeg:https://www.artsquest.org/app/uploads/2025/11/FILM_StNick_1200x392.jpg
END:VEVENT
END:VCALENDAR