BEGIN:VCALENDAR
VERSION:2.0
PRODID:-//ArtsQuest - ECPv6.15.5//NONSGML v1.0//EN
CALSCALE:GREGORIAN
METHOD:PUBLISH
X-WR-CALNAME:ArtsQuest
X-ORIGINAL-URL:https://www.artsquest.org
X-WR-CALDESC:Events for ArtsQuest
REFRESH-INTERVAL;VALUE=DURATION:PT1H
X-Robots-Tag:noindex
X-PUBLISHED-TTL:PT1H
BEGIN:VTIMEZONE
TZID:America/New_York
BEGIN:DAYLIGHT
TZOFFSETFROM:-0500
TZOFFSETTO:-0400
TZNAME:EDT
DTSTART:20260308T070000
END:DAYLIGHT
BEGIN:STANDARD
TZOFFSETFROM:-0400
TZOFFSETTO:-0500
TZNAME:EST
DTSTART:20261101T060000
END:STANDARD
END:VTIMEZONE
BEGIN:VEVENT
DTSTART;TZID=America/New_York:20260423T193000
DTEND;TZID=America/New_York:20260423T220000
DTSTAMP:20260424T080314
CREATED:20251013T144558Z
LAST-MODIFIED:20260318T140515Z
UID:10002036-1776972600-1776981600@www.artsquest.org
SUMMARY:FEMMES OF ROCK
DESCRIPTION:
URL:https://www.artsquest.org/event/femmes-of-rock/
LOCATION:Musikfest Café\, 101 Founders Way\, Bethlehem\, PA\, 18015\, United States
CATEGORIES:Concerts
ATTACH;FMTTYPE=image/jpeg:https://www.artsquest.org/app/uploads/2025/10/MFC_FemmesOfRock2_1920x1080.jpg
END:VEVENT
BEGIN:VEVENT
DTSTART;TZID=America/New_York:20260423T150000
DTEND;TZID=America/New_York:20260423T180000
DTSTAMP:20260424T080314
CREATED:20250903T222600Z
LAST-MODIFIED:20260305T202132Z
UID:10002705-1776956400-1776967200@www.artsquest.org
SUMMARY:Open Mic Night
DESCRIPTION:
URL:https://www.artsquest.org/event/open-mic-night-2/2026-04-23/
LOCATION:Williams Brew Stage\, 101 Founders Way\, Bethlehem\, PA\, 18015\, United States
CATEGORIES:Concerts,Free
ATTACH;FMTTYPE=image/jpeg:https://www.artsquest.org/app/uploads/2025/09/WBS_OpenMicNight_1920x1080.jpg
END:VEVENT
BEGIN:VEVENT
DTSTART;TZID=America/New_York:20260418T190000
DTEND;TZID=America/New_York:20260418T220000
DTSTAMP:20260424T080314
CREATED:20260126T180214Z
LAST-MODIFIED:20260126T184147Z
UID:10003019-1776538800-1776549600@www.artsquest.org
SUMMARY:Chuck Rissmiller
DESCRIPTION:
URL:https://www.artsquest.org/event/chuck-rissmiller-2/
LOCATION:Williams Brew Stage\, 101 Founders Way\, Bethlehem\, PA\, 18015\, United States
CATEGORIES:Concerts,Free
ATTACH;FMTTYPE=image/jpeg:https://www.artsquest.org/app/uploads/2026/01/WBS_ChuckRissmiller_1200x392.jpg
END:VEVENT
BEGIN:VEVENT
DTSTART;TZID=America/New_York:20260417T193000
DTEND;TZID=America/New_York:20260417T220000
DTSTAMP:20260424T080314
CREATED:20251007T190420Z
LAST-MODIFIED:20260126T180041Z
UID:10001701-1776454200-1776463200@www.artsquest.org
SUMMARY:The BriTles
DESCRIPTION:
URL:https://www.artsquest.org/event/the-britles/
LOCATION:Williams Brew Stage\, 101 Founders Way\, Bethlehem\, PA\, 18015\, United States
CATEGORIES:Concerts,Free
ATTACH;FMTTYPE=image/jpeg:https://www.artsquest.org/app/uploads/2025/10/PNP_TheBritles_1200x392.jpg
END:VEVENT
BEGIN:VEVENT
DTSTART;TZID=America/New_York:20260417T173000
DTEND;TZID=America/New_York:20260417T181500
DTSTAMP:20260424T080314
CREATED:20251230T161517Z
LAST-MODIFIED:20260414T202404Z
UID:10002731-1776447000-1776449700@www.artsquest.org
SUMMARY:Adeline Csontos
DESCRIPTION:
URL:https://www.artsquest.org/event/adeline-csontos/
LOCATION:Williams Brew Stage\, 101 Founders Way\, Bethlehem\, PA\, 18015\, United States
CATEGORIES:Concerts,Free
ATTACH;FMTTYPE=image/jpeg:https://www.artsquest.org/app/uploads/2025/11/WBS_AdelineCsontos_1200x392.jpg
END:VEVENT
BEGIN:VEVENT
DTSTART;TZID=America/New_York:20260416T150000
DTEND;TZID=America/New_York:20260416T180000
DTSTAMP:20260424T080314
CREATED:20250903T214531Z
LAST-MODIFIED:20260402T203231Z
UID:10002696-1776351600-1776362400@www.artsquest.org
SUMMARY:Jazz Jam
DESCRIPTION:
URL:https://www.artsquest.org/event/jazz-jam/2026-04-16/
LOCATION:Williams Brew Stage\, 101 Founders Way\, Bethlehem\, PA\, 18015\, United States
CATEGORIES:Concerts,Free
ATTACH;FMTTYPE=image/jpeg:https://www.artsquest.org/app/uploads/2025/09/WBS_JazzJam_1920x1080.jpg
END:VEVENT
BEGIN:VEVENT
DTSTART;TZID=America/New_York:20260411T193000
DTEND;TZID=America/New_York:20260411T220000
DTSTAMP:20260424T080314
CREATED:20260112T150042Z
LAST-MODIFIED:20260127T201345Z
UID:10002848-1775935800-1775944800@www.artsquest.org
SUMMARY:Maniya: Covered in Soul hosted by Rudy Rush
DESCRIPTION:
URL:https://www.artsquest.org/event/maniya-covered-in-soul-hosted-by-rudy-rush/
LOCATION:Fowler Blast Furnace Room\, 101 Founders Way\, Bethlehem\, PA\, 18015\, United States
CATEGORIES:Concerts
ATTACH;FMTTYPE=image/jpeg:https://www.artsquest.org/app/uploads/2026/01/BFR_Maniya_1200x392.jpg
END:VEVENT
BEGIN:VEVENT
DTSTART;TZID=America/New_York:20260411T190000
DTEND;TZID=America/New_York:20260411T220000
DTSTAMP:20260424T080314
CREATED:20251027T175700Z
LAST-MODIFIED:20260126T182330Z
UID:10002151-1775934000-1775944800@www.artsquest.org
SUMMARY:Island Time Lite
DESCRIPTION:
URL:https://www.artsquest.org/event/island-time-lite/
LOCATION:Williams Brew Stage\, 101 Founders Way\, Bethlehem\, PA\, 18015\, United States
CATEGORIES:Concerts,Free
ATTACH;FMTTYPE=image/jpeg:https://www.artsquest.org/app/uploads/2025/10/WBS_itl_1200x392.jpg
END:VEVENT
BEGIN:VEVENT
DTSTART;TZID=America/New_York:20260410T200000
DTEND;TZID=America/New_York:20260410T230000
DTSTAMP:20260424T080314
CREATED:20260126T175700Z
LAST-MODIFIED:20260126T183331Z
UID:10003018-1775851200-1775862000@www.artsquest.org
SUMMARY:Ted Donatelli
DESCRIPTION:
URL:https://www.artsquest.org/event/ted-donatelli-3/
LOCATION:Williams Brew Stage\, 101 Founders Way\, Bethlehem\, PA\, 18015\, United States
CATEGORIES:Concerts,Free
ATTACH;FMTTYPE=image/jpeg:https://www.artsquest.org/app/uploads/2026/01/WBS_TedDonatelli_1200x392.jpg
END:VEVENT
BEGIN:VEVENT
DTSTART;TZID=America/New_York:20260410T193000
DTEND;TZID=America/New_York:20260410T220000
DTSTAMP:20260424T080314
CREATED:20251203T150024Z
LAST-MODIFIED:20260331T205405Z
UID:10002466-1775849400-1775858400@www.artsquest.org
SUMMARY:Pink Talking Fish - A Fusion of Pink Floyd\, Talking Heads and Phish
DESCRIPTION:
URL:https://www.artsquest.org/event/pink-talking-fish-a-fusion-of-pink-floyd-talking-heads-and-phish/
LOCATION:Musikfest Café\, 101 Founders Way\, Bethlehem\, PA\, 18015\, United States
CATEGORIES:Concerts
ATTACH;FMTTYPE=image/jpeg:https://www.artsquest.org/app/uploads/2025/12/2026_PTF_FALL_R3_1920x1005.jpg
END:VEVENT
BEGIN:VEVENT
DTSTART;TZID=America/New_York:20260410T173000
DTEND;TZID=America/New_York:20260410T193000
DTSTAMP:20260424T080314
CREATED:20260126T175511Z
LAST-MODIFIED:20260126T175511Z
UID:10003017-1775842200-1775849400@www.artsquest.org
SUMMARY:Jeiris Cook
DESCRIPTION:
URL:https://www.artsquest.org/event/jeiris-cook/
LOCATION:Williams Brew Stage\, 101 Founders Way\, Bethlehem\, PA\, 18015\, United States
CATEGORIES:Concerts,Free
ATTACH;FMTTYPE=image/jpeg:https://www.artsquest.org/app/uploads/2026/01/WBS_JeirisCook_1200x392.jpg
END:VEVENT
BEGIN:VEVENT
DTSTART;TZID=America/New_York:20260409T150000
DTEND;TZID=America/New_York:20260409T180000
DTSTAMP:20260424T080314
CREATED:20250903T222600Z
LAST-MODIFIED:20260305T202132Z
UID:10002704-1775746800-1775757600@www.artsquest.org
SUMMARY:Open Mic Night
DESCRIPTION:
URL:https://www.artsquest.org/event/open-mic-night-2/2026-04-09/
LOCATION:Williams Brew Stage\, 101 Founders Way\, Bethlehem\, PA\, 18015\, United States
CATEGORIES:Concerts,Free
ATTACH;FMTTYPE=image/jpeg:https://www.artsquest.org/app/uploads/2025/09/WBS_OpenMicNight_1920x1080.jpg
END:VEVENT
BEGIN:VEVENT
DTSTART;TZID=America/New_York:20260404T200000
DTEND;TZID=America/New_York:20260404T230000
DTSTAMP:20260424T080314
CREATED:20251222T200450Z
LAST-MODIFIED:20260126T182954Z
UID:10002719-1775332800-1775343600@www.artsquest.org
SUMMARY:BC Blue
DESCRIPTION:
URL:https://www.artsquest.org/event/bc-blue/
LOCATION:Williams Brew Stage\, 101 Founders Way\, Bethlehem\, PA\, 18015\, United States
CATEGORIES:Concerts,Free
ATTACH;FMTTYPE=image/jpeg:https://www.artsquest.org/app/uploads/2025/12/WBS_BCBlue_1200x392-1.jpg
END:VEVENT
BEGIN:VEVENT
DTSTART;TZID=America/New_York:20260404T193000
DTEND;TZID=America/New_York:20260404T220000
DTSTAMP:20260424T080314
CREATED:20251024T185808Z
LAST-MODIFIED:20260331T205308Z
UID:10002140-1775331000-1775340000@www.artsquest.org
SUMMARY:The British Invasion Years - A '60's Musical Revolution
DESCRIPTION:https://secure.artsquest.org/Online/mapSelect.asp?doWork::WSmap::loadMap=Load&createBO::WSmap=1&BOparam::WSmap::loadMap::performance_ids=35D19BD5-246F-4217-8175-E557CE8074FF
URL:https://www.artsquest.org/event/the-british-invasion-years-a-60s-musical-revolution/
LOCATION:Musikfest Café\, 101 Founders Way\, Bethlehem\, PA\, 18015\, United States
CATEGORIES:Concerts
ATTACH;FMTTYPE=image/jpeg:https://www.artsquest.org/app/uploads/2025/10/MFC_BritishInvasion_1920x1080.jpg
END:VEVENT
BEGIN:VEVENT
DTSTART;TZID=America/New_York:20260404T173000
DTEND;TZID=America/New_York:20260404T193000
DTSTAMP:20260424T080314
CREATED:20251104T141032Z
LAST-MODIFIED:20260318T134803Z
UID:10002251-1775323800-1775331000@www.artsquest.org
SUMMARY:The ColourSound
DESCRIPTION:
URL:https://www.artsquest.org/event/the-coloursound/
LOCATION:Williams Brew Stage\, 101 Founders Way\, Bethlehem\, PA\, 18015\, United States
CATEGORIES:Concerts,Free
ATTACH;FMTTYPE=image/jpeg:https://www.artsquest.org/app/uploads/2025/11/WBS_ColourSound_1920x1080.jpg
END:VEVENT
BEGIN:VEVENT
DTSTART;TZID=America/New_York:20260403T200000
DTEND;TZID=America/New_York:20260403T230000
DTSTAMP:20260424T080314
CREATED:20260227T175207Z
LAST-MODIFIED:20260227T175715Z
UID:10003383-1775246400-1775257200@www.artsquest.org
SUMMARY:DJ Nights – Emo Night
DESCRIPTION:
URL:https://www.artsquest.org/event/dj-nights-emo-night/
LOCATION:Williams Brew Stage\, 101 Founders Way\, Bethlehem\, PA\, 18015\, United States
CATEGORIES:Concerts,Free
ATTACH;FMTTYPE=image/jpeg:https://www.artsquest.org/app/uploads/2026/02/emo-popnights_1920x1080-scaled.jpg
END:VEVENT
BEGIN:VEVENT
DTSTART;TZID=America/New_York:20260403T193000
DTEND;TZID=America/New_York:20260403T223000
DTSTAMP:20260424T080314
CREATED:20251006T172050Z
LAST-MODIFIED:20251217T175056Z
UID:10001512-1775244600-1775255400@www.artsquest.org
SUMMARY:Mamma Mania! - The American Tribute to ABBA
DESCRIPTION:
URL:https://www.artsquest.org/event/mamma-mania-the-american-tribute-to-abba/
LOCATION:Musikfest Café\, 101 Founders Way\, Bethlehem\, PA\, 18015\, United States
CATEGORIES:Concerts
ATTACH;FMTTYPE=image/jpeg:https://www.artsquest.org/app/uploads/2025/10/MFC_MammaMania_1200x392.jpg
END:VEVENT
BEGIN:VEVENT
DTSTART;TZID=America/New_York:20260403T173000
DTEND;TZID=America/New_York:20260403T193000
DTSTAMP:20260424T080314
CREATED:20260126T174713Z
LAST-MODIFIED:20260127T144113Z
UID:10003014-1775237400-1775244600@www.artsquest.org
SUMMARY:Joe Lazorik
DESCRIPTION:
URL:https://www.artsquest.org/event/joe-lazorik/
LOCATION:Williams Brew Stage\, 101 Founders Way\, Bethlehem\, PA\, 18015\, United States
CATEGORIES:Concerts,Free
ATTACH;FMTTYPE=image/jpeg:https://www.artsquest.org/app/uploads/2026/01/WBS_Lazorik_1200x392.jpg
END:VEVENT
BEGIN:VEVENT
DTSTART;TZID=America/New_York:20260402T150000
DTEND;TZID=America/New_York:20260402T180000
DTSTAMP:20260424T080314
CREATED:20250903T214531Z
LAST-MODIFIED:20260402T203231Z
UID:10002695-1775142000-1775152800@www.artsquest.org
SUMMARY:Jazz Jam
DESCRIPTION:
URL:https://www.artsquest.org/event/jazz-jam/2026-04-02/
LOCATION:Williams Brew Stage\, 101 Founders Way\, Bethlehem\, PA\, 18015\, United States
CATEGORIES:Concerts,Free
ATTACH;FMTTYPE=image/jpeg:https://www.artsquest.org/app/uploads/2025/09/WBS_JazzJam_1920x1080.jpg
END:VEVENT
BEGIN:VEVENT
DTSTART;TZID=America/New_York:20260329T140000
DTEND;TZID=America/New_York:20260329T163000
DTSTAMP:20260424T080314
CREATED:20260318T140027Z
LAST-MODIFIED:20260323T194046Z
UID:10003596-1774792800-1774801800@www.artsquest.org
SUMMARY:SteelStacks High School Jazz Band Showcase Finals
DESCRIPTION:
URL:https://www.artsquest.org/event/steelstacks-high-school-jazz-band-showcase-finals/
LOCATION:Musikfest Café\, 101 Founders Way\, Bethlehem\, PA\, 18015\, United States
CATEGORIES:Concerts
ATTACH;FMTTYPE=image/jpeg:https://www.artsquest.org/app/uploads/2026/01/MFC_JazzBandShowcase1200x392.jpg
END:VEVENT
BEGIN:VEVENT
DTSTART;TZID=America/New_York:20260328T190000
DTEND;TZID=America/New_York:20260328T220000
DTSTAMP:20260424T080314
CREATED:20260109T165446Z
LAST-MODIFIED:20260317T155656Z
UID:10002858-1774724400-1774735200@www.artsquest.org
SUMMARY:Honey & Nutz
DESCRIPTION:
URL:https://www.artsquest.org/event/honey-nutz-2/
LOCATION:Williams Brew Stage\, 101 Founders Way\, Bethlehem\, PA\, 18015\, United States
CATEGORIES:Concerts,Free
ATTACH;FMTTYPE=image/jpeg:https://www.artsquest.org/app/uploads/2026/01/WBS_HoneYnNutz1920x1080.jpg
END:VEVENT
BEGIN:VEVENT
DTSTART;TZID=America/New_York:20260327T200000
DTEND;TZID=America/New_York:20260327T230000
DTSTAMP:20260424T080314
CREATED:20260109T165309Z
LAST-MODIFIED:20260109T165309Z
UID:10002857-1774641600-1774652400@www.artsquest.org
SUMMARY:Ceviche Duo
DESCRIPTION:
URL:https://www.artsquest.org/event/ceviche-duo-2/
LOCATION:Williams Brew Stage\, 101 Founders Way\, Bethlehem\, PA\, 18015\, United States
CATEGORIES:Concerts,Free
ATTACH;FMTTYPE=image/jpeg:https://www.artsquest.org/app/uploads/2025/12/WBS_ceviche_1200x392.jpg
END:VEVENT
BEGIN:VEVENT
DTSTART;TZID=America/New_York:20260327T193000
DTEND;TZID=America/New_York:20260327T220000
DTSTAMP:20260424T080314
CREATED:20251024T184314Z
LAST-MODIFIED:20260318T142218Z
UID:10002139-1774639800-1774648800@www.artsquest.org
SUMMARY:EagleMania - The World’s Greatest Eagles Tribute Band
DESCRIPTION:
URL:https://www.artsquest.org/event/eaglemania-the-worlds-greatest-eagles-tribute-band/
LOCATION:Musikfest Café\, 101 Founders Way\, Bethlehem\, PA\, 18015\, United States
CATEGORIES:Concerts
ATTACH;FMTTYPE=image/jpeg:https://www.artsquest.org/app/uploads/2025/10/MFC_EM_1920x1080-1.jpg
END:VEVENT
BEGIN:VEVENT
DTSTART;TZID=America/New_York:20260327T173000
DTEND;TZID=America/New_York:20260327T193000
DTSTAMP:20260424T080314
CREATED:20260109T165121Z
LAST-MODIFIED:20260109T165347Z
UID:10002856-1774632600-1774639800@www.artsquest.org
SUMMARY:Matt Bednarsky
DESCRIPTION:
URL:https://www.artsquest.org/event/matt-bednarsky/
LOCATION:Williams Brew Stage\, 101 Founders Way\, Bethlehem\, PA\, 18015\, United States
CATEGORIES:Concerts,Free
ATTACH;FMTTYPE=image/jpeg:https://www.artsquest.org/app/uploads/2026/01/WBS_MattBednarskyl_1200x392-1.jpg
END:VEVENT
BEGIN:VEVENT
DTSTART;TZID=America/New_York:20260326T150000
DTEND;TZID=America/New_York:20260326T180000
DTSTAMP:20260424T080314
CREATED:20250903T222600Z
LAST-MODIFIED:20260305T202132Z
UID:10002703-1774537200-1774548000@www.artsquest.org
SUMMARY:Open Mic Night
DESCRIPTION:
URL:https://www.artsquest.org/event/open-mic-night-2/2026-03-26/
LOCATION:Williams Brew Stage\, 101 Founders Way\, Bethlehem\, PA\, 18015\, United States
CATEGORIES:Concerts,Free
ATTACH;FMTTYPE=image/jpeg:https://www.artsquest.org/app/uploads/2025/09/WBS_OpenMicNight_1920x1080.jpg
END:VEVENT
BEGIN:VEVENT
DTSTART;TZID=America/New_York:20260321T193000
DTEND;TZID=America/New_York:20260321T220000
DTSTAMP:20260424T080314
CREATED:20260123T150028Z
LAST-MODIFIED:20260205T162432Z
UID:10003008-1774121400-1774130400@www.artsquest.org
SUMMARY:INDIE CERTIFIED Presents Trinidad Jame$
DESCRIPTION:
URL:https://www.artsquest.org/event/indie-certified-presents-trinidad-jame/
LOCATION:Fowler Blast Furnace Room\, 101 Founders Way\, Bethlehem\, PA\, 18015\, United States
CATEGORIES:Concerts
ATTACH;FMTTYPE=image/jpeg:https://www.artsquest.org/app/uploads/2026/01/BFR_INDIECERTIFIED1200x392.jpg
END:VEVENT
BEGIN:VEVENT
DTSTART;TZID=America/New_York:20260321T193000
DTEND;TZID=America/New_York:20260321T220000
DTSTAMP:20260424T080314
CREATED:20251006T173747Z
LAST-MODIFIED:20260305T204819Z
UID:10001513-1774121400-1774130400@www.artsquest.org
SUMMARY:An Evening with Tom Rush accompanied by Brendan Cleary
DESCRIPTION:
URL:https://www.artsquest.org/event/an-evening-with-tom-rush-accompanied-by-brendan-cleary/
LOCATION:Musikfest Café\, 101 Founders Way\, Bethlehem\, PA\, 18015\, United States
CATEGORIES:Concerts
ATTACH;FMTTYPE=image/jpeg:https://www.artsquest.org/app/uploads/2025/10/MFC_TomRush_1920x1080.jpg
END:VEVENT
BEGIN:VEVENT
DTSTART;TZID=America/New_York:20260321T190000
DTEND;TZID=America/New_York:20260321T220000
DTSTAMP:20260424T080314
CREATED:20260129T195939Z
LAST-MODIFIED:20260317T203105Z
UID:10003064-1774119600-1774130400@www.artsquest.org
SUMMARY:RadioOne
DESCRIPTION:
URL:https://www.artsquest.org/event/radioone/
LOCATION:Williams Brew Stage\, 101 Founders Way\, Bethlehem\, PA\, 18015\, United States
CATEGORIES:Concerts,Free
ATTACH;FMTTYPE=image/jpeg:https://www.artsquest.org/app/uploads/2026/01/WBS_RadioOne2_1920x1080.jpg
END:VEVENT
BEGIN:VEVENT
DTSTART;TZID=America/New_York:20260320T190000
DTEND;TZID=America/New_York:20260320T220000
DTSTAMP:20260424T080314
CREATED:20260109T164402Z
LAST-MODIFIED:20260126T182216Z
UID:10002855-1774033200-1774044000@www.artsquest.org
SUMMARY:Rock Steady
DESCRIPTION:
URL:https://www.artsquest.org/event/rock-steady-2/
LOCATION:Williams Brew Stage\, 101 Founders Way\, Bethlehem\, PA\, 18015\, United States
CATEGORIES:Concerts,Free
ATTACH;FMTTYPE=image/jpeg:https://www.artsquest.org/app/uploads/2025/10/WBS_RockSteady_1200x392.jpg
END:VEVENT
BEGIN:VEVENT
DTSTART;TZID=America/New_York:20260319T193000
DTEND;TZID=America/New_York:20260319T220000
DTSTAMP:20260424T080314
CREATED:20251015T140339Z
LAST-MODIFIED:20260305T204433Z
UID:10002037-1773948600-1773957600@www.artsquest.org
SUMMARY:ZZ WARD
DESCRIPTION:
URL:https://www.artsquest.org/event/zz-ward/
LOCATION:Musikfest Café\, 101 Founders Way\, Bethlehem\, PA\, 18015\, United States
CATEGORIES:Concerts
ATTACH;FMTTYPE=image/jpeg:https://www.artsquest.org/app/uploads/2025/10/MFC_ZZWard_1920x1080-1.jpg
END:VEVENT
END:VCALENDAR