BEGIN:VCALENDAR
VERSION:2.0
PRODID:-//ArtsQuest - ECPv6.15.5//NONSGML v1.0//EN
CALSCALE:GREGORIAN
METHOD:PUBLISH
X-WR-CALNAME:ArtsQuest
X-ORIGINAL-URL:https://www.artsquest.org
X-WR-CALDESC:Events for ArtsQuest
REFRESH-INTERVAL;VALUE=DURATION:PT1H
X-Robots-Tag:noindex
X-PUBLISHED-TTL:PT1H
BEGIN:VTIMEZONE
TZID:America/New_York
BEGIN:DAYLIGHT
TZOFFSETFROM:-0500
TZOFFSETTO:-0400
TZNAME:EDT
DTSTART:20260308T070000
END:DAYLIGHT
BEGIN:STANDARD
TZOFFSETFROM:-0400
TZOFFSETTO:-0500
TZNAME:EST
DTSTART:20261101T060000
END:STANDARD
END:VTIMEZONE
BEGIN:VEVENT
DTSTART;TZID=America/New_York:20260722T183000
DTEND;TZID=America/New_York:20260722T202000
DTSTAMP:20260423T022821
CREATED:20260330T162849Z
LAST-MODIFIED:20260414T142713Z
UID:10004026-1784745000-1784751600@www.artsquest.org
SUMMARY:Paddington in Peru
DESCRIPTION:
URL:https://www.artsquest.org/event/paddington-in-peru/
LOCATION:Levitt Pavilion SteelStacks\, 789 E 1st St\, Bethlehem\, PA\, 18015
CATEGORIES:Film
ATTACH;FMTTYPE=image/jpeg:https://www.artsquest.org/app/uploads/2026/03/FILM_Paddington_1920x1080.jpg
END:VEVENT
BEGIN:VEVENT
DTSTART;TZID=America/New_York:20260722T191500
DTEND;TZID=America/New_York:20260722T212500
DTSTAMP:20260423T022821
CREATED:20260312T140020Z
LAST-MODIFIED:20260312T165636Z
UID:10003533-1784747700-1784755500@www.artsquest.org
SUMMARY:Selena
DESCRIPTION:
URL:https://www.artsquest.org/event/selena/
LOCATION:Frank Banko Alehouse Cinemas\, 101 Founders Way\, Bethlehem\, PA\, 18015\, United States
CATEGORIES:Film
ATTACH;FMTTYPE=image/jpeg:https://www.artsquest.org/app/uploads/2026/03/FILM_Selena_1920x1080.jpg
END:VEVENT
BEGIN:VEVENT
DTSTART;TZID=America/New_York:20260725T130000
DTEND;TZID=America/New_York:20260725T143800
DTSTAMP:20260423T022821
CREATED:20260409T140050Z
LAST-MODIFIED:20260408T162122Z
UID:10004161-1784984400-1784990280@www.artsquest.org
SUMMARY:Forbidden Planet (70th Anniversary)
DESCRIPTION:
URL:https://www.artsquest.org/event/forbidden-planet-70th-anniversary/
LOCATION:Frank Banko Alehouse Cinemas\, 101 Founders Way\, Bethlehem\, PA\, 18015\, United States
CATEGORIES:Film
ATTACH;FMTTYPE=image/jpeg:https://www.artsquest.org/app/uploads/2026/04/FILM_ForbiddenPlanet_1920x1080.jpg
END:VEVENT
BEGIN:VEVENT
DTSTART;TZID=America/New_York:20260725T214500
DTEND;TZID=America/New_York:20260725T234000
DTSTAMP:20260423T022821
CREATED:20260406T140037Z
LAST-MODIFIED:20260330T195407Z
UID:10004029-1785015900-1785022800@www.artsquest.org
SUMMARY:Metropolis (2001) (25th Anniversary)
DESCRIPTION:
URL:https://www.artsquest.org/event/metropolis-2001-25th-anniversary/
LOCATION:Frank Banko Alehouse Cinemas\, 101 Founders Way\, Bethlehem\, PA\, 18015\, United States
CATEGORIES:Film
ATTACH;FMTTYPE=image/jpeg:https://www.artsquest.org/app/uploads/2026/03/FILM_Metropolis_1920x1080.jpg
END:VEVENT
BEGIN:VEVENT
DTSTART;TZID=America/New_York:20260729T133000
DTEND;TZID=America/New_York:20260729T150200
DTSTAMP:20260423T022821
CREATED:20260406T140003Z
LAST-MODIFIED:20260407T210112Z
UID:10004080-1785331800-1785337320@www.artsquest.org
SUMMARY:Monsters Inc (Sensory-Friendly)
DESCRIPTION:
URL:https://www.artsquest.org/event/monsters-inc-sensory-friendly/
LOCATION:Frank Banko Alehouse Cinemas\, 101 Founders Way\, Bethlehem\, PA\, 18015\, United States
CATEGORIES:Film
ATTACH;FMTTYPE=image/jpeg:https://www.artsquest.org/app/uploads/2026/03/FILM_MonstersInc_1920x1080.jpg
END:VEVENT
BEGIN:VEVENT
DTSTART;TZID=America/New_York:20260729T183000
DTEND;TZID=America/New_York:20260729T200000
DTSTAMP:20260423T022821
CREATED:20260330T163531Z
LAST-MODIFIED:20260414T142726Z
UID:10004027-1785349800-1785355200@www.artsquest.org
SUMMARY:Monsters Inc
DESCRIPTION:
URL:https://www.artsquest.org/event/monsters-inc/
LOCATION:Levitt Pavilion SteelStacks\, 789 E 1st St\, Bethlehem\, PA\, 18015
CATEGORIES:Film
ATTACH;FMTTYPE=image/jpeg:https://www.artsquest.org/app/uploads/2026/03/FILM_MonstersInc_1920x1080.jpg
END:VEVENT
BEGIN:VEVENT
DTSTART;TZID=America/New_York:20260729T191500
DTEND;TZID=America/New_York:20260729T212000
DTSTAMP:20260423T022821
CREATED:20260312T140050Z
LAST-MODIFIED:20260306T192352Z
UID:10003544-1785352500-1785360000@www.artsquest.org
SUMMARY:Jaws
DESCRIPTION:
URL:https://www.artsquest.org/event/jaws/
LOCATION:Frank Banko Alehouse Cinemas\, 101 Founders Way\, Bethlehem\, PA\, 18015\, United States
CATEGORIES:Film
ATTACH;FMTTYPE=image/jpeg:https://www.artsquest.org/app/uploads/2026/03/FILM_Jaws_1920x1080.jpg
END:VEVENT
BEGIN:VEVENT
DTSTART;TZID=America/New_York:20260816T130000
DTEND;TZID=America/New_York:20260816T153100
DTSTAMP:20260423T022821
CREATED:20260409T140039Z
LAST-MODIFIED:20260408T162829Z
UID:10004162-1786885200-1786894260@www.artsquest.org
SUMMARY:West Side Story
DESCRIPTION:
URL:https://www.artsquest.org/event/west-side-story/
LOCATION:Frank Banko Alehouse Cinemas\, 101 Founders Way\, Bethlehem\, PA\, 18015\, United States
CATEGORIES:Film
ATTACH;FMTTYPE=image/jpeg:https://www.artsquest.org/app/uploads/2026/04/FILM_WestSideStory_1920x1080.jpg
END:VEVENT
BEGIN:VEVENT
DTSTART;TZID=America/New_York:20260818T190000
DTEND;TZID=America/New_York:20260818T210000
DTSTAMP:20260423T022821
CREATED:20260311T140031Z
LAST-MODIFIED:20260420T160126Z
UID:10003534-1787079600-1787086800@www.artsquest.org
SUMMARY:Filmmaker Workshop: Costume Designing for Independent Films
DESCRIPTION:Cutting the Truth: Documentary Secrets from the Editing Room w/ Tyler Walk
URL:https://www.artsquest.org/event/filmmaker-workshop-costume-designing-for-independent-films/
LOCATION:Frank Banko Alehouse Cinemas\, 101 Founders Way\, Bethlehem\, PA\, 18015\, United States
CATEGORIES:Film,Special Event
ATTACH;FMTTYPE=image/jpeg:https://www.artsquest.org/app/uploads/2026/03/FILM_CostumeDesign_1920x1080.jpg
END:VEVENT
BEGIN:VEVENT
DTSTART;TZID=America/New_York:20260819T133000
DTEND;TZID=America/New_York:20260819T153500
DTSTAMP:20260423T022821
CREATED:20260406T140047Z
LAST-MODIFIED:20260407T210145Z
UID:10004081-1787146200-1787153700@www.artsquest.org
SUMMARY:How to Train Your Dragon (2025) (Sensory-Friendly)
DESCRIPTION:
URL:https://www.artsquest.org/event/how-to-train-your-dragon-2025-sensory-friendly/
LOCATION:Frank Banko Alehouse Cinemas\, 101 Founders Way\, Bethlehem\, PA\, 18015\, United States
CATEGORIES:Film
ATTACH;FMTTYPE=image/jpeg:https://www.artsquest.org/app/uploads/2026/03/FILM_HTTYD_1920x1080.jpg
END:VEVENT
BEGIN:VEVENT
DTSTART;TZID=America/New_York:20260819T183000
DTEND;TZID=America/New_York:20260819T204000
DTSTAMP:20260423T022821
CREATED:20260330T164249Z
LAST-MODIFIED:20260414T142739Z
UID:10004028-1787164200-1787172000@www.artsquest.org
SUMMARY:How to Train Your Dragon (2025)
DESCRIPTION:
URL:https://www.artsquest.org/event/how-to-train-your-dragon-2025/
LOCATION:Levitt Pavilion SteelStacks\, 789 E 1st St\, Bethlehem\, PA\, 18015
CATEGORIES:Film
ATTACH;FMTTYPE=image/jpeg:https://www.artsquest.org/app/uploads/2026/03/FILM_HTTYD_1920x1080.jpg
END:VEVENT
BEGIN:VEVENT
DTSTART;TZID=America/New_York:20260824T150000
DTEND;TZID=America/New_York:20260824T170000
DTSTAMP:20260423T022821
CREATED:20260413T140005Z
LAST-MODIFIED:20260414T135612Z
UID:10004159-1787583600-1787590800@www.artsquest.org
SUMMARY:Open Screenings
DESCRIPTION:
URL:https://www.artsquest.org/event/open-screenings-2/
LOCATION:Frank Banko Alehouse Cinemas\, 101 Founders Way\, Bethlehem\, PA\, 18015\, United States
CATEGORIES:Film
ATTACH;FMTTYPE=image/jpeg:https://www.artsquest.org/app/uploads/2026/04/openscreening_1920x1080-scaled.jpg
END:VEVENT
BEGIN:VEVENT
DTSTART;TZID=America/New_York:20260909T193000
DTEND;TZID=America/New_York:20260909T210700
DTSTAMP:20260423T022821
CREATED:20260409T140010Z
LAST-MODIFIED:20260408T164253Z
UID:10004163-1788982200-1788988020@www.artsquest.org
SUMMARY:10 Things I Hate About You
DESCRIPTION:
URL:https://www.artsquest.org/event/10-things-i-hate-about-you/
LOCATION:Frank Banko Alehouse Cinemas\, 101 Founders Way\, Bethlehem\, PA\, 18015\, United States
CATEGORIES:Film
ATTACH;FMTTYPE=image/jpeg:https://www.artsquest.org/app/uploads/2026/04/FILM_10ThingsIHateAboutYou_1920x1080.jpg
END:VEVENT
BEGIN:VEVENT
DTSTART;TZID=America/New_York:20260920T180000
DTEND;TZID=America/New_York:20260920T194100
DTSTAMP:20260423T022821
CREATED:20260409T140015Z
LAST-MODIFIED:20260409T204420Z
UID:10004166-1789927200-1789933260@www.artsquest.org
SUMMARY:Clemente
DESCRIPTION:
URL:https://www.artsquest.org/event/clemente/
LOCATION:Frank Banko Alehouse Cinemas\, 101 Founders Way\, Bethlehem\, PA\, 18015\, United States
CATEGORIES:Film
ATTACH;FMTTYPE=image/jpeg:https://www.artsquest.org/app/uploads/2026/04/FILM_Clemente_1920x1080.jpg
END:VEVENT
BEGIN:VEVENT
DTSTART;TZID=America/New_York:20260924T190000
DTEND;TZID=America/New_York:20260924T204500
DTSTAMP:20260423T022821
CREATED:20260409T140056Z
LAST-MODIFIED:20260415T131723Z
UID:10004070-1790276400-1790282700@www.artsquest.org
SUMMARY:My Own Private Idaho
DESCRIPTION:
URL:https://www.artsquest.org/event/my-own-private-idaho/
LOCATION:Frank Banko Alehouse Cinemas\, 101 Founders Way\, Bethlehem\, PA\, 18015\, United States
CATEGORIES:Film
ATTACH;FMTTYPE=image/jpeg:https://www.artsquest.org/app/uploads/2026/04/FILM_MyOwnPrivateIdaho_1920x1080.jpg
END:VEVENT
BEGIN:VEVENT
DTSTART;TZID=America/New_York:20261008T190000
DTEND;TZID=America/New_York:20261008T214200
DTSTAMP:20260423T022821
CREATED:20260409T140003Z
LAST-MODIFIED:20260414T151914Z
UID:10004165-1791486000-1791495720@www.artsquest.org
SUMMARY:Ran
DESCRIPTION:
URL:https://www.artsquest.org/event/ran/
LOCATION:Frank Banko Alehouse Cinemas\, 101 Founders Way\, Bethlehem\, PA\, 18015\, United States
CATEGORIES:Film
ATTACH;FMTTYPE=image/jpeg:https://www.artsquest.org/app/uploads/2026/04/FILM_Ran_1920x1080.jpg
END:VEVENT
END:VCALENDAR