BEGIN:VCALENDAR
VERSION:2.0
PRODID:-//ArtsQuest - ECPv6.15.5//NONSGML v1.0//EN
CALSCALE:GREGORIAN
METHOD:PUBLISH
X-WR-CALNAME:ArtsQuest
X-ORIGINAL-URL:https://www.artsquest.org
X-WR-CALDESC:Events for ArtsQuest
REFRESH-INTERVAL;VALUE=DURATION:PT1H
X-Robots-Tag:noindex
X-PUBLISHED-TTL:PT1H
BEGIN:VTIMEZONE
TZID:America/New_York
BEGIN:DAYLIGHT
TZOFFSETFROM:-0500
TZOFFSETTO:-0400
TZNAME:EDT
DTSTART:20260308T070000
END:DAYLIGHT
BEGIN:STANDARD
TZOFFSETFROM:-0400
TZOFFSETTO:-0500
TZNAME:EST
DTSTART:20261101T060000
END:STANDARD
END:VTIMEZONE
BEGIN:VEVENT
DTSTART;TZID=America/New_York:20260511T190000
DTEND;TZID=America/New_York:20260511T210000
DTSTAMP:20260424T094042
CREATED:20260217T150028Z
LAST-MODIFIED:20260303T163339Z
UID:10003258-1778526000-1778533200@www.artsquest.org
SUMMARY:Memories of Underdevelopment
DESCRIPTION:
URL:https://www.artsquest.org/event/memories-of-underdevelopment/
LOCATION:Frank Banko Alehouse Cinemas\, 101 Founders Way\, Bethlehem\, PA\, 18015\, United States
CATEGORIES:Film
ATTACH;FMTTYPE=image/jpeg:https://www.artsquest.org/app/uploads/2026/02/FILM_MemoriesUndervelopment_1920x1080.jpg
END:VEVENT
BEGIN:VEVENT
DTSTART;TZID=America/New_York:20260411T130000
DTEND;TZID=America/New_York:20260411T143000
DTSTAMP:20260424T094042
CREATED:20260324T140049Z
LAST-MODIFIED:20260410T135636Z
UID:10003921-1775912400-1775917800@www.artsquest.org
SUMMARY:Cléo from 5 to 7
DESCRIPTION:
URL:https://www.artsquest.org/event/cleo-from-5-to-7/
LOCATION:Frank Banko Alehouse Cinemas\, 101 Founders Way\, Bethlehem\, PA\, 18015\, United States
CATEGORIES:Film
ATTACH;FMTTYPE=image/jpeg:https://www.artsquest.org/app/uploads/2026/03/FILM_Cleo5to7_1920x1080.jpg
END:VEVENT
BEGIN:VEVENT
DTSTART;TZID=America/New_York:20260402T193000
DTEND;TZID=America/New_York:20260402T210000
DTSTAMP:20260424T094042
CREATED:20260123T150008Z
LAST-MODIFIED:20260401T134129Z
UID:10002930-1775158200-1775163600@www.artsquest.org
SUMMARY:Persona
DESCRIPTION:
URL:https://www.artsquest.org/event/persona/
LOCATION:Frank Banko Alehouse Cinemas\, 101 Founders Way\, Bethlehem\, PA\, 18015\, United States
CATEGORIES:Film
ATTACH;FMTTYPE=image/jpeg:https://www.artsquest.org/app/uploads/2026/01/FILM_Persona_1200x392.jpg
END:VEVENT
BEGIN:VEVENT
DTSTART;TZID=America/New_York:20260308T170000
DTEND;TZID=America/New_York:20260308T200000
DTSTAMP:20260424T094042
CREATED:20251126T193654Z
LAST-MODIFIED:20260123T154627Z
UID:10002476-1772989200-1773000000@www.artsquest.org
SUMMARY:Yi Yi (4K Restoration)
DESCRIPTION:
URL:https://www.artsquest.org/event/yi-yi-4k-restoration/
LOCATION:Frank Banko Alehouse Cinemas\, 101 Founders Way\, Bethlehem\, PA\, 18015\, United States
CATEGORIES:Film
ATTACH;FMTTYPE=image/jpeg:https://www.artsquest.org/app/uploads/2025/11/FILM_yiyi2_1200x392.jpg
END:VEVENT
BEGIN:VEVENT
DTSTART;TZID=America/New_York:20260205T131500
DTEND;TZID=America/New_York:20260205T152000
DTSTAMP:20260424T094042
CREATED:20260126T153437Z
LAST-MODIFIED:20260127T144330Z
UID:10003012-1770297300-1770304800@www.artsquest.org
SUMMARY:Amelie (25th Anniversary)
DESCRIPTION:
URL:https://www.artsquest.org/event/amelie-25th-anniversary-2/
LOCATION:Frank Banko Alehouse Cinemas\, 101 Founders Way\, Bethlehem\, PA\, 18015\, United States
CATEGORIES:Film
ATTACH;FMTTYPE=image/jpeg:https://www.artsquest.org/app/uploads/2025/11/FILM_amelie2_1200x392.jpg
END:VEVENT
BEGIN:VEVENT
DTSTART;TZID=America/New_York:20260201T181500
DTEND;TZID=America/New_York:20260201T202000
DTSTAMP:20260424T094042
CREATED:20251126T192937Z
LAST-MODIFIED:20260129T213808Z
UID:10002475-1769969700-1769977200@www.artsquest.org
SUMMARY:Amelie (25th Anniversary)
DESCRIPTION:
URL:https://www.artsquest.org/event/amelie-25th-anniversary/
LOCATION:Frank Banko Alehouse Cinemas\, 101 Founders Way\, Bethlehem\, PA\, 18015\, United States
CATEGORIES:Film
ATTACH;FMTTYPE=image/jpeg:https://www.artsquest.org/app/uploads/2025/11/FILM_amelie2_1200x392.jpg
END:VEVENT
BEGIN:VEVENT
DTSTART;TZID=America/New_York:20260114T191500
DTEND;TZID=America/New_York:20260114T213000
DTSTAMP:20260424T094042
CREATED:20251126T191756Z
LAST-MODIFIED:20251208T210719Z
UID:10002474-1768418100-1768426200@www.artsquest.org
SUMMARY:Raging Bull (4K Restoration)
DESCRIPTION:
URL:https://www.artsquest.org/event/raging-bull-4k-restoration/
LOCATION:Frank Banko Alehouse Cinemas\, 101 Founders Way\, Bethlehem\, PA\, 18015\, United States
CATEGORIES:Film
ATTACH;FMTTYPE=image/jpeg:https://www.artsquest.org/app/uploads/2025/11/FILM_ragingbull2_1200x392.jpg
END:VEVENT
END:VCALENDAR