BEGIN:VCALENDAR
VERSION:2.0
PRODID:-//ArtsQuest - ECPv6.15.5//NONSGML v1.0//EN
CALSCALE:GREGORIAN
METHOD:PUBLISH
X-WR-CALNAME:ArtsQuest
X-ORIGINAL-URL:https://www.artsquest.org
X-WR-CALDESC:Events for ArtsQuest
REFRESH-INTERVAL;VALUE=DURATION:PT1H
X-Robots-Tag:noindex
X-PUBLISHED-TTL:PT1H
BEGIN:VTIMEZONE
TZID:America/New_York
BEGIN:DAYLIGHT
TZOFFSETFROM:-0500
TZOFFSETTO:-0400
TZNAME:EDT
DTSTART:20260308T070000
END:DAYLIGHT
BEGIN:STANDARD
TZOFFSETFROM:-0400
TZOFFSETTO:-0500
TZNAME:EST
DTSTART:20261101T060000
END:STANDARD
END:VTIMEZONE
BEGIN:VEVENT
DTSTART;TZID=America/New_York:20260716T090000
DTEND;TZID=America/New_York:20260716T103000
DTSTAMP:20260422T174953
CREATED:20260302T165507Z
LAST-MODIFIED:20260302T165507Z
UID:10003400-1784192400-1784197800@www.artsquest.org
SUMMARY:The Rise and Fall of Bethlehem Steel Tour
DESCRIPTION:
URL:https://www.artsquest.org/event/the-rise-and-fall-of-bethlehem-steel-tour-7-16-26/
LOCATION:PA
CATEGORIES:Tours
ATTACH;FMTTYPE=image/jpeg:https://www.artsquest.org/app/uploads/2025/08/rise-fall-tour.jpg
END:VEVENT
BEGIN:VEVENT
DTSTART;TZID=America/New_York:20260717T090000
DTEND;TZID=America/New_York:20260717T103000
DTSTAMP:20260422T174953
CREATED:20260302T165527Z
LAST-MODIFIED:20260302T165527Z
UID:10003399-1784278800-1784284200@www.artsquest.org
SUMMARY:The Rise and Fall of Bethlehem Steel Tour
DESCRIPTION:
URL:https://www.artsquest.org/event/the-rise-and-fall-of-bethlehem-steel-tour-7-17-26/
LOCATION:PA
CATEGORIES:Tours
ATTACH;FMTTYPE=image/jpeg:https://www.artsquest.org/app/uploads/2025/08/rise-fall-tour.jpg
END:VEVENT
BEGIN:VEVENT
DTSTART;TZID=America/New_York:20260718T090000
DTEND;TZID=America/New_York:20260718T103000
DTSTAMP:20260422T174953
CREATED:20260302T165543Z
LAST-MODIFIED:20260302T165543Z
UID:10003398-1784365200-1784370600@www.artsquest.org
SUMMARY:The Rise and Fall of Bethlehem Steel Tour
DESCRIPTION:
URL:https://www.artsquest.org/event/the-rise-and-fall-of-bethlehem-steel-tour-7-18-26/
LOCATION:PA
CATEGORIES:Tours
ATTACH;FMTTYPE=image/jpeg:https://www.artsquest.org/app/uploads/2025/08/rise-fall-tour.jpg
END:VEVENT
BEGIN:VEVENT
DTSTART;TZID=America/New_York:20260719T090000
DTEND;TZID=America/New_York:20260719T103000
DTSTAMP:20260422T174953
CREATED:20260302T165605Z
LAST-MODIFIED:20260302T165605Z
UID:10003401-1784451600-1784457000@www.artsquest.org
SUMMARY:The Rise and Fall of Bethlehem Steel Tour
DESCRIPTION:
URL:https://www.artsquest.org/event/the-rise-and-fall-of-bethlehem-steel-tour-7-19-26/
LOCATION:PA
CATEGORIES:Tours
ATTACH;FMTTYPE=image/jpeg:https://www.artsquest.org/app/uploads/2025/08/rise-fall-tour.jpg
END:VEVENT
BEGIN:VEVENT
DTSTART;TZID=America/New_York:20260723T090000
DTEND;TZID=America/New_York:20260723T103000
DTSTAMP:20260422T174953
CREATED:20260302T165837Z
LAST-MODIFIED:20260302T165837Z
UID:10003405-1784797200-1784802600@www.artsquest.org
SUMMARY:The Rise and Fall of Bethlehem Steel Tour
DESCRIPTION:
URL:https://www.artsquest.org/event/the-rise-and-fall-of-bethlehem-steel-tour-7-23-26/
LOCATION:PA
CATEGORIES:Tours
ATTACH;FMTTYPE=image/jpeg:https://www.artsquest.org/app/uploads/2025/08/rise-fall-tour.jpg
END:VEVENT
BEGIN:VEVENT
DTSTART;TZID=America/New_York:20260724T090000
DTEND;TZID=America/New_York:20260724T103000
DTSTAMP:20260422T174953
CREATED:20260302T165854Z
LAST-MODIFIED:20260302T165854Z
UID:10003404-1784883600-1784889000@www.artsquest.org
SUMMARY:The Rise and Fall of Bethlehem Steel Tour
DESCRIPTION:
URL:https://www.artsquest.org/event/the-rise-and-fall-of-bethlehem-steel-tour-7-24-26/
LOCATION:PA
CATEGORIES:Tours
ATTACH;FMTTYPE=image/jpeg:https://www.artsquest.org/app/uploads/2025/08/rise-fall-tour.jpg
END:VEVENT
BEGIN:VEVENT
DTSTART;TZID=America/New_York:20260725T090000
DTEND;TZID=America/New_York:20260725T103000
DTSTAMP:20260422T174953
CREATED:20260302T165913Z
LAST-MODIFIED:20260302T165913Z
UID:10003403-1784970000-1784975400@www.artsquest.org
SUMMARY:The Rise and Fall of Bethlehem Steel Tour
DESCRIPTION:
URL:https://www.artsquest.org/event/the-rise-and-fall-of-bethlehem-steel-tour-7-25-26/
LOCATION:PA
CATEGORIES:Tours
ATTACH;FMTTYPE=image/jpeg:https://www.artsquest.org/app/uploads/2025/08/rise-fall-tour.jpg
END:VEVENT
BEGIN:VEVENT
DTSTART;TZID=America/New_York:20260726T090000
DTEND;TZID=America/New_York:20260726T103000
DTSTAMP:20260422T174953
CREATED:20260302T165932Z
LAST-MODIFIED:20260302T165932Z
UID:10003402-1785056400-1785061800@www.artsquest.org
SUMMARY:The Rise and Fall of Bethlehem Steel Tour
DESCRIPTION:
URL:https://www.artsquest.org/event/the-rise-and-fall-of-bethlehem-steel-tour-7-26-26/
LOCATION:PA
CATEGORIES:Tours
ATTACH;FMTTYPE=image/jpeg:https://www.artsquest.org/app/uploads/2025/08/rise-fall-tour.jpg
END:VEVENT
BEGIN:VEVENT
DTSTART;TZID=America/New_York:20260730T090000
DTEND;TZID=America/New_York:20260730T103000
DTSTAMP:20260422T174953
CREATED:20260302T170634Z
LAST-MODIFIED:20260302T170634Z
UID:10003409-1785402000-1785407400@www.artsquest.org
SUMMARY:The Rise and Fall of Bethlehem Steel Tour
DESCRIPTION:
URL:https://www.artsquest.org/event/the-rise-and-fall-of-bethlehem-steel-tour-7-30-26/
LOCATION:PA
CATEGORIES:Tours
ATTACH;FMTTYPE=image/jpeg:https://www.artsquest.org/app/uploads/2025/08/rise-fall-tour.jpg
END:VEVENT
BEGIN:VEVENT
DTSTART;TZID=America/New_York:20260813T090000
DTEND;TZID=America/New_York:20260813T103000
DTSTAMP:20260422T174953
CREATED:20260302T170656Z
LAST-MODIFIED:20260302T170656Z
UID:10003406-1786611600-1786617000@www.artsquest.org
SUMMARY:The Rise and Fall of Bethlehem Steel Tour
DESCRIPTION:
URL:https://www.artsquest.org/event/the-rise-and-fall-of-bethlehem-steel-tour-8-13-26/
LOCATION:PA
CATEGORIES:Tours
ATTACH;FMTTYPE=image/jpeg:https://www.artsquest.org/app/uploads/2025/08/rise-fall-tour.jpg
END:VEVENT
BEGIN:VEVENT
DTSTART;TZID=America/New_York:20260814T090000
DTEND;TZID=America/New_York:20260814T103000
DTSTAMP:20260422T174953
CREATED:20260302T170717Z
LAST-MODIFIED:20260302T170717Z
UID:10003407-1786698000-1786703400@www.artsquest.org
SUMMARY:The Rise and Fall of Bethlehem Steel Tour
DESCRIPTION:
URL:https://www.artsquest.org/event/the-rise-and-fall-of-bethlehem-steel-tour-8-14-26/
LOCATION:PA
CATEGORIES:Tours
ATTACH;FMTTYPE=image/jpeg:https://www.artsquest.org/app/uploads/2025/08/rise-fall-tour.jpg
END:VEVENT
BEGIN:VEVENT
DTSTART;TZID=America/New_York:20260815T090000
DTEND;TZID=America/New_York:20260815T103000
DTSTAMP:20260422T174953
CREATED:20260302T170740Z
LAST-MODIFIED:20260302T170740Z
UID:10003408-1786784400-1786789800@www.artsquest.org
SUMMARY:The Rise and Fall of Bethlehem Steel Tour
DESCRIPTION:
URL:https://www.artsquest.org/event/the-rise-and-fall-of-bethlehem-steel-tour-8-15-26/
LOCATION:PA
CATEGORIES:Tours
ATTACH;FMTTYPE=image/jpeg:https://www.artsquest.org/app/uploads/2025/08/rise-fall-tour.jpg
END:VEVENT
BEGIN:VEVENT
DTSTART;TZID=America/New_York:20260816T090000
DTEND;TZID=America/New_York:20260816T103000
DTSTAMP:20260422T174953
CREATED:20260302T170836Z
LAST-MODIFIED:20260302T170836Z
UID:10003410-1786870800-1786876200@www.artsquest.org
SUMMARY:The Rise and Fall of Bethlehem Steel Tour
DESCRIPTION:
URL:https://www.artsquest.org/event/the-rise-and-fall-of-bethlehem-steel-tour-8-16-26/
LOCATION:PA
CATEGORIES:Tours
ATTACH;FMTTYPE=image/jpeg:https://www.artsquest.org/app/uploads/2025/08/rise-fall-tour.jpg
END:VEVENT
BEGIN:VEVENT
DTSTART;TZID=America/New_York:20260820T090000
DTEND;TZID=America/New_York:20260820T103000
DTSTAMP:20260422T174953
CREATED:20260302T170900Z
LAST-MODIFIED:20260302T170900Z
UID:10003411-1787216400-1787221800@www.artsquest.org
SUMMARY:The Rise and Fall of Bethlehem Steel Tour
DESCRIPTION:
URL:https://www.artsquest.org/event/the-rise-and-fall-of-bethlehem-steel-tour-8-20-26/
LOCATION:PA
CATEGORIES:Tours
ATTACH;FMTTYPE=image/jpeg:https://www.artsquest.org/app/uploads/2025/08/rise-fall-tour.jpg
END:VEVENT
BEGIN:VEVENT
DTSTART;TZID=America/New_York:20260821T090000
DTEND;TZID=America/New_York:20260821T103000
DTSTAMP:20260422T174953
CREATED:20260302T170920Z
LAST-MODIFIED:20260302T170920Z
UID:10003412-1787302800-1787308200@www.artsquest.org
SUMMARY:The Rise and Fall of Bethlehem Steel Tour
DESCRIPTION:
URL:https://www.artsquest.org/event/the-rise-and-fall-of-bethlehem-steel-tour-8-21-26/
LOCATION:PA
CATEGORIES:Tours
ATTACH;FMTTYPE=image/jpeg:https://www.artsquest.org/app/uploads/2025/08/rise-fall-tour.jpg
END:VEVENT
BEGIN:VEVENT
DTSTART;TZID=America/New_York:20260822T090000
DTEND;TZID=America/New_York:20260822T103000
DTSTAMP:20260422T174953
CREATED:20260302T170939Z
LAST-MODIFIED:20260302T170939Z
UID:10003413-1787389200-1787394600@www.artsquest.org
SUMMARY:The Rise and Fall of Bethlehem Steel Tour
DESCRIPTION:
URL:https://www.artsquest.org/event/the-rise-and-fall-of-bethlehem-steel-tour-8-22-26/
LOCATION:PA
CATEGORIES:Tours
ATTACH;FMTTYPE=image/jpeg:https://www.artsquest.org/app/uploads/2025/08/rise-fall-tour.jpg
END:VEVENT
BEGIN:VEVENT
DTSTART;TZID=America/New_York:20260823T090000
DTEND;TZID=America/New_York:20260823T103000
DTSTAMP:20260422T174953
CREATED:20260302T171046Z
LAST-MODIFIED:20260302T171046Z
UID:10003414-1787475600-1787481000@www.artsquest.org
SUMMARY:The Rise and Fall of Bethlehem Steel Tour
DESCRIPTION:
URL:https://www.artsquest.org/event/the-rise-and-fall-of-bethlehem-steel-tour-8-23-26/
LOCATION:PA
CATEGORIES:Tours
ATTACH;FMTTYPE=image/jpeg:https://www.artsquest.org/app/uploads/2025/08/rise-fall-tour.jpg
END:VEVENT
BEGIN:VEVENT
DTSTART;TZID=America/New_York:20260827T090000
DTEND;TZID=America/New_York:20260827T103000
DTSTAMP:20260422T174953
CREATED:20260302T171103Z
LAST-MODIFIED:20260302T171103Z
UID:10003415-1787821200-1787826600@www.artsquest.org
SUMMARY:The Rise and Fall of Bethlehem Steel Tour
DESCRIPTION:
URL:https://www.artsquest.org/event/the-rise-and-fall-of-bethlehem-steel-tour-8-27-26/
LOCATION:PA
CATEGORIES:Tours
ATTACH;FMTTYPE=image/jpeg:https://www.artsquest.org/app/uploads/2025/08/rise-fall-tour.jpg
END:VEVENT
BEGIN:VEVENT
DTSTART;TZID=America/New_York:20260828T090000
DTEND;TZID=America/New_York:20260828T103000
DTSTAMP:20260422T174953
CREATED:20260302T171123Z
LAST-MODIFIED:20260302T171123Z
UID:10003416-1787907600-1787913000@www.artsquest.org
SUMMARY:The Rise and Fall of Bethlehem Steel Tour
DESCRIPTION:
URL:https://www.artsquest.org/event/the-rise-and-fall-of-bethlehem-steel-tour-8-28-26/
LOCATION:PA
CATEGORIES:Tours
ATTACH;FMTTYPE=image/jpeg:https://www.artsquest.org/app/uploads/2025/08/rise-fall-tour.jpg
END:VEVENT
BEGIN:VEVENT
DTSTART;TZID=America/New_York:20260829T090000
DTEND;TZID=America/New_York:20260829T103000
DTSTAMP:20260422T174953
CREATED:20260302T171139Z
LAST-MODIFIED:20260302T171139Z
UID:10003417-1787994000-1787999400@www.artsquest.org
SUMMARY:The Rise and Fall of Bethlehem Steel Tour
DESCRIPTION:
URL:https://www.artsquest.org/event/the-rise-and-fall-of-bethlehem-steel-tour-8-29-26/
LOCATION:PA
CATEGORIES:Tours
ATTACH;FMTTYPE=image/jpeg:https://www.artsquest.org/app/uploads/2025/08/rise-fall-tour.jpg
END:VEVENT
BEGIN:VEVENT
DTSTART;TZID=America/New_York:20260830T090000
DTEND;TZID=America/New_York:20260830T103000
DTSTAMP:20260422T174953
CREATED:20260302T171155Z
LAST-MODIFIED:20260302T171155Z
UID:10003418-1788080400-1788085800@www.artsquest.org
SUMMARY:The Rise and Fall of Bethlehem Steel Tour
DESCRIPTION:
URL:https://www.artsquest.org/event/the-rise-and-fall-of-bethlehem-steel-tour-8-30-26/
LOCATION:PA
CATEGORIES:Tours
ATTACH;FMTTYPE=image/jpeg:https://www.artsquest.org/app/uploads/2025/08/rise-fall-tour.jpg
END:VEVENT
BEGIN:VEVENT
DTSTART;TZID=America/New_York:20260903T090000
DTEND;TZID=America/New_York:20260903T103000
DTSTAMP:20260422T174953
CREATED:20260302T185226Z
LAST-MODIFIED:20260302T185226Z
UID:10003419-1788426000-1788431400@www.artsquest.org
SUMMARY:The Rise and Fall of Bethlehem Steel Tour
DESCRIPTION:
URL:https://www.artsquest.org/event/the-rise-and-fall-of-bethlehem-steel-tour-9-3-26/
LOCATION:PA
CATEGORIES:Tours
ATTACH;FMTTYPE=image/jpeg:https://www.artsquest.org/app/uploads/2025/08/rise-fall-tour.jpg
END:VEVENT
BEGIN:VEVENT
DTSTART;TZID=America/New_York:20260904T090000
DTEND;TZID=America/New_York:20260904T103000
DTSTAMP:20260422T174953
CREATED:20260302T185246Z
LAST-MODIFIED:20260302T185246Z
UID:10003420-1788512400-1788517800@www.artsquest.org
SUMMARY:The Rise and Fall of Bethlehem Steel Tour
DESCRIPTION:
URL:https://www.artsquest.org/event/the-rise-and-fall-of-bethlehem-steel-tour-9-4-26/
LOCATION:PA
CATEGORIES:Tours
ATTACH;FMTTYPE=image/jpeg:https://www.artsquest.org/app/uploads/2025/08/rise-fall-tour.jpg
END:VEVENT
BEGIN:VEVENT
DTSTART;TZID=America/New_York:20260905T090000
DTEND;TZID=America/New_York:20260905T103000
DTSTAMP:20260422T174953
CREATED:20260302T185312Z
LAST-MODIFIED:20260302T185312Z
UID:10003421-1788598800-1788604200@www.artsquest.org
SUMMARY:The Rise and Fall of Bethlehem Steel Tour
DESCRIPTION:
URL:https://www.artsquest.org/event/the-rise-and-fall-of-bethlehem-steel-tour-9-5-26/
LOCATION:PA
CATEGORIES:Tours
ATTACH;FMTTYPE=image/jpeg:https://www.artsquest.org/app/uploads/2025/08/rise-fall-tour.jpg
END:VEVENT
BEGIN:VEVENT
DTSTART;TZID=America/New_York:20260906T090000
DTEND;TZID=America/New_York:20260906T103000
DTSTAMP:20260422T174953
CREATED:20260302T185328Z
LAST-MODIFIED:20260302T185328Z
UID:10003422-1788685200-1788690600@www.artsquest.org
SUMMARY:The Rise and Fall of Bethlehem Steel Tour
DESCRIPTION:
URL:https://www.artsquest.org/event/the-rise-and-fall-of-bethlehem-steel-tour-9-6-26/
LOCATION:PA
CATEGORIES:Tours
ATTACH;FMTTYPE=image/jpeg:https://www.artsquest.org/app/uploads/2025/08/rise-fall-tour.jpg
END:VEVENT
BEGIN:VEVENT
DTSTART;TZID=America/New_York:20260910T090000
DTEND;TZID=America/New_York:20260910T103000
DTSTAMP:20260422T174953
CREATED:20260302T194801Z
LAST-MODIFIED:20260302T194801Z
UID:10003423-1789030800-1789036200@www.artsquest.org
SUMMARY:The Rise and Fall of Bethlehem Steel Tour
DESCRIPTION:
URL:https://www.artsquest.org/event/the-rise-and-fall-of-bethlehem-steel-tour-9-10-26/
LOCATION:PA
CATEGORIES:Tours
ATTACH;FMTTYPE=image/jpeg:https://www.artsquest.org/app/uploads/2025/08/rise-fall-tour.jpg
END:VEVENT
BEGIN:VEVENT
DTSTART;TZID=America/New_York:20260911T090000
DTEND;TZID=America/New_York:20260911T103000
DTSTAMP:20260422T174953
CREATED:20260302T194818Z
LAST-MODIFIED:20260302T194818Z
UID:10003424-1789117200-1789122600@www.artsquest.org
SUMMARY:The Rise and Fall of Bethlehem Steel Tour
DESCRIPTION:
URL:https://www.artsquest.org/event/the-rise-and-fall-of-bethlehem-steel-tour-9-11-26/
LOCATION:PA
CATEGORIES:Tours
ATTACH;FMTTYPE=image/jpeg:https://www.artsquest.org/app/uploads/2025/08/rise-fall-tour.jpg
END:VEVENT
BEGIN:VEVENT
DTSTART;TZID=America/New_York:20260912T090000
DTEND;TZID=America/New_York:20260912T103000
DTSTAMP:20260422T174953
CREATED:20260302T194844Z
LAST-MODIFIED:20260302T194844Z
UID:10003425-1789203600-1789209000@www.artsquest.org
SUMMARY:The Rise and Fall of Bethlehem Steel Tour
DESCRIPTION:
URL:https://www.artsquest.org/event/the-rise-and-fall-of-bethlehem-steel-tour-9-12-26/
LOCATION:PA
CATEGORIES:Tours
ATTACH;FMTTYPE=image/jpeg:https://www.artsquest.org/app/uploads/2025/08/rise-fall-tour.jpg
END:VEVENT
BEGIN:VEVENT
DTSTART;TZID=America/New_York:20260913T090000
DTEND;TZID=America/New_York:20260913T103000
DTSTAMP:20260422T174953
CREATED:20260302T194901Z
LAST-MODIFIED:20260302T194901Z
UID:10003426-1789290000-1789295400@www.artsquest.org
SUMMARY:The Rise and Fall of Bethlehem Steel Tour
DESCRIPTION:
URL:https://www.artsquest.org/event/the-rise-and-fall-of-bethlehem-steel-tour-9-13-26/
LOCATION:PA
CATEGORIES:Tours
ATTACH;FMTTYPE=image/jpeg:https://www.artsquest.org/app/uploads/2025/08/rise-fall-tour.jpg
END:VEVENT
BEGIN:VEVENT
DTSTART;TZID=America/New_York:20260917T090000
DTEND;TZID=America/New_York:20260917T103000
DTSTAMP:20260422T174953
CREATED:20260302T195058Z
LAST-MODIFIED:20260302T195058Z
UID:10003430-1789635600-1789641000@www.artsquest.org
SUMMARY:The Rise and Fall of Bethlehem Steel Tour
DESCRIPTION:
URL:https://www.artsquest.org/event/the-rise-and-fall-of-bethlehem-steel-tour-9-17-26/
LOCATION:PA
CATEGORIES:Tours
ATTACH;FMTTYPE=image/jpeg:https://www.artsquest.org/app/uploads/2025/08/rise-fall-tour.jpg
END:VEVENT
END:VCALENDAR