BEGIN:VCALENDAR
VERSION:2.0
PRODID:-//ArtsQuest - ECPv6.15.5//NONSGML v1.0//EN
CALSCALE:GREGORIAN
METHOD:PUBLISH
X-WR-CALNAME:ArtsQuest
X-ORIGINAL-URL:https://www.artsquest.org
X-WR-CALDESC:Events for ArtsQuest
REFRESH-INTERVAL;VALUE=DURATION:PT1H
X-Robots-Tag:noindex
X-PUBLISHED-TTL:PT1H
BEGIN:VTIMEZONE
TZID:America/New_York
BEGIN:DAYLIGHT
TZOFFSETFROM:-0500
TZOFFSETTO:-0400
TZNAME:EDT
DTSTART:20260308T070000
END:DAYLIGHT
BEGIN:STANDARD
TZOFFSETFROM:-0400
TZOFFSETTO:-0500
TZNAME:EST
DTSTART:20261101T060000
END:STANDARD
END:VTIMEZONE
BEGIN:VEVENT
DTSTART;TZID=America/New_York:20260812T180000
DTEND;TZID=America/New_York:20260812T210000
DTSTAMP:20260424T123706
CREATED:20260424T155144Z
LAST-MODIFIED:20260424T155144Z
UID:10005078-1786557600-1786568400@www.artsquest.org
SUMMARY:Paint a Picture--Photographic Painting and Capturing Moments
DESCRIPTION:
URL:https://www.artsquest.org/event/paint-a-picture-photographic-painting-and-capturing-moments/
LOCATION:Fowler Blast Furnace Room\, 101 Founders Way\, Bethlehem\, PA\, 18015\, United States
CATEGORIES:Classes,Drawing & Painting
ATTACH;FMTTYPE=image/jpeg:https://www.artsquest.org/app/uploads/2026/04/VA_Photographic_1920x1080.jpg
END:VEVENT
BEGIN:VEVENT
DTSTART;TZID=America/New_York:20260813T173000
DTEND;TZID=America/New_York:20260813T193000
DTSTAMP:20260424T123706
CREATED:20260424T160046Z
LAST-MODIFIED:20260424T160046Z
UID:10005079-1786642200-1786649400@www.artsquest.org
SUMMARY:Watercolor and Embroidery Workshop (Session C)
DESCRIPTION:
URL:https://www.artsquest.org/event/watercolor-and-embroidery-workshop-session-c/
LOCATION:Bethlehem Visitor Center at SteelStacks pres. by Lehigh Valley Health Network\, 711 E. First St.\, Bethlehem\, PA\, 18015\, United States
CATEGORIES:Classes,Drawing & Painting,One-Day Workshop
ATTACH;FMTTYPE=image/jpeg:https://www.artsquest.org/app/uploads/2026/04/VA_Embroidery_1920x1080.jpg
END:VEVENT
BEGIN:VEVENT
DTSTART;TZID=America/New_York:20260814T180000
DTEND;TZID=America/New_York:20260814T210000
DTSTAMP:20260424T123706
CREATED:20260424T160400Z
LAST-MODIFIED:20260424T160424Z
UID:10005080-1786730400-1786741200@www.artsquest.org
SUMMARY:Wine'd Down Workshop: Beautiful Botanical Paintings
DESCRIPTION:
URL:https://www.artsquest.org/event/wined-down-workshop-beautiful-botanical-paintings/
LOCATION:Fowler Blast Furnace Room\, 101 Founders Way\, Bethlehem\, PA\, 18015\, United States
CATEGORIES:Classes,Drawing & Painting
ATTACH;FMTTYPE=image/jpeg:https://www.artsquest.org/app/uploads/2026/04/VA_AcrylicsBasic_1920x1080.jpg
END:VEVENT
BEGIN:VEVENT
DTSTART;TZID=America/New_York:20260815T123000
DTEND;TZID=America/New_York:20260815T153000
DTSTAMP:20260424T123706
CREATED:20260424T161419Z
LAST-MODIFIED:20260424T161419Z
UID:10005081-1786797000-1786807800@www.artsquest.org
SUMMARY:YogART Transformative Chakra Mandalas
DESCRIPTION:
URL:https://www.artsquest.org/event/yogart-transformative-chakra-mandalas/
LOCATION:Bethlehem Area Public Library (Main Branch) Laros Room\, 11 W Church St\, Bethlehem\, PA\, 18018\, United States
CATEGORIES:Classes,One-Day Workshop,Other Arts
ATTACH;FMTTYPE=image/jpeg:https://www.artsquest.org/app/uploads/2026/04/VA_YogART_1920x1080.jpg
END:VEVENT
BEGIN:VEVENT
DTSTART;TZID=America/New_York:20260817T180000
DTEND;TZID=America/New_York:20260817T210000
DTSTAMP:20260424T123706
CREATED:20260424T161811Z
LAST-MODIFIED:20260424T161811Z
UID:10005082-1786989600-1787000400@www.artsquest.org
SUMMARY:Stamp Making Workshop (Session C)
DESCRIPTION:
URL:https://www.artsquest.org/event/stamp-making-workshop-session-c/
LOCATION:Fowler Blast Furnace Room\, 101 Founders Way\, Bethlehem\, PA\, 18015\, United States
CATEGORIES:Classes,One-Day Workshop,Paper & Print Arts
ATTACH;FMTTYPE=image/jpeg:https://www.artsquest.org/app/uploads/2026/04/VA_StampC_1920x1080.jpg
END:VEVENT
END:VCALENDAR