BEGIN:VCALENDAR
VERSION:2.0
PRODID:-//ArtsQuest - ECPv6.15.5//NONSGML v1.0//EN
CALSCALE:GREGORIAN
METHOD:PUBLISH
X-WR-CALNAME:ArtsQuest
X-ORIGINAL-URL:https://www.artsquest.org
X-WR-CALDESC:Events for ArtsQuest
REFRESH-INTERVAL;VALUE=DURATION:PT1H
X-Robots-Tag:noindex
X-PUBLISHED-TTL:PT1H
BEGIN:VTIMEZONE
TZID:America/New_York
BEGIN:DAYLIGHT
TZOFFSETFROM:-0500
TZOFFSETTO:-0400
TZNAME:EDT
DTSTART:20260308T070000
END:DAYLIGHT
BEGIN:STANDARD
TZOFFSETFROM:-0400
TZOFFSETTO:-0500
TZNAME:EST
DTSTART:20261101T060000
END:STANDARD
END:VTIMEZONE
BEGIN:VEVENT
DTSTART;TZID=America/New_York:20260415T193000
DTEND;TZID=America/New_York:20260415T211400
DTSTAMP:20260422T204702
CREATED:20260408T145032Z
LAST-MODIFIED:20260408T145032Z
UID:10004145-1776281400-1776287640@www.artsquest.org
SUMMARY:You\, Me & Tuscany
DESCRIPTION:
URL:https://www.artsquest.org/event/you-me-tuscany-16/
LOCATION:Frank Banko Alehouse Cinemas\, 101 Founders Way\, Bethlehem\, PA\, 18015\, United States
CATEGORIES:Film
ATTACH;FMTTYPE=image/jpeg:https://www.artsquest.org/app/uploads/2026/04/FILM_YouMeTuscany_1920x1080.jpg
END:VEVENT
BEGIN:VEVENT
DTSTART;TZID=America/New_York:20260416T133000
DTEND;TZID=America/New_York:20260416T151400
DTSTAMP:20260422T204702
CREATED:20260408T145056Z
LAST-MODIFIED:20260408T145056Z
UID:10004146-1776346200-1776352440@www.artsquest.org
SUMMARY:You\, Me & Tuscany
DESCRIPTION:
URL:https://www.artsquest.org/event/you-me-tuscany-17/
LOCATION:Frank Banko Alehouse Cinemas\, 101 Founders Way\, Bethlehem\, PA\, 18015\, United States
CATEGORIES:Film
ATTACH;FMTTYPE=image/jpeg:https://www.artsquest.org/app/uploads/2026/04/FILM_YouMeTuscany_1920x1080.jpg
END:VEVENT
BEGIN:VEVENT
DTSTART;TZID=America/New_York:20260416T140000
DTEND;TZID=America/New_York:20260416T153000
DTSTAMP:20260422T204702
CREATED:20260408T151320Z
LAST-MODIFIED:20260408T151320Z
UID:10004158-1776348000-1776353400@www.artsquest.org
SUMMARY:Midwinter Break
DESCRIPTION:
URL:https://www.artsquest.org/event/midwinter-break-7/
LOCATION:Frank Banko Alehouse Cinemas\, 101 Founders Way\, Bethlehem\, PA\, 18015\, United States
CATEGORIES:Film
ATTACH;FMTTYPE=image/jpeg:https://www.artsquest.org/app/uploads/2026/04/FILM_MidwinterBreak_1920x1080.jpg
END:VEVENT
BEGIN:VEVENT
DTSTART;TZID=America/New_York:20260416T163000
DTEND;TZID=America/New_York:20260416T181400
DTSTAMP:20260422T204702
CREATED:20260408T145121Z
LAST-MODIFIED:20260408T145121Z
UID:10004147-1776357000-1776363240@www.artsquest.org
SUMMARY:You\, Me & Tuscany
DESCRIPTION:
URL:https://www.artsquest.org/event/you-me-tuscany-18/
LOCATION:Frank Banko Alehouse Cinemas\, 101 Founders Way\, Bethlehem\, PA\, 18015\, United States
CATEGORIES:Film
ATTACH;FMTTYPE=image/jpeg:https://www.artsquest.org/app/uploads/2026/04/FILM_YouMeTuscany_1920x1080.jpg
END:VEVENT
BEGIN:VEVENT
DTSTART;TZID=America/New_York:20260416T170000
DTEND;TZID=America/New_York:20260416T183100
DTSTAMP:20260422T204702
CREATED:20260408T142416Z
LAST-MODIFIED:20260408T142429Z
UID:10004129-1776358800-1776364260@www.artsquest.org
SUMMARY:Fantasy Life
DESCRIPTION:
URL:https://www.artsquest.org/event/fantasy-life-26/
LOCATION:Frank Banko Alehouse Cinemas\, 101 Founders Way\, Bethlehem\, PA\, 18015\, United States
CATEGORIES:Film
ATTACH;FMTTYPE=image/jpeg:https://www.artsquest.org/app/uploads/2026/03/FILM_FantasyLife_1920x1080.jpg
END:VEVENT
BEGIN:VEVENT
DTSTART;TZID=America/New_York:20260416T191500
DTEND;TZID=America/New_York:20260416T210000
DTSTAMP:20260422T204702
CREATED:20260408T145205Z
LAST-MODIFIED:20260408T145205Z
UID:10004148-1776366900-1776373200@www.artsquest.org
SUMMARY:You\, Me & Tuscany
DESCRIPTION:
URL:https://www.artsquest.org/event/you-me-tuscany-19/
LOCATION:Frank Banko Alehouse Cinemas\, 101 Founders Way\, Bethlehem\, PA\, 18015\, United States
CATEGORIES:Film
ATTACH;FMTTYPE=image/jpeg:https://www.artsquest.org/app/uploads/2026/04/FILM_YouMeTuscany_1920x1080.jpg
END:VEVENT
BEGIN:VEVENT
DTSTART;TZID=America/New_York:20260416T193000
DTEND;TZID=America/New_York:20260416T213000
DTSTAMP:20260422T204702
CREATED:20260325T140035Z
LAST-MODIFIED:20260414T154805Z
UID:10003930-1776367800-1776375000@www.artsquest.org
SUMMARY:Taxi Driver (50th Anniversary)
DESCRIPTION:
URL:https://www.artsquest.org/event/taxi-driver-50th-anniversary/
LOCATION:Frank Banko Alehouse Cinemas\, 101 Founders Way\, Bethlehem\, PA\, 18015\, United States
CATEGORIES:Film
ATTACH;FMTTYPE=image/jpeg:https://www.artsquest.org/app/uploads/2026/03/FILM_TaxiDriver_1920x1080.jpg
END:VEVENT
BEGIN:VEVENT
DTSTART;TZID=America/New_York:20260417T133000
DTEND;TZID=America/New_York:20260417T152300
DTSTAMP:20260422T204702
CREATED:20260414T164109Z
LAST-MODIFIED:20260414T164109Z
UID:10004989-1776432600-1776439380@www.artsquest.org
SUMMARY:Hamlet
DESCRIPTION:
URL:https://www.artsquest.org/event/hamlet/
LOCATION:Frank Banko Alehouse Cinemas\, 101 Founders Way\, Bethlehem\, PA\, 18015\, United States
CATEGORIES:Film
ATTACH;FMTTYPE=image/jpeg:https://www.artsquest.org/app/uploads/2026/04/FILM_Hamlet_1920x1080.jpg
END:VEVENT
BEGIN:VEVENT
DTSTART;TZID=America/New_York:20260417T140000
DTEND;TZID=America/New_York:20260417T154400
DTSTAMP:20260422T204702
CREATED:20260414T161132Z
LAST-MODIFIED:20260414T161132Z
UID:10004971-1776434400-1776440640@www.artsquest.org
SUMMARY:You\, Me & Tuscany
DESCRIPTION:
URL:https://www.artsquest.org/event/you-me-tuscany-20/
LOCATION:Frank Banko Alehouse Cinemas\, 101 Founders Way\, Bethlehem\, PA\, 18015\, United States
CATEGORIES:Film
ATTACH;FMTTYPE=image/jpeg:https://www.artsquest.org/app/uploads/2026/04/FILM_YouMeTuscany_1920x1080.jpg
END:VEVENT
BEGIN:VEVENT
DTSTART;TZID=America/New_York:20260417T163000
DTEND;TZID=America/New_York:20260417T182400
DTSTAMP:20260422T204702
CREATED:20260414T155638Z
LAST-MODIFIED:20260414T155913Z
UID:10004963-1776443400-1776450240@www.artsquest.org
SUMMARY:Reminders of Him
DESCRIPTION:
URL:https://www.artsquest.org/event/reminders-of-him/
LOCATION:Frank Banko Alehouse Cinemas\, 101 Founders Way\, Bethlehem\, PA\, 18015\, United States
CATEGORIES:Film
ATTACH;FMTTYPE=image/jpeg:https://www.artsquest.org/app/uploads/2026/04/FILM_RemindersOfHim_1920x1080.jpg
END:VEVENT
BEGIN:VEVENT
DTSTART;TZID=America/New_York:20260417T170000
DTEND;TZID=America/New_York:20260417T184400
DTSTAMP:20260422T204702
CREATED:20260414T161202Z
LAST-MODIFIED:20260414T161202Z
UID:10004972-1776445200-1776451440@www.artsquest.org
SUMMARY:You\, Me & Tuscany
DESCRIPTION:
URL:https://www.artsquest.org/event/you-me-tuscany-21/
LOCATION:Frank Banko Alehouse Cinemas\, 101 Founders Way\, Bethlehem\, PA\, 18015\, United States
CATEGORIES:Film
ATTACH;FMTTYPE=image/jpeg:https://www.artsquest.org/app/uploads/2026/04/FILM_YouMeTuscany_1920x1080.jpg
END:VEVENT
BEGIN:VEVENT
DTSTART;TZID=America/New_York:20260417T193000
DTEND;TZID=America/New_York:20260417T212400
DTSTAMP:20260422T204702
CREATED:20260414T155945Z
LAST-MODIFIED:20260414T155945Z
UID:10004964-1776454200-1776461040@www.artsquest.org
SUMMARY:Reminders of Him
DESCRIPTION:
URL:https://www.artsquest.org/event/reminders-of-him-2/
LOCATION:Frank Banko Alehouse Cinemas\, 101 Founders Way\, Bethlehem\, PA\, 18015\, United States
CATEGORIES:Film
ATTACH;FMTTYPE=image/jpeg:https://www.artsquest.org/app/uploads/2026/04/FILM_RemindersOfHim_1920x1080.jpg
END:VEVENT
BEGIN:VEVENT
DTSTART;TZID=America/New_York:20260417T200000
DTEND;TZID=America/New_York:20260417T214400
DTSTAMP:20260422T204702
CREATED:20260414T161248Z
LAST-MODIFIED:20260414T161248Z
UID:10004973-1776456000-1776462240@www.artsquest.org
SUMMARY:You\, Me & Tuscany
DESCRIPTION:
URL:https://www.artsquest.org/event/you-me-tuscany-22/
LOCATION:Frank Banko Alehouse Cinemas\, 101 Founders Way\, Bethlehem\, PA\, 18015\, United States
CATEGORIES:Film
ATTACH;FMTTYPE=image/jpeg:https://www.artsquest.org/app/uploads/2026/04/FILM_YouMeTuscany_1920x1080.jpg
END:VEVENT
BEGIN:VEVENT
DTSTART;TZID=America/New_York:20260418T140000
DTEND;TZID=America/New_York:20260418T154400
DTSTAMP:20260422T204702
CREATED:20260414T161316Z
LAST-MODIFIED:20260414T161316Z
UID:10004974-1776520800-1776527040@www.artsquest.org
SUMMARY:You\, Me & Tuscany
DESCRIPTION:
URL:https://www.artsquest.org/event/you-me-tuscany-23/
LOCATION:Frank Banko Alehouse Cinemas\, 101 Founders Way\, Bethlehem\, PA\, 18015\, United States
CATEGORIES:Film
ATTACH;FMTTYPE=image/jpeg:https://www.artsquest.org/app/uploads/2026/04/FILM_YouMeTuscany_1920x1080.jpg
END:VEVENT
BEGIN:VEVENT
DTSTART;TZID=America/New_York:20260418T163000
DTEND;TZID=America/New_York:20260418T182400
DTSTAMP:20260422T204702
CREATED:20260414T160028Z
LAST-MODIFIED:20260414T160028Z
UID:10004965-1776529800-1776536640@www.artsquest.org
SUMMARY:Reminders of Him
DESCRIPTION:
URL:https://www.artsquest.org/event/reminders-of-him-3/
LOCATION:Frank Banko Alehouse Cinemas\, 101 Founders Way\, Bethlehem\, PA\, 18015\, United States
CATEGORIES:Film
ATTACH;FMTTYPE=image/jpeg:https://www.artsquest.org/app/uploads/2026/04/FILM_RemindersOfHim_1920x1080.jpg
END:VEVENT
BEGIN:VEVENT
DTSTART;TZID=America/New_York:20260418T170000
DTEND;TZID=America/New_York:20260418T184400
DTSTAMP:20260422T204702
CREATED:20260414T161341Z
LAST-MODIFIED:20260414T161341Z
UID:10004975-1776531600-1776537840@www.artsquest.org
SUMMARY:You\, Me & Tuscany
DESCRIPTION:
URL:https://www.artsquest.org/event/you-me-tuscany-24/
LOCATION:Frank Banko Alehouse Cinemas\, 101 Founders Way\, Bethlehem\, PA\, 18015\, United States
CATEGORIES:Film
ATTACH;FMTTYPE=image/jpeg:https://www.artsquest.org/app/uploads/2026/04/FILM_YouMeTuscany_1920x1080.jpg
END:VEVENT
BEGIN:VEVENT
DTSTART;TZID=America/New_York:20260418T190000
DTEND;TZID=America/New_York:20260418T205300
DTSTAMP:20260422T204702
CREATED:20260414T164449Z
LAST-MODIFIED:20260414T164449Z
UID:10004990-1776538800-1776545580@www.artsquest.org
SUMMARY:Hamlet
DESCRIPTION:
URL:https://www.artsquest.org/event/hamlet-2/
LOCATION:Frank Banko Alehouse Cinemas\, 101 Founders Way\, Bethlehem\, PA\, 18015\, United States
CATEGORIES:Film
ATTACH;FMTTYPE=image/jpeg:https://www.artsquest.org/app/uploads/2026/04/FILM_Hamlet_1920x1080.jpg
END:VEVENT
BEGIN:VEVENT
DTSTART;TZID=America/New_York:20260418T200000
DTEND;TZID=America/New_York:20260418T214400
DTSTAMP:20260422T204702
CREATED:20260414T161426Z
LAST-MODIFIED:20260414T161426Z
UID:10004976-1776542400-1776548640@www.artsquest.org
SUMMARY:You\, Me & Tuscany
DESCRIPTION:
URL:https://www.artsquest.org/event/you-me-tuscany-25/
LOCATION:Frank Banko Alehouse Cinemas\, 101 Founders Way\, Bethlehem\, PA\, 18015\, United States
CATEGORIES:Film
ATTACH;FMTTYPE=image/jpeg:https://www.artsquest.org/app/uploads/2026/04/FILM_YouMeTuscany_1920x1080.jpg
END:VEVENT
BEGIN:VEVENT
DTSTART;TZID=America/New_York:20260418T214500
DTEND;TZID=America/New_York:20260418T232500
DTSTAMP:20260422T204702
CREATED:20260123T150021Z
LAST-MODIFIED:20260414T154750Z
UID:10002933-1776548700-1776554700@www.artsquest.org
SUMMARY:Lupin III: The Castle of Cagliostro
DESCRIPTION:
URL:https://www.artsquest.org/event/lupin-iii-the-castle-of-cagliostro/
LOCATION:Frank Banko Alehouse Cinemas\, 101 Founders Way\, Bethlehem\, PA\, 18015\, United States
CATEGORIES:Film
ATTACH;FMTTYPE=image/jpeg:https://www.artsquest.org/app/uploads/2026/01/FILM_LupinIII_1200x392.jpg
END:VEVENT
BEGIN:VEVENT
DTSTART;TZID=America/New_York:20260419T133000
DTEND;TZID=America/New_York:20260419T151400
DTSTAMP:20260422T204702
CREATED:20260414T161515Z
LAST-MODIFIED:20260414T161515Z
UID:10004977-1776605400-1776611640@www.artsquest.org
SUMMARY:You\, Me & Tuscany
DESCRIPTION:
URL:https://www.artsquest.org/event/you-me-tuscany-26/
LOCATION:Frank Banko Alehouse Cinemas\, 101 Founders Way\, Bethlehem\, PA\, 18015\, United States
CATEGORIES:Film
ATTACH;FMTTYPE=image/jpeg:https://www.artsquest.org/app/uploads/2026/04/FILM_YouMeTuscany_1920x1080.jpg
END:VEVENT
BEGIN:VEVENT
DTSTART;TZID=America/New_York:20260419T134500
DTEND;TZID=America/New_York:20260419T153900
DTSTAMP:20260422T204702
CREATED:20260414T160120Z
LAST-MODIFIED:20260414T160120Z
UID:10004966-1776606300-1776613140@www.artsquest.org
SUMMARY:Reminders of Him
DESCRIPTION:
URL:https://www.artsquest.org/event/reminders-of-him-4/
LOCATION:Frank Banko Alehouse Cinemas\, 101 Founders Way\, Bethlehem\, PA\, 18015\, United States
CATEGORIES:Film
ATTACH;FMTTYPE=image/jpeg:https://www.artsquest.org/app/uploads/2026/04/FILM_RemindersOfHim_1920x1080.jpg
END:VEVENT
BEGIN:VEVENT
DTSTART;TZID=America/New_York:20260419T154500
DTEND;TZID=America/New_York:20260419T173300
DTSTAMP:20260422T204702
CREATED:20260414T161554Z
LAST-MODIFIED:20260414T161554Z
UID:10004978-1776613500-1776619980@www.artsquest.org
SUMMARY:You\, Me & Tuscany
DESCRIPTION:
URL:https://www.artsquest.org/event/you-me-tuscany-27/
LOCATION:Frank Banko Alehouse Cinemas\, 101 Founders Way\, Bethlehem\, PA\, 18015\, United States
CATEGORIES:Film
ATTACH;FMTTYPE=image/jpeg:https://www.artsquest.org/app/uploads/2026/04/FILM_YouMeTuscany_1920x1080.jpg
END:VEVENT
BEGIN:VEVENT
DTSTART;TZID=America/New_York:20260419T161500
DTEND;TZID=America/New_York:20260419T180800
DTSTAMP:20260422T204702
CREATED:20260414T164532Z
LAST-MODIFIED:20260414T164703Z
UID:10004991-1776615300-1776622080@www.artsquest.org
SUMMARY:Hamlet
DESCRIPTION:
URL:https://www.artsquest.org/event/hamlet-3/
LOCATION:Frank Banko Alehouse Cinemas\, 101 Founders Way\, Bethlehem\, PA\, 18015\, United States
CATEGORIES:Film
ATTACH;FMTTYPE=image/jpeg:https://www.artsquest.org/app/uploads/2026/04/FILM_Hamlet_1920x1080.jpg
END:VEVENT
BEGIN:VEVENT
DTSTART;TZID=America/New_York:20260419T180000
DTEND;TZID=America/New_York:20260419T195000
DTSTAMP:20260422T204702
CREATED:20260120T150009Z
LAST-MODIFIED:20260408T183947Z
UID:10003013-1776621600-1776628200@www.artsquest.org
SUMMARY:The Ballad of Gregorio Cortez
DESCRIPTION:
URL:https://www.artsquest.org/event/the-ballad-of-gregorio-cortez/
LOCATION:Frank Banko Alehouse Cinemas\, 101 Founders Way\, Bethlehem\, PA\, 18015\, United States
CATEGORIES:Film
ATTACH;FMTTYPE=image/jpeg:https://www.artsquest.org/app/uploads/2026/01/FILM_BalladofGregorio_1200x392.jpg
END:VEVENT
BEGIN:VEVENT
DTSTART;TZID=America/New_York:20260419T184500
DTEND;TZID=America/New_York:20260419T203300
DTSTAMP:20260422T204702
CREATED:20260414T161651Z
LAST-MODIFIED:20260414T161651Z
UID:10004979-1776624300-1776630780@www.artsquest.org
SUMMARY:You\, Me & Tuscany
DESCRIPTION:
URL:https://www.artsquest.org/event/you-me-tuscany-28/
LOCATION:Frank Banko Alehouse Cinemas\, 101 Founders Way\, Bethlehem\, PA\, 18015\, United States
CATEGORIES:Film
ATTACH;FMTTYPE=image/jpeg:https://www.artsquest.org/app/uploads/2026/04/FILM_YouMeTuscany_1920x1080.jpg
END:VEVENT
BEGIN:VEVENT
DTSTART;TZID=America/New_York:20260420T161500
DTEND;TZID=America/New_York:20260420T180000
DTSTAMP:20260422T204702
CREATED:20260414T161744Z
LAST-MODIFIED:20260414T161744Z
UID:10004980-1776701700-1776708000@www.artsquest.org
SUMMARY:You\, Me & Tuscany
DESCRIPTION:
URL:https://www.artsquest.org/event/you-me-tuscany-29/
LOCATION:Frank Banko Alehouse Cinemas\, 101 Founders Way\, Bethlehem\, PA\, 18015\, United States
CATEGORIES:Film
ATTACH;FMTTYPE=image/jpeg:https://www.artsquest.org/app/uploads/2026/04/FILM_YouMeTuscany_1920x1080.jpg
END:VEVENT
BEGIN:VEVENT
DTSTART;TZID=America/New_York:20260420T163000
DTEND;TZID=America/New_York:20260420T182300
DTSTAMP:20260422T204702
CREATED:20260414T164632Z
LAST-MODIFIED:20260414T164632Z
UID:10004992-1776702600-1776709380@www.artsquest.org
SUMMARY:Hamlet
DESCRIPTION:
URL:https://www.artsquest.org/event/hamlet-4/
LOCATION:Frank Banko Alehouse Cinemas\, 101 Founders Way\, Bethlehem\, PA\, 18015\, United States
CATEGORIES:Film
ATTACH;FMTTYPE=image/jpeg:https://www.artsquest.org/app/uploads/2026/04/FILM_Hamlet_1920x1080.jpg
END:VEVENT
BEGIN:VEVENT
DTSTART;TZID=America/New_York:20260420T191500
DTEND;TZID=America/New_York:20260420T210000
DTSTAMP:20260422T204702
CREATED:20260414T161824Z
LAST-MODIFIED:20260414T161824Z
UID:10004981-1776712500-1776718800@www.artsquest.org
SUMMARY:You\, Me & Tuscany
DESCRIPTION:
URL:https://www.artsquest.org/event/you-me-tuscany-30/
LOCATION:Frank Banko Alehouse Cinemas\, 101 Founders Way\, Bethlehem\, PA\, 18015\, United States
CATEGORIES:Film
ATTACH;FMTTYPE=image/jpeg:https://www.artsquest.org/app/uploads/2026/04/FILM_YouMeTuscany_1920x1080.jpg
END:VEVENT
BEGIN:VEVENT
DTSTART;TZID=America/New_York:20260420T193000
DTEND;TZID=America/New_York:20260420T213000
DTSTAMP:20260422T204702
CREATED:20260325T164959Z
LAST-MODIFIED:20260414T154812Z
UID:10003969-1776713400-1776720600@www.artsquest.org
SUMMARY:Taxi Driver (50th Anniversary)
DESCRIPTION:
URL:https://www.artsquest.org/event/taxi-driver-50th-anniversary-3/
LOCATION:Frank Banko Alehouse Cinemas\, 101 Founders Way\, Bethlehem\, PA\, 18015\, United States
CATEGORIES:Film
ATTACH;FMTTYPE=image/jpeg:https://www.artsquest.org/app/uploads/2026/03/FILM_TaxiDriver_1920x1080.jpg
END:VEVENT
BEGIN:VEVENT
DTSTART;TZID=America/New_York:20260421T161500
DTEND;TZID=America/New_York:20260421T180000
DTSTAMP:20260422T204702
CREATED:20260414T161911Z
LAST-MODIFIED:20260414T161911Z
UID:10004982-1776788100-1776794400@www.artsquest.org
SUMMARY:You\, Me & Tuscany
DESCRIPTION:
URL:https://www.artsquest.org/event/you-me-tuscany-31/
LOCATION:Frank Banko Alehouse Cinemas\, 101 Founders Way\, Bethlehem\, PA\, 18015\, United States
CATEGORIES:Film
ATTACH;FMTTYPE=image/jpeg:https://www.artsquest.org/app/uploads/2026/04/FILM_YouMeTuscany_1920x1080.jpg
END:VEVENT
END:VCALENDAR