BEGIN:VCALENDAR
VERSION:2.0
PRODID:-//ArtsQuest - ECPv6.15.5//NONSGML v1.0//EN
CALSCALE:GREGORIAN
METHOD:PUBLISH
X-WR-CALNAME:ArtsQuest
X-ORIGINAL-URL:https://www.artsquest.org
X-WR-CALDESC:Events for ArtsQuest
REFRESH-INTERVAL;VALUE=DURATION:PT1H
X-Robots-Tag:noindex
X-PUBLISHED-TTL:PT1H
BEGIN:VTIMEZONE
TZID:America/New_York
BEGIN:DAYLIGHT
TZOFFSETFROM:-0500
TZOFFSETTO:-0400
TZNAME:EDT
DTSTART:20250309T070000
END:DAYLIGHT
BEGIN:STANDARD
TZOFFSETFROM:-0400
TZOFFSETTO:-0500
TZNAME:EST
DTSTART:20251102T060000
END:STANDARD
BEGIN:DAYLIGHT
TZOFFSETFROM:-0500
TZOFFSETTO:-0400
TZNAME:EDT
DTSTART:20260308T070000
END:DAYLIGHT
BEGIN:STANDARD
TZOFFSETFROM:-0400
TZOFFSETTO:-0500
TZNAME:EST
DTSTART:20261101T060000
END:STANDARD
END:VTIMEZONE
BEGIN:VEVENT
DTSTART;TZID=America/New_York:20260207T080000
DTEND;TZID=America/New_York:20260207T093000
DTSTAMP:20260422T175137
CREATED:20260203T170531Z
LAST-MODIFIED:20260203T170531Z
UID:10003110-1770451200-1770456600@www.artsquest.org
SUMMARY:The Rise and Fall of Bethlehem Steel Tour
DESCRIPTION:
URL:https://www.artsquest.org/event/the-rise-and-fall-of-bethlehem-steel-tour-2-7-26/
LOCATION:PA
CATEGORIES:Tours
ATTACH;FMTTYPE=image/jpeg:https://www.artsquest.org/app/uploads/2025/08/rise-fall-tour.jpg
END:VEVENT
BEGIN:VEVENT
DTSTART;TZID=America/New_York:20260206T130000
DTEND;TZID=America/New_York:20260206T143000
DTSTAMP:20260422T175137
CREATED:20260203T170443Z
LAST-MODIFIED:20260203T170443Z
UID:10003111-1770382800-1770388200@www.artsquest.org
SUMMARY:The Rise and Fall of Bethlehem Steel Tour
DESCRIPTION:
URL:https://www.artsquest.org/event/the-rise-and-fall-of-bethlehem-steel-tour-2-6-26/
LOCATION:PA
CATEGORIES:Tours
ATTACH;FMTTYPE=image/jpeg:https://www.artsquest.org/app/uploads/2025/08/rise-fall-tour.jpg
END:VEVENT
BEGIN:VEVENT
DTSTART;TZID=America/New_York:20260201T080000
DTEND;TZID=America/New_York:20260201T093000
DTSTAMP:20260422T175137
CREATED:20260105T191315Z
LAST-MODIFIED:20260105T191315Z
UID:10002797-1769932800-1769938200@www.artsquest.org
SUMMARY:The Rise and Fall of Bethlehem Steel Tour
DESCRIPTION:
URL:https://www.artsquest.org/event/the-rise-and-fall-of-bethlehem-steel-tour-2-1-2026/
LOCATION:PA
CATEGORIES:Tours
ATTACH;FMTTYPE=image/jpeg:https://www.artsquest.org/app/uploads/2025/08/rise-fall-tour.jpg
END:VEVENT
BEGIN:VEVENT
DTSTART;TZID=America/New_York:20260131T080000
DTEND;TZID=America/New_York:20260131T093000
DTSTAMP:20260422T175137
CREATED:20260105T191228Z
LAST-MODIFIED:20260105T191228Z
UID:10002798-1769846400-1769851800@www.artsquest.org
SUMMARY:The Rise and Fall of Bethlehem Steel Tour
DESCRIPTION:
URL:https://www.artsquest.org/event/the-rise-and-fall-of-bethlehem-steel-tour-1-31-2026/
LOCATION:PA
CATEGORIES:Tours
ATTACH;FMTTYPE=image/jpeg:https://www.artsquest.org/app/uploads/2025/08/rise-fall-tour.jpg
END:VEVENT
BEGIN:VEVENT
DTSTART;TZID=America/New_York:20260130T130000
DTEND;TZID=America/New_York:20260130T143000
DTSTAMP:20260422T175137
CREATED:20260105T191220Z
LAST-MODIFIED:20260105T191235Z
UID:10002796-1769778000-1769783400@www.artsquest.org
SUMMARY:The Rise and Fall of Bethlehem Steel Tour
DESCRIPTION:
URL:https://www.artsquest.org/event/the-rise-and-fall-of-bethlehem-steel-tour-1-30-2026/
LOCATION:PA
CATEGORIES:Tours
ATTACH;FMTTYPE=image/jpeg:https://www.artsquest.org/app/uploads/2025/08/rise-fall-tour.jpg
END:VEVENT
BEGIN:VEVENT
DTSTART;TZID=America/New_York:20260124T130000
DTEND;TZID=America/New_York:20260124T143000
DTSTAMP:20260422T175137
CREATED:20260105T191031Z
LAST-MODIFIED:20260105T191031Z
UID:10002793-1769259600-1769265000@www.artsquest.org
SUMMARY:The Rise and Fall of Bethlehem Steel Tour
DESCRIPTION:
URL:https://www.artsquest.org/event/the-rise-and-fall-of-bethlehem-steel-tour-1-24-2026/
LOCATION:PA
CATEGORIES:Tours
ATTACH;FMTTYPE=image/jpeg:https://www.artsquest.org/app/uploads/2025/08/rise-fall-tour.jpg
END:VEVENT
BEGIN:VEVENT
DTSTART;TZID=America/New_York:20260123T130000
DTEND;TZID=America/New_York:20260123T143000
DTSTAMP:20260422T175137
CREATED:20260105T190820Z
LAST-MODIFIED:20260105T190952Z
UID:10002794-1769173200-1769178600@www.artsquest.org
SUMMARY:The Rise and Fall of Bethlehem Steel Tour
DESCRIPTION:
URL:https://www.artsquest.org/event/the-rise-and-fall-of-bethlehem-steel-tour-1-23-2026/
LOCATION:PA
CATEGORIES:Tours
ATTACH;FMTTYPE=image/jpeg:https://www.artsquest.org/app/uploads/2025/08/rise-fall-tour.jpg
END:VEVENT
BEGIN:VEVENT
DTSTART;TZID=America/New_York:20260118T080000
DTEND;TZID=America/New_York:20260118T093000
DTSTAMP:20260422T175137
CREATED:20260105T190759Z
LAST-MODIFIED:20260105T190759Z
UID:10002792-1768723200-1768728600@www.artsquest.org
SUMMARY:The Rise and Fall of Bethlehem Steel Tour
DESCRIPTION:
URL:https://www.artsquest.org/event/the-rise-and-fall-of-bethlehem-steel-tour-1-18-2026/
LOCATION:PA
CATEGORIES:Tours
ATTACH;FMTTYPE=image/jpeg:https://www.artsquest.org/app/uploads/2025/08/rise-fall-tour.jpg
END:VEVENT
BEGIN:VEVENT
DTSTART;TZID=America/New_York:20260117T080000
DTEND;TZID=America/New_York:20260117T093000
DTSTAMP:20260422T175137
CREATED:20260105T190705Z
LAST-MODIFIED:20260105T190705Z
UID:10002791-1768636800-1768642200@www.artsquest.org
SUMMARY:The Rise and Fall of Bethlehem Steel Tour
DESCRIPTION:
URL:https://www.artsquest.org/event/the-rise-and-fall-of-bethlehem-steel-tour-1-17-2026/
LOCATION:PA
CATEGORIES:Tours
ATTACH;FMTTYPE=image/jpeg:https://www.artsquest.org/app/uploads/2025/08/rise-fall-tour.jpg
END:VEVENT
BEGIN:VEVENT
DTSTART;TZID=America/New_York:20260116T130000
DTEND;TZID=America/New_York:20260116T143000
DTSTAMP:20260422T175137
CREATED:20260105T190635Z
LAST-MODIFIED:20260112T215050Z
UID:10002789-1768568400-1768573800@www.artsquest.org
SUMMARY:The Rise and Fall of Bethlehem Steel Tour
DESCRIPTION:
URL:https://www.artsquest.org/event/the-rise-and-fall-of-bethlehem-steel-tour-1-16-2026/
LOCATION:Bethlehem Visitor Center at SteelStacks pres. by Lehigh Valley Health Network\, 711 E. First St.\, Bethlehem\, PA\, 18015\, United States
CATEGORIES:Tours
ATTACH;FMTTYPE=image/jpeg:https://www.artsquest.org/app/uploads/2025/08/rise-fall-tour.jpg
END:VEVENT
BEGIN:VEVENT
DTSTART;TZID=America/New_York:20260111T130000
DTEND;TZID=America/New_York:20260111T143000
DTSTAMP:20260422T175137
CREATED:20260105T190556Z
LAST-MODIFIED:20260105T190556Z
UID:10002790-1768136400-1768141800@www.artsquest.org
SUMMARY:The Rise and Fall of Bethlehem Steel Tour
DESCRIPTION:
URL:https://www.artsquest.org/event/the-rise-and-fall-of-bethlehem-steel-tour-1-11-2026/
LOCATION:PA
CATEGORIES:Tours
ATTACH;FMTTYPE=image/jpeg:https://www.artsquest.org/app/uploads/2025/08/rise-fall-tour.jpg
END:VEVENT
BEGIN:VEVENT
DTSTART;TZID=America/New_York:20260110T130000
DTEND;TZID=America/New_York:20260110T143000
DTSTAMP:20260422T175137
CREATED:20260105T185038Z
LAST-MODIFIED:20260105T185038Z
UID:10002788-1768050000-1768055400@www.artsquest.org
SUMMARY:The Rise and Fall of Bethlehem Steel Tour
DESCRIPTION:
URL:https://www.artsquest.org/event/the-rise-and-fall-of-bethlehem-steel-tour-1-10-2026/
LOCATION:PA
CATEGORIES:Tours
ATTACH;FMTTYPE=image/jpeg:https://www.artsquest.org/app/uploads/2025/08/rise-fall-tour.jpg
END:VEVENT
BEGIN:VEVENT
DTSTART;TZID=America/New_York:20260109T130000
DTEND;TZID=America/New_York:20260109T143000
DTSTAMP:20260422T175137
CREATED:20260105T184837Z
LAST-MODIFIED:20260105T184837Z
UID:10002787-1767963600-1767969000@www.artsquest.org
SUMMARY:The Rise and Fall of Bethlehem Steel Tour
DESCRIPTION:
URL:https://www.artsquest.org/event/the-rise-and-fall-of-bethlehem-steel-tour-1-9-2026/
LOCATION:PA
CATEGORIES:Tours
ATTACH;FMTTYPE=image/jpeg:https://www.artsquest.org/app/uploads/2025/08/rise-fall-tour.jpg
END:VEVENT
BEGIN:VEVENT
DTSTART;TZID=America/New_York:20260104T080000
DTEND;TZID=America/New_York:20260104T093000
DTSTAMP:20260422T175137
CREATED:20260102T152216Z
LAST-MODIFIED:20260102T153930Z
UID:10002779-1767513600-1767519000@www.artsquest.org
SUMMARY:The Rise and Fall of Bethlehem Steel Tour
DESCRIPTION:
URL:https://www.artsquest.org/event/the-rise-and-fall-of-bethlehem-steel-tour-1-4-2026/
LOCATION:PA
CATEGORIES:Tours
ATTACH;FMTTYPE=image/jpeg:https://www.artsquest.org/app/uploads/2025/08/rise-fall-tour.jpg
END:VEVENT
BEGIN:VEVENT
DTSTART;TZID=America/New_York:20260103T080000
DTEND;TZID=America/New_York:20260103T093000
DTSTAMP:20260422T175137
CREATED:20260102T152106Z
LAST-MODIFIED:20260102T152106Z
UID:10002778-1767427200-1767432600@www.artsquest.org
SUMMARY:The Rise and Fall of Bethlehem Steel Tour
DESCRIPTION:
URL:https://www.artsquest.org/event/the-rise-and-fall-of-bethlehem-steel-tour-1-3-2026/
LOCATION:PA
CATEGORIES:Tours
ATTACH;FMTTYPE=image/jpeg:https://www.artsquest.org/app/uploads/2025/08/rise-fall-tour.jpg
END:VEVENT
BEGIN:VEVENT
DTSTART;TZID=America/New_York:20260102T130000
DTEND;TZID=America/New_York:20260102T143000
DTSTAMP:20260422T175137
CREATED:20260102T151920Z
LAST-MODIFIED:20260102T153816Z
UID:10002777-1767358800-1767364200@www.artsquest.org
SUMMARY:The Rise and Fall of Bethlehem Steel Tour
DESCRIPTION:
URL:https://www.artsquest.org/event/the-rise-and-fall-of-bethlehem-steel-tour-1-2-26/
LOCATION:PA
CATEGORIES:Tours
ATTACH;FMTTYPE=image/jpeg:https://www.artsquest.org/app/uploads/2025/08/rise-fall-tour.jpg
END:VEVENT
BEGIN:VEVENT
DTSTART;TZID=America/New_York:20251229T080000
DTEND;TZID=America/New_York:20251229T093000
DTSTAMP:20260422T175137
CREATED:20251007T144939Z
LAST-MODIFIED:20251104T164006Z
UID:10000091-1766995200-1767000600@www.artsquest.org
SUMMARY:The Rise and Fall of Bethlehem Steel Tour
DESCRIPTION:
URL:https://www.artsquest.org/event/the-rise-and-fall-of-bethlehem-steel-tour-2025-12-29/
LOCATION:PA
CATEGORIES:Tours
ATTACH;FMTTYPE=image/jpeg:https://www.artsquest.org/app/uploads/2025/08/rise-fall-tour.jpg
END:VEVENT
BEGIN:VEVENT
DTSTART;TZID=America/New_York:20251228T080000
DTEND;TZID=America/New_York:20251228T093000
DTSTAMP:20260422T175137
CREATED:20251007T144908Z
LAST-MODIFIED:20251104T163957Z
UID:10000090-1766908800-1766914200@www.artsquest.org
SUMMARY:The Rise and Fall of Bethlehem Steel Tour
DESCRIPTION:
URL:https://www.artsquest.org/event/the-rise-and-fall-of-bethlehem-steel-tour-2025-12-28/
LOCATION:PA
CATEGORIES:Tours
ATTACH;FMTTYPE=image/jpeg:https://www.artsquest.org/app/uploads/2025/08/rise-fall-tour.jpg
END:VEVENT
BEGIN:VEVENT
DTSTART;TZID=America/New_York:20251227T080000
DTEND;TZID=America/New_York:20251227T093000
DTSTAMP:20260422T175137
CREATED:20251007T144832Z
LAST-MODIFIED:20251104T163942Z
UID:10000089-1766822400-1766827800@www.artsquest.org
SUMMARY:The Rise and Fall of Bethlehem Steel Tour
DESCRIPTION:
URL:https://www.artsquest.org/event/the-rise-and-fall-of-bethlehem-steel-tour-2025-12-27/
LOCATION:PA
CATEGORIES:Tours
ATTACH;FMTTYPE=image/jpeg:https://www.artsquest.org/app/uploads/2025/08/rise-fall-tour.jpg
END:VEVENT
BEGIN:VEVENT
DTSTART;TZID=America/New_York:20251226T080000
DTEND;TZID=America/New_York:20251226T093000
DTSTAMP:20260422T175137
CREATED:20251007T144721Z
LAST-MODIFIED:20251104T163932Z
UID:10000088-1766736000-1766741400@www.artsquest.org
SUMMARY:The Rise and Fall of Bethlehem Steel Tour
DESCRIPTION:
URL:https://www.artsquest.org/event/the-rise-and-fall-of-bethlehem-steel-tour-2025-12-26/
LOCATION:PA
CATEGORIES:Tours
ATTACH;FMTTYPE=image/jpeg:https://www.artsquest.org/app/uploads/2025/08/rise-fall-tour.jpg
END:VEVENT
BEGIN:VEVENT
DTSTART;TZID=America/New_York:20251222T080000
DTEND;TZID=America/New_York:20251222T093000
DTSTAMP:20260422T175137
CREATED:20251007T144644Z
LAST-MODIFIED:20251104T163919Z
UID:10000087-1766390400-1766395800@www.artsquest.org
SUMMARY:The Rise and Fall of Bethlehem Steel Tour
DESCRIPTION:
URL:https://www.artsquest.org/event/the-rise-and-fall-of-bethlehem-steel-tour-2025-12-22/
LOCATION:PA
CATEGORIES:Tours
ATTACH;FMTTYPE=image/jpeg:https://www.artsquest.org/app/uploads/2025/08/rise-fall-tour.jpg
END:VEVENT
BEGIN:VEVENT
DTSTART;TZID=America/New_York:20251221T080000
DTEND;TZID=America/New_York:20251221T093000
DTSTAMP:20260422T175137
CREATED:20251007T144610Z
LAST-MODIFIED:20251104T163910Z
UID:10000086-1766304000-1766309400@www.artsquest.org
SUMMARY:The Rise and Fall of Bethlehem Steel Tour
DESCRIPTION:
URL:https://www.artsquest.org/event/the-rise-and-fall-of-bethlehem-steel-tour-2025-12-21/
LOCATION:PA
CATEGORIES:Tours
ATTACH;FMTTYPE=image/jpeg:https://www.artsquest.org/app/uploads/2025/08/rise-fall-tour.jpg
END:VEVENT
BEGIN:VEVENT
DTSTART;TZID=America/New_York:20251220T080000
DTEND;TZID=America/New_York:20251220T093000
DTSTAMP:20260422T175137
CREATED:20251007T144527Z
LAST-MODIFIED:20251104T163901Z
UID:10000085-1766217600-1766223000@www.artsquest.org
SUMMARY:The Rise and Fall of Bethlehem Steel Tour
DESCRIPTION:
URL:https://www.artsquest.org/event/the-rise-and-fall-of-bethlehem-steel-tour-2025-12-20/
LOCATION:PA
CATEGORIES:Tours
ATTACH;FMTTYPE=image/jpeg:https://www.artsquest.org/app/uploads/2025/08/rise-fall-tour.jpg
END:VEVENT
BEGIN:VEVENT
DTSTART;TZID=America/New_York:20251219T080000
DTEND;TZID=America/New_York:20251219T093000
DTSTAMP:20260422T175137
CREATED:20251007T144454Z
LAST-MODIFIED:20251104T163846Z
UID:10000084-1766131200-1766136600@www.artsquest.org
SUMMARY:The Rise and Fall of Bethlehem Steel Tour
DESCRIPTION:
URL:https://www.artsquest.org/event/the-rise-and-fall-of-bethlehem-steel-tour-2025-12-19/
LOCATION:PA
CATEGORIES:Tours
ATTACH;FMTTYPE=image/jpeg:https://www.artsquest.org/app/uploads/2025/08/rise-fall-tour.jpg
END:VEVENT
BEGIN:VEVENT
DTSTART;TZID=America/New_York:20251215T080000
DTEND;TZID=America/New_York:20251215T093000
DTSTAMP:20260422T175137
CREATED:20251007T144415Z
LAST-MODIFIED:20251104T163809Z
UID:10000083-1765785600-1765791000@www.artsquest.org
SUMMARY:The Rise and Fall of Bethlehem Steel Tour
DESCRIPTION:
URL:https://www.artsquest.org/event/the-rise-and-fall-of-bethlehem-steel-tour-2025-12-15/
LOCATION:PA
CATEGORIES:Tours
ATTACH;FMTTYPE=image/jpeg:https://www.artsquest.org/app/uploads/2025/08/rise-fall-tour.jpg
END:VEVENT
BEGIN:VEVENT
DTSTART;TZID=America/New_York:20251214T080000
DTEND;TZID=America/New_York:20251214T093000
DTSTAMP:20260422T175137
CREATED:20251007T144339Z
LAST-MODIFIED:20251104T163757Z
UID:10000082-1765699200-1765704600@www.artsquest.org
SUMMARY:The Rise and Fall of Bethlehem Steel Tour
DESCRIPTION:
URL:https://www.artsquest.org/event/the-rise-and-fall-of-bethlehem-steel-tour-2025-12-14/
LOCATION:PA
CATEGORIES:Tours
ATTACH;FMTTYPE=image/jpeg:https://www.artsquest.org/app/uploads/2025/08/rise-fall-tour.jpg
END:VEVENT
BEGIN:VEVENT
DTSTART;TZID=America/New_York:20251213T080000
DTEND;TZID=America/New_York:20251213T093000
DTSTAMP:20260422T175137
CREATED:20251007T144300Z
LAST-MODIFIED:20251104T163748Z
UID:10000081-1765612800-1765618200@www.artsquest.org
SUMMARY:The Rise and Fall of Bethlehem Steel Tour
DESCRIPTION:
URL:https://www.artsquest.org/event/the-rise-and-fall-of-bethlehem-steel-tour-2025-12-13/
LOCATION:PA
CATEGORIES:Tours
ATTACH;FMTTYPE=image/jpeg:https://www.artsquest.org/app/uploads/2025/08/rise-fall-tour.jpg
END:VEVENT
BEGIN:VEVENT
DTSTART;TZID=America/New_York:20251212T080000
DTEND;TZID=America/New_York:20251212T093000
DTSTAMP:20260422T175137
CREATED:20251007T144228Z
LAST-MODIFIED:20251104T163739Z
UID:10000080-1765526400-1765531800@www.artsquest.org
SUMMARY:The Rise and Fall of Bethlehem Steel Tour
DESCRIPTION:
URL:https://www.artsquest.org/event/the-rise-and-fall-of-bethlehem-steel-tour-2025-12-12/
LOCATION:PA
CATEGORIES:Tours
ATTACH;FMTTYPE=image/jpeg:https://www.artsquest.org/app/uploads/2025/08/rise-fall-tour.jpg
END:VEVENT
BEGIN:VEVENT
DTSTART;TZID=America/New_York:20251208T080000
DTEND;TZID=America/New_York:20251208T093000
DTSTAMP:20260422T175137
CREATED:20251007T144158Z
LAST-MODIFIED:20251104T163611Z
UID:10000079-1765180800-1765186200@www.artsquest.org
SUMMARY:The Rise and Fall of Bethlehem Steel Tour
DESCRIPTION:
URL:https://www.artsquest.org/event/the-rise-and-fall-of-bethlehem-steel-tour-2025-12-8/
LOCATION:PA
CATEGORIES:Tours
ATTACH;FMTTYPE=image/jpeg:https://www.artsquest.org/app/uploads/2025/08/rise-fall-tour.jpg
END:VEVENT
BEGIN:VEVENT
DTSTART;TZID=America/New_York:20251207T080000
DTEND;TZID=America/New_York:20251207T093000
DTSTAMP:20260422T175137
CREATED:20251007T144125Z
LAST-MODIFIED:20251104T163601Z
UID:10000078-1765094400-1765099800@www.artsquest.org
SUMMARY:The Rise and Fall of Bethlehem Steel Tour
DESCRIPTION:
URL:https://www.artsquest.org/event/the-rise-and-fall-of-bethlehem-steel-tour-2025-12-7/
LOCATION:PA
CATEGORIES:Tours
ATTACH;FMTTYPE=image/jpeg:https://www.artsquest.org/app/uploads/2025/08/rise-fall-tour.jpg
END:VEVENT
END:VCALENDAR