BEGIN:VCALENDAR
VERSION:2.0
PRODID:-//ArtsQuest - ECPv6.15.5//NONSGML v1.0//EN
CALSCALE:GREGORIAN
METHOD:PUBLISH
X-WR-CALNAME:ArtsQuest
X-ORIGINAL-URL:https://www.artsquest.org
X-WR-CALDESC:Events for ArtsQuest
REFRESH-INTERVAL;VALUE=DURATION:PT1H
X-Robots-Tag:noindex
X-PUBLISHED-TTL:PT1H
BEGIN:VTIMEZONE
TZID:America/New_York
BEGIN:DAYLIGHT
TZOFFSETFROM:-0500
TZOFFSETTO:-0400
TZNAME:EDT
DTSTART:20260308T070000
END:DAYLIGHT
BEGIN:STANDARD
TZOFFSETFROM:-0400
TZOFFSETTO:-0500
TZNAME:EST
DTSTART:20261101T060000
END:STANDARD
END:VTIMEZONE
BEGIN:VEVENT
DTSTART;TZID=America/New_York:20260306T174500
DTEND;TZID=America/New_York:20260306T191000
DTSTAMP:20260423T073934
CREATED:20260303T173124Z
LAST-MODIFIED:20260303T173124Z
UID:10003455-1772819100-1772824200@www.artsquest.org
SUMMARY:EPiC: Elvis Presley in Concert
DESCRIPTION:
URL:https://www.artsquest.org/event/epic-elvis-presley-in-concert-23/
LOCATION:Frank Banko Alehouse Cinemas\, 101 Founders Way\, Bethlehem\, PA\, 18015\, United States
CATEGORIES:Film
ATTACH;FMTTYPE=image/jpeg:https://www.artsquest.org/app/uploads/2026/02/FILM_EPIC_1920x1080.jpg
END:VEVENT
BEGIN:VEVENT
DTSTART;TZID=America/New_York:20260306T164500
DTEND;TZID=America/New_York:20260306T185000
DTSTAMP:20260423T073934
CREATED:20260303T171547Z
LAST-MODIFIED:20260303T171547Z
UID:10003439-1772815500-1772823000@www.artsquest.org
SUMMARY:The Hail Mary
DESCRIPTION:
URL:https://www.artsquest.org/event/the-hail-mary-23/
LOCATION:Frank Banko Alehouse Cinemas\, 101 Founders Way\, Bethlehem\, PA\, 18015\, United States
CATEGORIES:Film
ATTACH;FMTTYPE=image/jpeg:https://www.artsquest.org/app/uploads/2026/01/FILM_HailMary_1200x392.jpg
END:VEVENT
BEGIN:VEVENT
DTSTART;TZID=America/New_York:20260306T153000
DTEND;TZID=America/New_York:20260306T171000
DTSTAMP:20260423T073934
CREATED:20260303T173032Z
LAST-MODIFIED:20260303T173032Z
UID:10003454-1772811000-1772817000@www.artsquest.org
SUMMARY:EPiC: Elvis Presley in Concert
DESCRIPTION:
URL:https://www.artsquest.org/event/epic-elvis-presley-in-concert-22/
LOCATION:Frank Banko Alehouse Cinemas\, 101 Founders Way\, Bethlehem\, PA\, 18015\, United States
CATEGORIES:Film
ATTACH;FMTTYPE=image/jpeg:https://www.artsquest.org/app/uploads/2026/02/FILM_EPIC_1920x1080.jpg
END:VEVENT
BEGIN:VEVENT
DTSTART;TZID=America/New_York:20260306T141000
DTEND;TZID=America/New_York:20260306T162000
DTSTAMP:20260423T073934
CREATED:20260303T171501Z
LAST-MODIFIED:20260303T171501Z
UID:10003438-1772806200-1772814000@www.artsquest.org
SUMMARY:The Hail Mary
DESCRIPTION:
URL:https://www.artsquest.org/event/the-hail-mary-22/
LOCATION:Frank Banko Alehouse Cinemas\, 101 Founders Way\, Bethlehem\, PA\, 18015\, United States
CATEGORIES:Film
ATTACH;FMTTYPE=image/jpeg:https://www.artsquest.org/app/uploads/2026/01/FILM_HailMary_1200x392.jpg
END:VEVENT
BEGIN:VEVENT
DTSTART;TZID=America/New_York:20260306T121500
DTEND;TZID=America/New_York:20260306T151000
DTSTAMP:20260423T073934
CREATED:20260303T181506Z
LAST-MODIFIED:20260303T181506Z
UID:10003472-1772799300-1772809800@www.artsquest.org
SUMMARY:2026 Oscar Nominated Shorts - Documentary
DESCRIPTION:
URL:https://www.artsquest.org/event/2026-oscar-nominated-shorts-documentary-5/
LOCATION:Frank Banko Alehouse Cinemas\, 101 Founders Way\, Bethlehem\, PA\, 18015\, United States
CATEGORIES:Film
ATTACH;FMTTYPE=image/jpeg:https://www.artsquest.org/app/uploads/2026/02/FILM_ONS_DOCUMENTARY.jpg
END:VEVENT
BEGIN:VEVENT
DTSTART;TZID=America/New_York:20260306T120000
DTEND;TZID=America/New_York:20260306T134000
DTSTAMP:20260423T073934
CREATED:20260303T172938Z
LAST-MODIFIED:20260303T172938Z
UID:10003453-1772798400-1772804400@www.artsquest.org
SUMMARY:EPiC: Elvis Presley in Concert
DESCRIPTION:
URL:https://www.artsquest.org/event/epic-elvis-presley-in-concert-21/
LOCATION:Frank Banko Alehouse Cinemas\, 101 Founders Way\, Bethlehem\, PA\, 18015\, United States
CATEGORIES:Film
ATTACH;FMTTYPE=image/jpeg:https://www.artsquest.org/app/uploads/2026/02/FILM_EPIC_1920x1080.jpg
END:VEVENT
BEGIN:VEVENT
DTSTART;TZID=America/New_York:20260305T193000
DTEND;TZID=America/New_York:20260305T211000
DTSTAMP:20260423T073934
CREATED:20260206T165130Z
LAST-MODIFIED:20260206T165130Z
UID:10003236-1772739000-1772745000@www.artsquest.org
SUMMARY:EPiC: Elvis Presley in Concert
DESCRIPTION:
URL:https://www.artsquest.org/event/epic-elvis-presley-in-concert-20/
LOCATION:Frank Banko Alehouse Cinemas\, 101 Founders Way\, Bethlehem\, PA\, 18015\, United States
CATEGORIES:Film
ATTACH;FMTTYPE=image/jpeg:https://www.artsquest.org/app/uploads/2026/02/FILM_EPIC_1920x1080.jpg
END:VEVENT
BEGIN:VEVENT
DTSTART;TZID=America/New_York:20260305T191500
DTEND;TZID=America/New_York:20260305T212000
DTSTAMP:20260423T073934
CREATED:20260121T204819Z
LAST-MODIFIED:20260219T185020Z
UID:10003003-1772738100-1772745600@www.artsquest.org
SUMMARY:The Hail Mary
DESCRIPTION:
URL:https://www.artsquest.org/event/the-hail-mary-21/
LOCATION:Frank Banko Alehouse Cinemas\, 101 Founders Way\, Bethlehem\, PA\, 18015\, United States
CATEGORIES:Film
ATTACH;FMTTYPE=image/jpeg:https://www.artsquest.org/app/uploads/2026/01/FILM_HailMary_1200x392.jpg
END:VEVENT
BEGIN:VEVENT
DTSTART;TZID=America/New_York:20260305T163000
DTEND;TZID=America/New_York:20260305T181000
DTSTAMP:20260423T073934
CREATED:20260206T165045Z
LAST-MODIFIED:20260206T165045Z
UID:10003235-1772728200-1772734200@www.artsquest.org
SUMMARY:EPiC: Elvis Presley in Concert
DESCRIPTION:
URL:https://www.artsquest.org/event/epic-elvis-presley-in-concert-19/
LOCATION:Frank Banko Alehouse Cinemas\, 101 Founders Way\, Bethlehem\, PA\, 18015\, United States
CATEGORIES:Film
ATTACH;FMTTYPE=image/jpeg:https://www.artsquest.org/app/uploads/2026/02/FILM_EPIC_1920x1080.jpg
END:VEVENT
BEGIN:VEVENT
DTSTART;TZID=America/New_York:20260305T161500
DTEND;TZID=America/New_York:20260305T182000
DTSTAMP:20260423T073934
CREATED:20260121T204749Z
LAST-MODIFIED:20260219T185015Z
UID:10003002-1772727300-1772734800@www.artsquest.org
SUMMARY:The Hail Mary
DESCRIPTION:
URL:https://www.artsquest.org/event/the-hail-mary-20/
LOCATION:Frank Banko Alehouse Cinemas\, 101 Founders Way\, Bethlehem\, PA\, 18015\, United States
CATEGORIES:Film
ATTACH;FMTTYPE=image/jpeg:https://www.artsquest.org/app/uploads/2026/01/FILM_HailMary_1200x392.jpg
END:VEVENT
BEGIN:VEVENT
DTSTART;TZID=America/New_York:20260305T133000
DTEND;TZID=America/New_York:20260305T151000
DTSTAMP:20260423T073934
CREATED:20260206T165012Z
LAST-MODIFIED:20260206T165012Z
UID:10003234-1772717400-1772723400@www.artsquest.org
SUMMARY:EPiC: Elvis Presley in Concert
DESCRIPTION:
URL:https://www.artsquest.org/event/epic-elvis-presley-in-concert-18/
LOCATION:Frank Banko Alehouse Cinemas\, 101 Founders Way\, Bethlehem\, PA\, 18015\, United States
CATEGORIES:Film
ATTACH;FMTTYPE=image/jpeg:https://www.artsquest.org/app/uploads/2026/02/FILM_EPIC_1920x1080.jpg
END:VEVENT
BEGIN:VEVENT
DTSTART;TZID=America/New_York:20260305T131500
DTEND;TZID=America/New_York:20260305T152000
DTSTAMP:20260423T073934
CREATED:20260121T204718Z
LAST-MODIFIED:20260219T185010Z
UID:10003001-1772716500-1772724000@www.artsquest.org
SUMMARY:The Hail Mary
DESCRIPTION:
URL:https://www.artsquest.org/event/the-hail-mary-19/
LOCATION:Frank Banko Alehouse Cinemas\, 101 Founders Way\, Bethlehem\, PA\, 18015\, United States
CATEGORIES:Film
ATTACH;FMTTYPE=image/jpeg:https://www.artsquest.org/app/uploads/2026/01/FILM_HailMary_1200x392.jpg
END:VEVENT
BEGIN:VEVENT
DTSTART;TZID=America/New_York:20260304T193000
DTEND;TZID=America/New_York:20260304T211000
DTSTAMP:20260423T073934
CREATED:20260206T164918Z
LAST-MODIFIED:20260206T164918Z
UID:10003233-1772652600-1772658600@www.artsquest.org
SUMMARY:EPiC: Elvis Presley in Concert
DESCRIPTION:
URL:https://www.artsquest.org/event/epic-elvis-presley-in-concert-17/
LOCATION:Frank Banko Alehouse Cinemas\, 101 Founders Way\, Bethlehem\, PA\, 18015\, United States
CATEGORIES:Film
ATTACH;FMTTYPE=image/jpeg:https://www.artsquest.org/app/uploads/2026/02/FILM_EPIC_1920x1080.jpg
END:VEVENT
BEGIN:VEVENT
DTSTART;TZID=America/New_York:20260304T191500
DTEND;TZID=America/New_York:20260304T212000
DTSTAMP:20260423T073934
CREATED:20260121T204647Z
LAST-MODIFIED:20260219T184954Z
UID:10003000-1772651700-1772659200@www.artsquest.org
SUMMARY:The Hail Mary
DESCRIPTION:
URL:https://www.artsquest.org/event/the-hail-mary-18/
LOCATION:Frank Banko Alehouse Cinemas\, 101 Founders Way\, Bethlehem\, PA\, 18015\, United States
CATEGORIES:Film
ATTACH;FMTTYPE=image/jpeg:https://www.artsquest.org/app/uploads/2026/01/FILM_HailMary_1200x392.jpg
END:VEVENT
BEGIN:VEVENT
DTSTART;TZID=America/New_York:20260304T163000
DTEND;TZID=America/New_York:20260304T181000
DTSTAMP:20260423T073934
CREATED:20260206T164845Z
LAST-MODIFIED:20260206T164845Z
UID:10003232-1772641800-1772647800@www.artsquest.org
SUMMARY:EPiC: Elvis Presley in Concert
DESCRIPTION:
URL:https://www.artsquest.org/event/epic-elvis-presley-in-concert-16/
LOCATION:Frank Banko Alehouse Cinemas\, 101 Founders Way\, Bethlehem\, PA\, 18015\, United States
CATEGORIES:Film
ATTACH;FMTTYPE=image/jpeg:https://www.artsquest.org/app/uploads/2026/02/FILM_EPIC_1920x1080.jpg
END:VEVENT
BEGIN:VEVENT
DTSTART;TZID=America/New_York:20260304T161500
DTEND;TZID=America/New_York:20260304T182000
DTSTAMP:20260423T073934
CREATED:20260121T204615Z
LAST-MODIFIED:20260219T184949Z
UID:10002999-1772640900-1772648400@www.artsquest.org
SUMMARY:The Hail Mary
DESCRIPTION:
URL:https://www.artsquest.org/event/the-hail-mary-17/
LOCATION:Frank Banko Alehouse Cinemas\, 101 Founders Way\, Bethlehem\, PA\, 18015\, United States
CATEGORIES:Film
ATTACH;FMTTYPE=image/jpeg:https://www.artsquest.org/app/uploads/2026/01/FILM_HailMary_1200x392.jpg
END:VEVENT
BEGIN:VEVENT
DTSTART;TZID=America/New_York:20260304T143000
DTEND;TZID=America/New_York:20260304T160000
DTSTAMP:20260423T073934
CREATED:20260217T150009Z
LAST-MODIFIED:20260219T220200Z
UID:10003262-1772634600-1772640000@www.artsquest.org
SUMMARY:The Oscars Prediction Show (Virtual Program)
DESCRIPTION:
URL:https://www.artsquest.org/event/the-oscars-prediction-show-virtual-program/
LOCATION:Frank Banko Alehouse Cinemas\, 101 Founders Way\, Bethlehem\, PA\, 18015\, United States
CATEGORIES:Film
ATTACH;FMTTYPE=image/jpeg:https://www.artsquest.org/app/uploads/2026/02/FILM_OscarPredictions_1920x1080.jpg
END:VEVENT
BEGIN:VEVENT
DTSTART;TZID=America/New_York:20260304T133000
DTEND;TZID=America/New_York:20260304T151000
DTSTAMP:20260423T073934
CREATED:20260206T164753Z
LAST-MODIFIED:20260206T164753Z
UID:10003231-1772631000-1772637000@www.artsquest.org
SUMMARY:EPiC: Elvis Presley in Concert
DESCRIPTION:
URL:https://www.artsquest.org/event/epic-elvis-presley-in-concert-15/
LOCATION:Frank Banko Alehouse Cinemas\, 101 Founders Way\, Bethlehem\, PA\, 18015\, United States
CATEGORIES:Film
ATTACH;FMTTYPE=image/jpeg:https://www.artsquest.org/app/uploads/2026/02/FILM_EPIC_1920x1080.jpg
END:VEVENT
BEGIN:VEVENT
DTSTART;TZID=America/New_York:20260304T131500
DTEND;TZID=America/New_York:20260304T152000
DTSTAMP:20260423T073934
CREATED:20260121T204520Z
LAST-MODIFIED:20260219T184944Z
UID:10002998-1772630100-1772637600@www.artsquest.org
SUMMARY:The Hail Mary
DESCRIPTION:
URL:https://www.artsquest.org/event/the-hail-mary-16/
LOCATION:Frank Banko Alehouse Cinemas\, 101 Founders Way\, Bethlehem\, PA\, 18015\, United States
CATEGORIES:Film
ATTACH;FMTTYPE=image/jpeg:https://www.artsquest.org/app/uploads/2026/01/FILM_HailMary_1200x392.jpg
END:VEVENT
BEGIN:VEVENT
DTSTART;TZID=America/New_York:20260303T193000
DTEND;TZID=America/New_York:20260303T211000
DTSTAMP:20260423T073934
CREATED:20260206T164656Z
LAST-MODIFIED:20260206T164656Z
UID:10003230-1772566200-1772572200@www.artsquest.org
SUMMARY:EPiC: Elvis Presley in Concert
DESCRIPTION:
URL:https://www.artsquest.org/event/epic-elvis-presley-in-concert-14/
LOCATION:Frank Banko Alehouse Cinemas\, 101 Founders Way\, Bethlehem\, PA\, 18015\, United States
CATEGORIES:Film
ATTACH;FMTTYPE=image/jpeg:https://www.artsquest.org/app/uploads/2026/02/FILM_EPIC_1920x1080.jpg
END:VEVENT
BEGIN:VEVENT
DTSTART;TZID=America/New_York:20260303T191500
DTEND;TZID=America/New_York:20260303T212000
DTSTAMP:20260423T073934
CREATED:20260121T204401Z
LAST-MODIFIED:20260219T184939Z
UID:10002997-1772565300-1772572800@www.artsquest.org
SUMMARY:The Hail Mary
DESCRIPTION:
URL:https://www.artsquest.org/event/the-hail-mary-15/
LOCATION:Frank Banko Alehouse Cinemas\, 101 Founders Way\, Bethlehem\, PA\, 18015\, United States
CATEGORIES:Film
ATTACH;FMTTYPE=image/jpeg:https://www.artsquest.org/app/uploads/2026/01/FILM_HailMary_1200x392.jpg
END:VEVENT
BEGIN:VEVENT
DTSTART;TZID=America/New_York:20260303T163000
DTEND;TZID=America/New_York:20260303T181000
DTSTAMP:20260423T073934
CREATED:20260206T164446Z
LAST-MODIFIED:20260206T164446Z
UID:10003229-1772555400-1772561400@www.artsquest.org
SUMMARY:EPiC: Elvis Presley in Concert
DESCRIPTION:
URL:https://www.artsquest.org/event/epic-elvis-presley-in-concert-13/
LOCATION:Frank Banko Alehouse Cinemas\, 101 Founders Way\, Bethlehem\, PA\, 18015\, United States
CATEGORIES:Film
ATTACH;FMTTYPE=image/jpeg:https://www.artsquest.org/app/uploads/2026/02/FILM_EPIC_1920x1080.jpg
END:VEVENT
BEGIN:VEVENT
DTSTART;TZID=America/New_York:20260303T161500
DTEND;TZID=America/New_York:20260303T182000
DTSTAMP:20260423T073934
CREATED:20260121T204309Z
LAST-MODIFIED:20260219T184922Z
UID:10002996-1772554500-1772562000@www.artsquest.org
SUMMARY:The Hail Mary
DESCRIPTION:
URL:https://www.artsquest.org/event/the-hail-mary-14/
LOCATION:Frank Banko Alehouse Cinemas\, 101 Founders Way\, Bethlehem\, PA\, 18015\, United States
CATEGORIES:Film
ATTACH;FMTTYPE=image/jpeg:https://www.artsquest.org/app/uploads/2026/01/FILM_HailMary_1200x392.jpg
END:VEVENT
BEGIN:VEVENT
DTSTART;TZID=America/New_York:20260302T193000
DTEND;TZID=America/New_York:20260302T211000
DTSTAMP:20260423T073934
CREATED:20260206T162259Z
LAST-MODIFIED:20260206T162259Z
UID:10003228-1772479800-1772485800@www.artsquest.org
SUMMARY:EPiC: Elvis Presley in Concert
DESCRIPTION:
URL:https://www.artsquest.org/event/epic-elvis-presley-in-concert-12/
LOCATION:Frank Banko Alehouse Cinemas\, 101 Founders Way\, Bethlehem\, PA\, 18015\, United States
CATEGORIES:Film
ATTACH;FMTTYPE=image/jpeg:https://www.artsquest.org/app/uploads/2026/02/FILM_EPIC_1920x1080.jpg
END:VEVENT
BEGIN:VEVENT
DTSTART;TZID=America/New_York:20260302T191500
DTEND;TZID=America/New_York:20260302T212000
DTSTAMP:20260423T073934
CREATED:20260121T204235Z
LAST-MODIFIED:20260219T184915Z
UID:10002995-1772478900-1772486400@www.artsquest.org
SUMMARY:The Hail Mary
DESCRIPTION:
URL:https://www.artsquest.org/event/the-hail-mary-13/
LOCATION:Frank Banko Alehouse Cinemas\, 101 Founders Way\, Bethlehem\, PA\, 18015\, United States
CATEGORIES:Film
ATTACH;FMTTYPE=image/jpeg:https://www.artsquest.org/app/uploads/2026/01/FILM_HailMary_1200x392.jpg
END:VEVENT
BEGIN:VEVENT
DTSTART;TZID=America/New_York:20260302T163000
DTEND;TZID=America/New_York:20260302T181000
DTSTAMP:20260423T073934
CREATED:20260206T162218Z
LAST-MODIFIED:20260206T162218Z
UID:10003227-1772469000-1772475000@www.artsquest.org
SUMMARY:EPiC: Elvis Presley in Concert
DESCRIPTION:
URL:https://www.artsquest.org/event/epic-elvis-presley-in-concert-11/
LOCATION:Frank Banko Alehouse Cinemas\, 101 Founders Way\, Bethlehem\, PA\, 18015\, United States
CATEGORIES:Film
ATTACH;FMTTYPE=image/jpeg:https://www.artsquest.org/app/uploads/2026/02/FILM_EPIC_1920x1080.jpg
END:VEVENT
BEGIN:VEVENT
DTSTART;TZID=America/New_York:20260302T161500
DTEND;TZID=America/New_York:20260302T182000
DTSTAMP:20260423T073934
CREATED:20260121T204156Z
LAST-MODIFIED:20260219T184910Z
UID:10002993-1772468100-1772475600@www.artsquest.org
SUMMARY:The Hail Mary
DESCRIPTION:
URL:https://www.artsquest.org/event/the-hail-mary-12/
LOCATION:Frank Banko Alehouse Cinemas\, 101 Founders Way\, Bethlehem\, PA\, 18015\, United States
CATEGORIES:Film
ATTACH;FMTTYPE=image/jpeg:https://www.artsquest.org/app/uploads/2026/01/FILM_HailMary_1200x392.jpg
END:VEVENT
BEGIN:VEVENT
DTSTART;TZID=America/New_York:20260301T183000
DTEND;TZID=America/New_York:20260301T201000
DTSTAMP:20260423T073934
CREATED:20260206T162042Z
LAST-MODIFIED:20260206T162042Z
UID:10003226-1772389800-1772395800@www.artsquest.org
SUMMARY:EPiC: Elvis Presley in Concert
DESCRIPTION:
URL:https://www.artsquest.org/event/epic-elvis-presley-in-concert-10/
LOCATION:Frank Banko Alehouse Cinemas\, 101 Founders Way\, Bethlehem\, PA\, 18015\, United States
CATEGORIES:Film
ATTACH;FMTTYPE=image/jpeg:https://www.artsquest.org/app/uploads/2026/02/FILM_EPIC_1920x1080.jpg
END:VEVENT
BEGIN:VEVENT
DTSTART;TZID=America/New_York:20260301T180000
DTEND;TZID=America/New_York:20260301T200500
DTSTAMP:20260423T073934
CREATED:20260121T203921Z
LAST-MODIFIED:20260219T184853Z
UID:10002992-1772388000-1772395500@www.artsquest.org
SUMMARY:The Hail Mary
DESCRIPTION:
URL:https://www.artsquest.org/event/the-hail-mary-11/
LOCATION:Frank Banko Alehouse Cinemas\, 101 Founders Way\, Bethlehem\, PA\, 18015\, United States
CATEGORIES:Film
ATTACH;FMTTYPE=image/jpeg:https://www.artsquest.org/app/uploads/2026/01/FILM_HailMary_1200x392.jpg
END:VEVENT
BEGIN:VEVENT
DTSTART;TZID=America/New_York:20260301T153000
DTEND;TZID=America/New_York:20260301T171000
DTSTAMP:20260423T073934
CREATED:20260206T162008Z
LAST-MODIFIED:20260206T162008Z
UID:10003225-1772379000-1772385000@www.artsquest.org
SUMMARY:EPiC: Elvis Presley in Concert
DESCRIPTION:
URL:https://www.artsquest.org/event/epic-elvis-presley-in-concert-9/
LOCATION:Frank Banko Alehouse Cinemas\, 101 Founders Way\, Bethlehem\, PA\, 18015\, United States
CATEGORIES:Film
ATTACH;FMTTYPE=image/jpeg:https://www.artsquest.org/app/uploads/2026/02/FILM_EPIC_1920x1080.jpg
END:VEVENT
END:VCALENDAR