BEGIN:VCALENDAR
VERSION:2.0
PRODID:-//ArtsQuest - ECPv6.15.5//NONSGML v1.0//EN
CALSCALE:GREGORIAN
METHOD:PUBLISH
X-ORIGINAL-URL:https://www.artsquest.org
X-WR-CALDESC:Events for ArtsQuest
REFRESH-INTERVAL;VALUE=DURATION:PT1H
X-Robots-Tag:noindex
X-PUBLISHED-TTL:PT1H
BEGIN:VTIMEZONE
TZID:America/New_York
BEGIN:DAYLIGHT
TZOFFSETFROM:-0500
TZOFFSETTO:-0400
TZNAME:EDT
DTSTART:20260308T070000
END:DAYLIGHT
BEGIN:STANDARD
TZOFFSETFROM:-0400
TZOFFSETTO:-0500
TZNAME:EST
DTSTART:20261101T060000
END:STANDARD
END:VTIMEZONE
BEGIN:VEVENT
DTSTART;TZID=America/New_York:20260327T170000
DTEND;TZID=America/New_York:20260327T184000
DTSTAMP:20260422T185638
CREATED:20260326T150116Z
LAST-MODIFIED:20260326T150116Z
UID:10003989-1774630800-1774636800@www.artsquest.org
SUMMARY:Solo Mio
DESCRIPTION:
URL:https://www.artsquest.org/event/solo-mio/
LOCATION:Frank Banko Alehouse Cinemas\, 101 Founders Way\, Bethlehem\, PA\, 18015\, United States
CATEGORIES:Film
ATTACH;FMTTYPE=image/jpeg:https://www.artsquest.org/app/uploads/2026/03/FILM_SoloMio_1920x1080.jpg
END:VEVENT
BEGIN:VEVENT
DTSTART;TZID=America/New_York:20260327T193000
DTEND;TZID=America/New_York:20260327T211500
DTSTAMP:20260422T185638
CREATED:20260326T151751Z
LAST-MODIFIED:20260326T151751Z
UID:10003997-1774639800-1774646100@www.artsquest.org
SUMMARY:The AI Doc: Or How I Became an Apocaloptimist
DESCRIPTION:
URL:https://www.artsquest.org/event/the-ai-doc-or-how-i-became-an-apocaloptimist-3/
LOCATION:Frank Banko Alehouse Cinemas\, 101 Founders Way\, Bethlehem\, PA\, 18015\, United States
CATEGORIES:Film
ATTACH;FMTTYPE=image/jpeg:https://www.artsquest.org/app/uploads/2026/03/FILM_AIDoc_1920x1080.jpg
END:VEVENT
BEGIN:VEVENT
DTSTART;TZID=America/New_York:20260327T200000
DTEND;TZID=America/New_York:20260327T221500
DTSTAMP:20260422T185638
CREATED:20260311T140031Z
LAST-MODIFIED:20260320T185146Z
UID:10003546-1774641600-1774649700@www.artsquest.org
SUMMARY:The Mummy Returns: 25th Anniversary
DESCRIPTION:
URL:https://www.artsquest.org/event/the-mummy-returns-25th-anniversary/
LOCATION:Frank Banko Alehouse Cinemas\, 101 Founders Way\, Bethlehem\, PA\, 18015\, United States
CATEGORIES:Film
ATTACH;FMTTYPE=image/jpeg:https://www.artsquest.org/app/uploads/2026/03/FILM_Mummy_1920x1080.jpg
END:VEVENT
BEGIN:VEVENT
DTSTART;TZID=America/New_York:20260327T214500
DTEND;TZID=America/New_York:20260327T233500
DTSTAMP:20260422T185638
CREATED:20260218T150019Z
LAST-MODIFIED:20260320T184948Z
UID:10003261-1774647900-1774654500@www.artsquest.org
SUMMARY:Heel
DESCRIPTION:
URL:https://www.artsquest.org/event/heel/
LOCATION:Frank Banko Alehouse Cinemas\, 101 Founders Way\, Bethlehem\, PA\, 18015\, United States
CATEGORIES:Film
ATTACH;FMTTYPE=image/jpeg:https://www.artsquest.org/app/uploads/2026/02/FILM_Heel_1920x1080.jpg
END:VEVENT
BEGIN:VEVENT
DTSTART;TZID=America/New_York:20260327T233000
DTEND;TZID=America/New_York:20260328T013000
DTSTAMP:20260422T185638
CREATED:20251222T150037Z
LAST-MODIFIED:20260304T170337Z
UID:10002587-1774654200-1774661400@www.artsquest.org
SUMMARY:The Rocky Horror Picture Show (50th Anniversary)
DESCRIPTION:
URL:https://www.artsquest.org/event/the-rocky-horror-picture-show-50th-anniversary-3/
LOCATION:Frank Banko Alehouse Cinemas\, 101 Founders Way\, Bethlehem\, PA\, 18015\, United States
CATEGORIES:Film
ATTACH;FMTTYPE=image/jpeg:https://www.artsquest.org/app/uploads/2025/12/FILM_RockyHorrorCrop_1920x1080.jpg
END:VEVENT
BEGIN:VEVENT
DTSTART;TZID=America/New_York:20260328T133000
DTEND;TZID=America/New_York:20260328T151500
DTSTAMP:20260422T185638
CREATED:20260326T151837Z
LAST-MODIFIED:20260326T151837Z
UID:10003998-1774704600-1774710900@www.artsquest.org
SUMMARY:The AI Doc: Or How I Became an Apocaloptimist
DESCRIPTION:
URL:https://www.artsquest.org/event/the-ai-doc-or-how-i-became-an-apocaloptimist-4/
LOCATION:Frank Banko Alehouse Cinemas\, 101 Founders Way\, Bethlehem\, PA\, 18015\, United States
CATEGORIES:Film
ATTACH;FMTTYPE=image/jpeg:https://www.artsquest.org/app/uploads/2026/03/FILM_AIDoc_1920x1080.jpg
END:VEVENT
BEGIN:VEVENT
DTSTART;TZID=America/New_York:20260328T140000
DTEND;TZID=America/New_York:20260328T154000
DTSTAMP:20260422T185638
CREATED:20260326T150333Z
LAST-MODIFIED:20260326T150333Z
UID:10003990-1774706400-1774712400@www.artsquest.org
SUMMARY:Solo Mio
DESCRIPTION:
URL:https://www.artsquest.org/event/solo-mio-2/
LOCATION:Frank Banko Alehouse Cinemas\, 101 Founders Way\, Bethlehem\, PA\, 18015\, United States
CATEGORIES:Film
ATTACH;FMTTYPE=image/jpeg:https://www.artsquest.org/app/uploads/2026/03/FILM_SoloMio_1920x1080.jpg
END:VEVENT
BEGIN:VEVENT
DTSTART;TZID=America/New_York:20260328T163000
DTEND;TZID=America/New_York:20260328T181500
DTSTAMP:20260422T185638
CREATED:20260326T151905Z
LAST-MODIFIED:20260326T151905Z
UID:10003999-1774715400-1774721700@www.artsquest.org
SUMMARY:The AI Doc: Or How I Became an Apocaloptimist
DESCRIPTION:
URL:https://www.artsquest.org/event/the-ai-doc-or-how-i-became-an-apocaloptimist-5/
LOCATION:Frank Banko Alehouse Cinemas\, 101 Founders Way\, Bethlehem\, PA\, 18015\, United States
CATEGORIES:Film
ATTACH;FMTTYPE=image/jpeg:https://www.artsquest.org/app/uploads/2026/03/FILM_AIDoc_1920x1080.jpg
END:VEVENT
BEGIN:VEVENT
DTSTART;TZID=America/New_York:20260328T170000
DTEND;TZID=America/New_York:20260328T185000
DTSTAMP:20260422T185638
CREATED:20260325T181917Z
LAST-MODIFIED:20260325T181917Z
UID:10003975-1774717200-1774723800@www.artsquest.org
SUMMARY:A Private Life
DESCRIPTION:
URL:https://www.artsquest.org/event/a-private-life-2/
LOCATION:Frank Banko Alehouse Cinemas\, 101 Founders Way\, Bethlehem\, PA\, 18015\, United States
CATEGORIES:Film
ATTACH;FMTTYPE=image/jpeg:https://www.artsquest.org/app/uploads/2026/03/FILM_PrivateLife_1920x1080.jpg
END:VEVENT
BEGIN:VEVENT
DTSTART;TZID=America/New_York:20260328T190000
DTEND;TZID=America/New_York:20260328T204000
DTSTAMP:20260422T185638
CREATED:20260326T151943Z
LAST-MODIFIED:20260326T151943Z
UID:10004000-1774724400-1774730400@www.artsquest.org
SUMMARY:The AI Doc: Or How I Became an Apocaloptimist
DESCRIPTION:
URL:https://www.artsquest.org/event/the-ai-doc-or-how-i-became-an-apocaloptimist-6/
LOCATION:Frank Banko Alehouse Cinemas\, 101 Founders Way\, Bethlehem\, PA\, 18015\, United States
CATEGORIES:Film
ATTACH;FMTTYPE=image/jpeg:https://www.artsquest.org/app/uploads/2026/03/FILM_AIDoc_1920x1080.jpg
END:VEVENT
BEGIN:VEVENT
DTSTART;TZID=America/New_York:20260328T193000
DTEND;TZID=America/New_York:20260328T214500
DTSTAMP:20260422T185638
CREATED:20260311T140025Z
LAST-MODIFIED:20260320T185200Z
UID:10003547-1774726200-1774734300@www.artsquest.org
SUMMARY:The Mummy Returns: 25th Anniversary
DESCRIPTION:
URL:https://www.artsquest.org/event/the-mummy-returns-25th-anniversary-2/
LOCATION:Frank Banko Alehouse Cinemas\, 101 Founders Way\, Bethlehem\, PA\, 18015\, United States
CATEGORIES:Film
ATTACH;FMTTYPE=image/jpeg:https://www.artsquest.org/app/uploads/2026/03/FILM_Mummy_1920x1080.jpg
END:VEVENT
BEGIN:VEVENT
DTSTART;TZID=America/New_York:20260328T214500
DTEND;TZID=America/New_York:20260328T232500
DTSTAMP:20260422T185638
CREATED:20260211T150027Z
LAST-MODIFIED:20260320T184921Z
UID:10003214-1774734300-1774740300@www.artsquest.org
SUMMARY:Scarlet
DESCRIPTION:
URL:https://www.artsquest.org/event/scarlet/
LOCATION:Frank Banko Alehouse Cinemas\, 101 Founders Way\, Bethlehem\, PA\, 18015\, United States
CATEGORIES:Film
ATTACH;FMTTYPE=image/jpeg:https://www.artsquest.org/app/uploads/2026/02/FILM_scarlet_1920x1080.jpg
END:VEVENT
BEGIN:VEVENT
DTSTART;TZID=America/New_York:20260329T121500
DTEND;TZID=America/New_York:20260329T140000
DTSTAMP:20260422T185638
CREATED:20260326T152044Z
LAST-MODIFIED:20260326T152044Z
UID:10004001-1774786500-1774792800@www.artsquest.org
SUMMARY:The AI Doc: Or How I Became an Apocaloptimist
DESCRIPTION:
URL:https://www.artsquest.org/event/the-ai-doc-or-how-i-became-an-apocaloptimist-7/
LOCATION:Frank Banko Alehouse Cinemas\, 101 Founders Way\, Bethlehem\, PA\, 18015\, United States
CATEGORIES:Film
ATTACH;FMTTYPE=image/jpeg:https://www.artsquest.org/app/uploads/2026/03/FILM_AIDoc_1920x1080.jpg
END:VEVENT
BEGIN:VEVENT
DTSTART;TZID=America/New_York:20260329T130000
DTEND;TZID=America/New_York:20260329T144000
DTSTAMP:20260422T185638
CREATED:20260326T150402Z
LAST-MODIFIED:20260326T150402Z
UID:10003991-1774789200-1774795200@www.artsquest.org
SUMMARY:Solo Mio
DESCRIPTION:
URL:https://www.artsquest.org/event/solo-mio-3/
LOCATION:Frank Banko Alehouse Cinemas\, 101 Founders Way\, Bethlehem\, PA\, 18015\, United States
CATEGORIES:Film
ATTACH;FMTTYPE=image/jpeg:https://www.artsquest.org/app/uploads/2026/03/FILM_SoloMio_1920x1080.jpg
END:VEVENT
BEGIN:VEVENT
DTSTART;TZID=America/New_York:20260329T151500
DTEND;TZID=America/New_York:20260329T170000
DTSTAMP:20260422T185638
CREATED:20260326T152108Z
LAST-MODIFIED:20260326T152108Z
UID:10004002-1774797300-1774803600@www.artsquest.org
SUMMARY:The AI Doc: Or How I Became an Apocaloptimist
DESCRIPTION:
URL:https://www.artsquest.org/event/the-ai-doc-or-how-i-became-an-apocaloptimist-8/
LOCATION:Frank Banko Alehouse Cinemas\, 101 Founders Way\, Bethlehem\, PA\, 18015\, United States
CATEGORIES:Film
ATTACH;FMTTYPE=image/jpeg:https://www.artsquest.org/app/uploads/2026/03/FILM_AIDoc_1920x1080.jpg
END:VEVENT
BEGIN:VEVENT
DTSTART;TZID=America/New_York:20260329T154500
DTEND;TZID=America/New_York:20260329T173500
DTSTAMP:20260422T185638
CREATED:20260325T182324Z
LAST-MODIFIED:20260325T182324Z
UID:10003976-1774799100-1774805700@www.artsquest.org
SUMMARY:A Private Life
DESCRIPTION:
URL:https://www.artsquest.org/event/a-private-life-3/
LOCATION:Frank Banko Alehouse Cinemas\, 101 Founders Way\, Bethlehem\, PA\, 18015\, United States
CATEGORIES:Film
ATTACH;FMTTYPE=image/jpeg:https://www.artsquest.org/app/uploads/2026/03/FILM_PrivateLife_1920x1080.jpg
END:VEVENT
BEGIN:VEVENT
DTSTART;TZID=America/New_York:20260329T181500
DTEND;TZID=America/New_York:20260329T201500
DTSTAMP:20260422T185638
CREATED:20260123T150051Z
LAST-MODIFIED:20260320T184828Z
UID:10002932-1774808100-1774815300@www.artsquest.org
SUMMARY:Dune (1984) w/ Director of Production Mike Liiro
DESCRIPTION:
URL:https://www.artsquest.org/event/dune-1984-w-director-of-production-mike-liiro/
LOCATION:Frank Banko Alehouse Cinemas\, 101 Founders Way\, Bethlehem\, PA\, 18015\, United States
CATEGORIES:Film
ATTACH;FMTTYPE=image/jpeg:https://www.artsquest.org/app/uploads/2026/01/FILM_DUNE_1200x392.jpg
END:VEVENT
BEGIN:VEVENT
DTSTART;TZID=America/New_York:20260329T183000
DTEND;TZID=America/New_York:20260329T201500
DTSTAMP:20260422T185638
CREATED:20260326T152156Z
LAST-MODIFIED:20260326T152156Z
UID:10004003-1774809000-1774815300@www.artsquest.org
SUMMARY:The AI Doc: Or How I Became an Apocaloptimist
DESCRIPTION:
URL:https://www.artsquest.org/event/the-ai-doc-or-how-i-became-an-apocaloptimist-9/
LOCATION:Frank Banko Alehouse Cinemas\, 101 Founders Way\, Bethlehem\, PA\, 18015\, United States
CATEGORIES:Film
ATTACH;FMTTYPE=image/jpeg:https://www.artsquest.org/app/uploads/2026/03/FILM_AIDoc_1920x1080.jpg
END:VEVENT
BEGIN:VEVENT
DTSTART;TZID=America/New_York:20260330T161500
DTEND;TZID=America/New_York:20260330T180000
DTSTAMP:20260422T185638
CREATED:20260325T182414Z
LAST-MODIFIED:20260325T182414Z
UID:10003977-1774887300-1774893600@www.artsquest.org
SUMMARY:A Private Life
DESCRIPTION:
URL:https://www.artsquest.org/event/a-private-life-4/
LOCATION:Frank Banko Alehouse Cinemas\, 101 Founders Way\, Bethlehem\, PA\, 18015\, United States
CATEGORIES:Film
ATTACH;FMTTYPE=image/jpeg:https://www.artsquest.org/app/uploads/2026/03/FILM_PrivateLife_1920x1080.jpg
END:VEVENT
BEGIN:VEVENT
DTSTART;TZID=America/New_York:20260330T163000
DTEND;TZID=America/New_York:20260330T181500
DTSTAMP:20260422T185638
CREATED:20260326T152246Z
LAST-MODIFIED:20260326T152246Z
UID:10004004-1774888200-1774894500@www.artsquest.org
SUMMARY:The AI Doc: Or How I Became an Apocaloptimist
DESCRIPTION:
URL:https://www.artsquest.org/event/the-ai-doc-or-how-i-became-an-apocaloptimist-10/
LOCATION:Frank Banko Alehouse Cinemas\, 101 Founders Way\, Bethlehem\, PA\, 18015\, United States
CATEGORIES:Film
ATTACH;FMTTYPE=image/jpeg:https://www.artsquest.org/app/uploads/2026/03/FILM_AIDoc_1920x1080.jpg
END:VEVENT
BEGIN:VEVENT
DTSTART;TZID=America/New_York:20260330T191500
DTEND;TZID=America/New_York:20260330T210000
DTSTAMP:20260422T185638
CREATED:20260326T150510Z
LAST-MODIFIED:20260326T150701Z
UID:10003992-1774898100-1774904400@www.artsquest.org
SUMMARY:Solo Mio
DESCRIPTION:
URL:https://www.artsquest.org/event/solo-mio-4/
LOCATION:Frank Banko Alehouse Cinemas\, 101 Founders Way\, Bethlehem\, PA\, 18015\, United States
CATEGORIES:Film
ATTACH;FMTTYPE=image/jpeg:https://www.artsquest.org/app/uploads/2026/03/FILM_SoloMio_1920x1080.jpg
END:VEVENT
BEGIN:VEVENT
DTSTART;TZID=America/New_York:20260330T193000
DTEND;TZID=America/New_York:20260330T211500
DTSTAMP:20260422T185638
CREATED:20260326T152310Z
LAST-MODIFIED:20260326T152310Z
UID:10004005-1774899000-1774905300@www.artsquest.org
SUMMARY:The AI Doc: Or How I Became an Apocaloptimist
DESCRIPTION:
URL:https://www.artsquest.org/event/the-ai-doc-or-how-i-became-an-apocaloptimist-11/
LOCATION:Frank Banko Alehouse Cinemas\, 101 Founders Way\, Bethlehem\, PA\, 18015\, United States
CATEGORIES:Film
ATTACH;FMTTYPE=image/jpeg:https://www.artsquest.org/app/uploads/2026/03/FILM_AIDoc_1920x1080.jpg
END:VEVENT
BEGIN:VEVENT
DTSTART;TZID=America/New_York:20260331T161500
DTEND;TZID=America/New_York:20260331T180000
DTSTAMP:20260422T185638
CREATED:20260325T182442Z
LAST-MODIFIED:20260325T182442Z
UID:10003978-1774973700-1774980000@www.artsquest.org
SUMMARY:A Private Life
DESCRIPTION:
URL:https://www.artsquest.org/event/a-private-life-5/
LOCATION:Frank Banko Alehouse Cinemas\, 101 Founders Way\, Bethlehem\, PA\, 18015\, United States
CATEGORIES:Film
ATTACH;FMTTYPE=image/jpeg:https://www.artsquest.org/app/uploads/2026/03/FILM_PrivateLife_1920x1080.jpg
END:VEVENT
BEGIN:VEVENT
DTSTART;TZID=America/New_York:20260331T163000
DTEND;TZID=America/New_York:20260331T181500
DTSTAMP:20260422T185638
CREATED:20260326T152341Z
LAST-MODIFIED:20260326T152341Z
UID:10004006-1774974600-1774980900@www.artsquest.org
SUMMARY:The AI Doc: Or How I Became an Apocaloptimist
DESCRIPTION:
URL:https://www.artsquest.org/event/the-ai-doc-or-how-i-became-an-apocaloptimist-12/
LOCATION:Frank Banko Alehouse Cinemas\, 101 Founders Way\, Bethlehem\, PA\, 18015\, United States
CATEGORIES:Film
ATTACH;FMTTYPE=image/jpeg:https://www.artsquest.org/app/uploads/2026/03/FILM_AIDoc_1920x1080.jpg
END:VEVENT
BEGIN:VEVENT
DTSTART;TZID=America/New_York:20260331T191500
DTEND;TZID=America/New_York:20260331T213000
DTSTAMP:20260422T185638
CREATED:20260311T140007Z
LAST-MODIFIED:20260320T185208Z
UID:10003548-1774984500-1774992600@www.artsquest.org
SUMMARY:The Mummy Returns: 25th Anniversary
DESCRIPTION:
URL:https://www.artsquest.org/event/the-mummy-returns-25th-anniversary-3/
LOCATION:Frank Banko Alehouse Cinemas\, 101 Founders Way\, Bethlehem\, PA\, 18015\, United States
CATEGORIES:Film
ATTACH;FMTTYPE=image/jpeg:https://www.artsquest.org/app/uploads/2026/03/FILM_Mummy_1920x1080.jpg
END:VEVENT
BEGIN:VEVENT
DTSTART;TZID=America/New_York:20260331T193000
DTEND;TZID=America/New_York:20260331T211500
DTSTAMP:20260422T185638
CREATED:20260326T152413Z
LAST-MODIFIED:20260326T152413Z
UID:10004007-1774985400-1774991700@www.artsquest.org
SUMMARY:The AI Doc: Or How I Became an Apocaloptimist
DESCRIPTION:
URL:https://www.artsquest.org/event/the-ai-doc-or-how-i-became-an-apocaloptimist-13/
LOCATION:Frank Banko Alehouse Cinemas\, 101 Founders Way\, Bethlehem\, PA\, 18015\, United States
CATEGORIES:Film
ATTACH;FMTTYPE=image/jpeg:https://www.artsquest.org/app/uploads/2026/03/FILM_AIDoc_1920x1080.jpg
END:VEVENT
BEGIN:VEVENT
DTSTART;TZID=America/New_York:20260401T131500
DTEND;TZID=America/New_York:20260401T153000
DTSTAMP:20260422T185638
CREATED:20260311T140030Z
LAST-MODIFIED:20260320T185219Z
UID:10003549-1775049300-1775057400@www.artsquest.org
SUMMARY:The Mummy Returns: 25th Anniversary
DESCRIPTION:
URL:https://www.artsquest.org/event/the-mummy-returns-25th-anniversary-4/
LOCATION:Frank Banko Alehouse Cinemas\, 101 Founders Way\, Bethlehem\, PA\, 18015\, United States
CATEGORIES:Film
ATTACH;FMTTYPE=image/jpeg:https://www.artsquest.org/app/uploads/2026/03/FILM_Mummy_1920x1080.jpg
END:VEVENT
BEGIN:VEVENT
DTSTART;TZID=America/New_York:20260401T133000
DTEND;TZID=America/New_York:20260401T151500
DTSTAMP:20260422T185638
CREATED:20260326T152454Z
LAST-MODIFIED:20260326T152454Z
UID:10004008-1775050200-1775056500@www.artsquest.org
SUMMARY:The AI Doc: Or How I Became an Apocaloptimist
DESCRIPTION:
URL:https://www.artsquest.org/event/the-ai-doc-or-how-i-became-an-apocaloptimist-14/
LOCATION:Frank Banko Alehouse Cinemas\, 101 Founders Way\, Bethlehem\, PA\, 18015\, United States
CATEGORIES:Film
ATTACH;FMTTYPE=image/jpeg:https://www.artsquest.org/app/uploads/2026/03/FILM_AIDoc_1920x1080.jpg
END:VEVENT
BEGIN:VEVENT
DTSTART;TZID=America/New_York:20260401T161500
DTEND;TZID=America/New_York:20260401T174000
DTSTAMP:20260422T185638
CREATED:20260326T152529Z
LAST-MODIFIED:20260326T152529Z
UID:10004009-1775060100-1775065200@www.artsquest.org
SUMMARY:The AI Doc: Or How I Became an Apocaloptimist
DESCRIPTION:
URL:https://www.artsquest.org/event/the-ai-doc-or-how-i-became-an-apocaloptimist-15/
LOCATION:Frank Banko Alehouse Cinemas\, 101 Founders Way\, Bethlehem\, PA\, 18015\, United States
CATEGORIES:Film
ATTACH;FMTTYPE=image/jpeg:https://www.artsquest.org/app/uploads/2026/03/FILM_AIDoc_1920x1080.jpg
END:VEVENT
BEGIN:VEVENT
DTSTART;TZID=America/New_York:20260401T163000
DTEND;TZID=America/New_York:20260401T181000
DTSTAMP:20260422T185638
CREATED:20260326T150744Z
LAST-MODIFIED:20260326T150744Z
UID:10003993-1775061000-1775067000@www.artsquest.org
SUMMARY:Solo Mio
DESCRIPTION:
URL:https://www.artsquest.org/event/solo-mio-5/
LOCATION:Frank Banko Alehouse Cinemas\, 101 Founders Way\, Bethlehem\, PA\, 18015\, United States
CATEGORIES:Film
ATTACH;FMTTYPE=image/jpeg:https://www.artsquest.org/app/uploads/2026/03/FILM_SoloMio_1920x1080.jpg
END:VEVENT
END:VCALENDAR