BEGIN:VCALENDAR
VERSION:2.0
PRODID:-//ArtsQuest - ECPv6.15.5//NONSGML v1.0//EN
CALSCALE:GREGORIAN
METHOD:PUBLISH
X-ORIGINAL-URL:https://www.artsquest.org
X-WR-CALDESC:Events for ArtsQuest
REFRESH-INTERVAL;VALUE=DURATION:PT1H
X-Robots-Tag:noindex
X-PUBLISHED-TTL:PT1H
BEGIN:VTIMEZONE
TZID:America/New_York
BEGIN:DAYLIGHT
TZOFFSETFROM:-0500
TZOFFSETTO:-0400
TZNAME:EDT
DTSTART:20260308T070000
END:DAYLIGHT
BEGIN:STANDARD
TZOFFSETFROM:-0400
TZOFFSETTO:-0500
TZNAME:EST
DTSTART:20261101T060000
END:STANDARD
END:VTIMEZONE
BEGIN:VEVENT
DTSTART;TZID=America/New_York:20260320T170000
DTEND;TZID=America/New_York:20260320T191000
DTSTAMP:20260422T204933
CREATED:20260319T133115Z
LAST-MODIFIED:20260319T133115Z
UID:10003830-1774026000-1774033800@www.artsquest.org
SUMMARY:The Hail Mary
DESCRIPTION:
URL:https://www.artsquest.org/event/the-hail-mary-54/
LOCATION:Frank Banko Alehouse Cinemas\, 101 Founders Way\, Bethlehem\, PA\, 18015\, United States
CATEGORIES:Film
ATTACH;FMTTYPE=image/jpeg:https://www.artsquest.org/app/uploads/2026/01/FILM_HailMary_1200x392.jpg
END:VEVENT
BEGIN:VEVENT
DTSTART;TZID=America/New_York:20260320T193000
DTEND;TZID=America/New_York:20260320T221000
DTSTAMP:20260422T204933
CREATED:20260319T141637Z
LAST-MODIFIED:20260319T141637Z
UID:10003856-1774035000-1774044600@www.artsquest.org
SUMMARY:One Battle After Another
DESCRIPTION:
URL:https://www.artsquest.org/event/one-battle-after-another-11/
LOCATION:Frank Banko Alehouse Cinemas\, 101 Founders Way\, Bethlehem\, PA\, 18015\, United States
CATEGORIES:Film
ATTACH;FMTTYPE=image/jpeg:https://www.artsquest.org/app/uploads/2026/01/FILM_OneBattle_1200x392.jpg
END:VEVENT
BEGIN:VEVENT
DTSTART;TZID=America/New_York:20260320T200000
DTEND;TZID=America/New_York:20260320T222000
DTSTAMP:20260422T204933
CREATED:20260319T135948Z
LAST-MODIFIED:20260319T140539Z
UID:10003849-1774036800-1774045200@www.artsquest.org
SUMMARY:Sinners
DESCRIPTION:
URL:https://www.artsquest.org/event/sinners-10/
LOCATION:Frank Banko Alehouse Cinemas\, 101 Founders Way\, Bethlehem\, PA\, 18015\, United States
CATEGORIES:Film
ATTACH;FMTTYPE=image/jpeg:https://www.artsquest.org/app/uploads/2026/01/FILM_Sinners_1920x1080.jpg
END:VEVENT
BEGIN:VEVENT
DTSTART;TZID=America/New_York:20260321T141500
DTEND;TZID=America/New_York:20260321T162000
DTSTAMP:20260422T204933
CREATED:20260319T133145Z
LAST-MODIFIED:20260319T133145Z
UID:10003831-1774102500-1774110000@www.artsquest.org
SUMMARY:The Hail Mary
DESCRIPTION:
URL:https://www.artsquest.org/event/the-hail-mary-55/
LOCATION:Frank Banko Alehouse Cinemas\, 101 Founders Way\, Bethlehem\, PA\, 18015\, United States
CATEGORIES:Film
ATTACH;FMTTYPE=image/jpeg:https://www.artsquest.org/app/uploads/2026/01/FILM_HailMary_1200x392.jpg
END:VEVENT
BEGIN:VEVENT
DTSTART;TZID=America/New_York:20260321T154500
DTEND;TZID=America/New_York:20260321T183000
DTSTAMP:20260422T204933
CREATED:20260319T142102Z
LAST-MODIFIED:20260319T142102Z
UID:10003857-1774107900-1774117800@www.artsquest.org
SUMMARY:One Battle After Another
DESCRIPTION:
URL:https://www.artsquest.org/event/one-battle-after-another-12/
LOCATION:Frank Banko Alehouse Cinemas\, 101 Founders Way\, Bethlehem\, PA\, 18015\, United States
CATEGORIES:Film
ATTACH;FMTTYPE=image/jpeg:https://www.artsquest.org/app/uploads/2026/01/FILM_OneBattle_1200x392.jpg
END:VEVENT
BEGIN:VEVENT
DTSTART;TZID=America/New_York:20260321T170000
DTEND;TZID=America/New_York:20260321T191000
DTSTAMP:20260422T204933
CREATED:20260319T133228Z
LAST-MODIFIED:20260319T133228Z
UID:10003832-1774112400-1774120200@www.artsquest.org
SUMMARY:The Hail Mary
DESCRIPTION:
URL:https://www.artsquest.org/event/the-hail-mary-56/
LOCATION:Frank Banko Alehouse Cinemas\, 101 Founders Way\, Bethlehem\, PA\, 18015\, United States
CATEGORIES:Film
ATTACH;FMTTYPE=image/jpeg:https://www.artsquest.org/app/uploads/2026/01/FILM_HailMary_1200x392.jpg
END:VEVENT
BEGIN:VEVENT
DTSTART;TZID=America/New_York:20260321T190000
DTEND;TZID=America/New_York:20260321T211000
DTSTAMP:20260422T204933
CREATED:20251202T150003Z
LAST-MODIFIED:20260320T185036Z
UID:10002488-1774119600-1774127400@www.artsquest.org
SUMMARY:Mrs. Doubtfire
DESCRIPTION:
URL:https://www.artsquest.org/event/mrs-doubtfire/
LOCATION:Frank Banko Alehouse Cinemas\, 101 Founders Way\, Bethlehem\, PA\, 18015\, United States
CATEGORIES:Film
ATTACH;FMTTYPE=image/jpeg:https://www.artsquest.org/app/uploads/2025/12/FILM_Doubtfire_1200x392.jpg
END:VEVENT
BEGIN:VEVENT
DTSTART;TZID=America/New_York:20260321T200000
DTEND;TZID=America/New_York:20260321T222000
DTSTAMP:20260422T204933
CREATED:20260319T140036Z
LAST-MODIFIED:20260319T140547Z
UID:10003850-1774123200-1774131600@www.artsquest.org
SUMMARY:Sinners
DESCRIPTION:
URL:https://www.artsquest.org/event/sinners-11/
LOCATION:Frank Banko Alehouse Cinemas\, 101 Founders Way\, Bethlehem\, PA\, 18015\, United States
CATEGORIES:Film
ATTACH;FMTTYPE=image/jpeg:https://www.artsquest.org/app/uploads/2026/01/FILM_Sinners_1920x1080.jpg
END:VEVENT
BEGIN:VEVENT
DTSTART;TZID=America/New_York:20260322T124500
DTEND;TZID=America/New_York:20260322T145000
DTSTAMP:20260422T204933
CREATED:20260319T133321Z
LAST-MODIFIED:20260319T133321Z
UID:10003833-1774183500-1774191000@www.artsquest.org
SUMMARY:The Hail Mary
DESCRIPTION:
URL:https://www.artsquest.org/event/the-hail-mary-57/
LOCATION:Frank Banko Alehouse Cinemas\, 101 Founders Way\, Bethlehem\, PA\, 18015\, United States
CATEGORIES:Film
ATTACH;FMTTYPE=image/jpeg:https://www.artsquest.org/app/uploads/2026/01/FILM_HailMary_1200x392.jpg
END:VEVENT
BEGIN:VEVENT
DTSTART;TZID=America/New_York:20260322T150000
DTEND;TZID=America/New_York:20260322T174200
DTSTAMP:20260422T204933
CREATED:20260319T142401Z
LAST-MODIFIED:20260319T142401Z
UID:10003858-1774191600-1774201320@www.artsquest.org
SUMMARY:One Battle After Another
DESCRIPTION:
URL:https://www.artsquest.org/event/one-battle-after-another-13/
LOCATION:Frank Banko Alehouse Cinemas\, 101 Founders Way\, Bethlehem\, PA\, 18015\, United States
CATEGORIES:Film
ATTACH;FMTTYPE=image/jpeg:https://www.artsquest.org/app/uploads/2026/01/FILM_OneBattle_1200x392.jpg
END:VEVENT
BEGIN:VEVENT
DTSTART;TZID=America/New_York:20260322T153000
DTEND;TZID=America/New_York:20260322T173500
DTSTAMP:20260422T204933
CREATED:20260319T133406Z
LAST-MODIFIED:20260319T133406Z
UID:10003834-1774193400-1774200900@www.artsquest.org
SUMMARY:The Hail Mary
DESCRIPTION:
URL:https://www.artsquest.org/event/the-hail-mary-58/
LOCATION:Frank Banko Alehouse Cinemas\, 101 Founders Way\, Bethlehem\, PA\, 18015\, United States
CATEGORIES:Film
ATTACH;FMTTYPE=image/jpeg:https://www.artsquest.org/app/uploads/2026/01/FILM_HailMary_1200x392.jpg
END:VEVENT
BEGIN:VEVENT
DTSTART;TZID=America/New_York:20260322T181500
DTEND;TZID=America/New_York:20260322T202000
DTSTAMP:20260422T204933
CREATED:20251219T150006Z
LAST-MODIFIED:20260320T184857Z
UID:10002583-1774203300-1774210800@www.artsquest.org
SUMMARY:Almost Famous w/ President & CEO Kassie Hilgert
DESCRIPTION:
URL:https://www.artsquest.org/event/almost-famous-w-president-ceo-kassie-hilgert/
LOCATION:Frank Banko Alehouse Cinemas\, 101 Founders Way\, Bethlehem\, PA\, 18015\, United States
CATEGORIES:Film
ATTACH;FMTTYPE=image/jpeg:https://www.artsquest.org/app/uploads/2025/12/FILM_almostfamous2_1200x392.jpg
END:VEVENT
BEGIN:VEVENT
DTSTART;TZID=America/New_York:20260322T183000
DTEND;TZID=America/New_York:20260322T205000
DTSTAMP:20260422T204933
CREATED:20260319T140217Z
LAST-MODIFIED:20260319T140555Z
UID:10003851-1774204200-1774212600@www.artsquest.org
SUMMARY:Sinners
DESCRIPTION:
URL:https://www.artsquest.org/event/sinners-12/
LOCATION:Frank Banko Alehouse Cinemas\, 101 Founders Way\, Bethlehem\, PA\, 18015\, United States
CATEGORIES:Film
ATTACH;FMTTYPE=image/jpeg:https://www.artsquest.org/app/uploads/2026/01/FILM_Sinners_1920x1080.jpg
END:VEVENT
BEGIN:VEVENT
DTSTART;TZID=America/New_York:20260323T160000
DTEND;TZID=America/New_York:20260323T184200
DTSTAMP:20260422T204933
CREATED:20260319T142435Z
LAST-MODIFIED:20260319T142435Z
UID:10003859-1774281600-1774291320@www.artsquest.org
SUMMARY:One Battle After Another
DESCRIPTION:
URL:https://www.artsquest.org/event/one-battle-after-another-14/
LOCATION:Frank Banko Alehouse Cinemas\, 101 Founders Way\, Bethlehem\, PA\, 18015\, United States
CATEGORIES:Film
ATTACH;FMTTYPE=image/jpeg:https://www.artsquest.org/app/uploads/2026/01/FILM_OneBattle_1200x392.jpg
END:VEVENT
BEGIN:VEVENT
DTSTART;TZID=America/New_York:20260323T161500
DTEND;TZID=America/New_York:20260323T182000
DTSTAMP:20260422T204933
CREATED:20260319T133438Z
LAST-MODIFIED:20260319T133438Z
UID:10003835-1774282500-1774290000@www.artsquest.org
SUMMARY:The Hail Mary
DESCRIPTION:
URL:https://www.artsquest.org/event/the-hail-mary-59/
LOCATION:Frank Banko Alehouse Cinemas\, 101 Founders Way\, Bethlehem\, PA\, 18015\, United States
CATEGORIES:Film
ATTACH;FMTTYPE=image/jpeg:https://www.artsquest.org/app/uploads/2026/01/FILM_HailMary_1200x392.jpg
END:VEVENT
BEGIN:VEVENT
DTSTART;TZID=America/New_York:20260323T190000
DTEND;TZID=America/New_York:20260323T212000
DTSTAMP:20260422T204933
CREATED:20260319T140641Z
LAST-MODIFIED:20260319T140641Z
UID:10003852-1774292400-1774300800@www.artsquest.org
SUMMARY:Sinners
DESCRIPTION:
URL:https://www.artsquest.org/event/sinners-13/
LOCATION:Frank Banko Alehouse Cinemas\, 101 Founders Way\, Bethlehem\, PA\, 18015\, United States
CATEGORIES:Film
ATTACH;FMTTYPE=image/jpeg:https://www.artsquest.org/app/uploads/2026/01/FILM_Sinners_1920x1080.jpg
END:VEVENT
BEGIN:VEVENT
DTSTART;TZID=America/New_York:20260324T161500
DTEND;TZID=America/New_York:20260324T184000
DTSTAMP:20260422T204933
CREATED:20260319T140749Z
LAST-MODIFIED:20260319T140749Z
UID:10003853-1774368900-1774377600@www.artsquest.org
SUMMARY:Sinners
DESCRIPTION:
URL:https://www.artsquest.org/event/sinners-14/
LOCATION:Frank Banko Alehouse Cinemas\, 101 Founders Way\, Bethlehem\, PA\, 18015\, United States
CATEGORIES:Film
ATTACH;FMTTYPE=image/jpeg:https://www.artsquest.org/app/uploads/2026/01/FILM_Sinners_1920x1080.jpg
END:VEVENT
BEGIN:VEVENT
DTSTART;TZID=America/New_York:20260324T190000
DTEND;TZID=America/New_York:20260324T214200
DTSTAMP:20260422T204933
CREATED:20260319T142516Z
LAST-MODIFIED:20260319T142516Z
UID:10003860-1774378800-1774388520@www.artsquest.org
SUMMARY:One Battle After Another
DESCRIPTION:
URL:https://www.artsquest.org/event/one-battle-after-another-15/
LOCATION:Frank Banko Alehouse Cinemas\, 101 Founders Way\, Bethlehem\, PA\, 18015\, United States
CATEGORIES:Film
ATTACH;FMTTYPE=image/jpeg:https://www.artsquest.org/app/uploads/2026/01/FILM_OneBattle_1200x392.jpg
END:VEVENT
BEGIN:VEVENT
DTSTART;TZID=America/New_York:20260324T191500
DTEND;TZID=America/New_York:20260324T212000
DTSTAMP:20260422T204933
CREATED:20260319T133545Z
LAST-MODIFIED:20260319T133545Z
UID:10003836-1774379700-1774387200@www.artsquest.org
SUMMARY:The Hail Mary
DESCRIPTION:
URL:https://www.artsquest.org/event/the-hail-mary-60/
LOCATION:Frank Banko Alehouse Cinemas\, 101 Founders Way\, Bethlehem\, PA\, 18015\, United States
CATEGORIES:Film
ATTACH;FMTTYPE=image/jpeg:https://www.artsquest.org/app/uploads/2026/01/FILM_HailMary_1200x392.jpg
END:VEVENT
BEGIN:VEVENT
DTSTART;TZID=America/New_York:20260325T130000
DTEND;TZID=America/New_York:20260325T150500
DTSTAMP:20260422T204933
CREATED:20260319T133620Z
LAST-MODIFIED:20260319T133620Z
UID:10003837-1774443600-1774451100@www.artsquest.org
SUMMARY:The Hail Mary
DESCRIPTION:
URL:https://www.artsquest.org/event/the-hail-mary-61/
LOCATION:Frank Banko Alehouse Cinemas\, 101 Founders Way\, Bethlehem\, PA\, 18015\, United States
CATEGORIES:Film
ATTACH;FMTTYPE=image/jpeg:https://www.artsquest.org/app/uploads/2026/01/FILM_HailMary_1200x392.jpg
END:VEVENT
BEGIN:VEVENT
DTSTART;TZID=America/New_York:20260325T160000
DTEND;TZID=America/New_York:20260325T184200
DTSTAMP:20260422T204933
CREATED:20260319T142557Z
LAST-MODIFIED:20260319T142557Z
UID:10003861-1774454400-1774464120@www.artsquest.org
SUMMARY:One Battle After Another
DESCRIPTION:
URL:https://www.artsquest.org/event/one-battle-after-another-16/
LOCATION:Frank Banko Alehouse Cinemas\, 101 Founders Way\, Bethlehem\, PA\, 18015\, United States
CATEGORIES:Film
ATTACH;FMTTYPE=image/jpeg:https://www.artsquest.org/app/uploads/2026/01/FILM_OneBattle_1200x392.jpg
END:VEVENT
BEGIN:VEVENT
DTSTART;TZID=America/New_York:20260325T161500
DTEND;TZID=America/New_York:20260325T182000
DTSTAMP:20260422T204933
CREATED:20260319T133710Z
LAST-MODIFIED:20260319T133710Z
UID:10003838-1774455300-1774462800@www.artsquest.org
SUMMARY:The Hail Mary
DESCRIPTION:
URL:https://www.artsquest.org/event/the-hail-mary-62/
LOCATION:Frank Banko Alehouse Cinemas\, 101 Founders Way\, Bethlehem\, PA\, 18015\, United States
CATEGORIES:Film
ATTACH;FMTTYPE=image/jpeg:https://www.artsquest.org/app/uploads/2026/01/FILM_HailMary_1200x392.jpg
END:VEVENT
BEGIN:VEVENT
DTSTART;TZID=America/New_York:20260325T190000
DTEND;TZID=America/New_York:20260325T214200
DTSTAMP:20260422T204933
CREATED:20260319T142625Z
LAST-MODIFIED:20260319T142625Z
UID:10003866-1774465200-1774474920@www.artsquest.org
SUMMARY:One Battle After Another
DESCRIPTION:
URL:https://www.artsquest.org/event/one-battle-after-another-17/
LOCATION:Frank Banko Alehouse Cinemas\, 101 Founders Way\, Bethlehem\, PA\, 18015\, United States
CATEGORIES:Film
ATTACH;FMTTYPE=image/jpeg:https://www.artsquest.org/app/uploads/2026/01/FILM_OneBattle_1200x392.jpg
END:VEVENT
BEGIN:VEVENT
DTSTART;TZID=America/New_York:20260325T191500
DTEND;TZID=America/New_York:20260325T214000
DTSTAMP:20260422T204933
CREATED:20260319T140827Z
LAST-MODIFIED:20260319T140827Z
UID:10003854-1774466100-1774474800@www.artsquest.org
SUMMARY:Sinners
DESCRIPTION:
URL:https://www.artsquest.org/event/sinners-15/
LOCATION:Frank Banko Alehouse Cinemas\, 101 Founders Way\, Bethlehem\, PA\, 18015\, United States
CATEGORIES:Film
ATTACH;FMTTYPE=image/jpeg:https://www.artsquest.org/app/uploads/2026/01/FILM_Sinners_1920x1080.jpg
END:VEVENT
BEGIN:VEVENT
DTSTART;TZID=America/New_York:20260326T130000
DTEND;TZID=America/New_York:20260326T150500
DTSTAMP:20260422T204933
CREATED:20260319T133745Z
LAST-MODIFIED:20260319T133745Z
UID:10003839-1774530000-1774537500@www.artsquest.org
SUMMARY:The Hail Mary
DESCRIPTION:
URL:https://www.artsquest.org/event/the-hail-mary-63/
LOCATION:Frank Banko Alehouse Cinemas\, 101 Founders Way\, Bethlehem\, PA\, 18015\, United States
CATEGORIES:Film
ATTACH;FMTTYPE=image/jpeg:https://www.artsquest.org/app/uploads/2026/01/FILM_HailMary_1200x392.jpg
END:VEVENT
BEGIN:VEVENT
DTSTART;TZID=America/New_York:20260326T131500
DTEND;TZID=America/New_York:20260326T154000
DTSTAMP:20260422T204933
CREATED:20260319T140907Z
LAST-MODIFIED:20260319T140907Z
UID:10003855-1774530900-1774539600@www.artsquest.org
SUMMARY:Sinners
DESCRIPTION:
URL:https://www.artsquest.org/event/sinners-16/
LOCATION:Frank Banko Alehouse Cinemas\, 101 Founders Way\, Bethlehem\, PA\, 18015\, United States
CATEGORIES:Film
ATTACH;FMTTYPE=image/jpeg:https://www.artsquest.org/app/uploads/2026/01/FILM_Sinners_1920x1080.jpg
END:VEVENT
BEGIN:VEVENT
DTSTART;TZID=America/New_York:20260326T160000
DTEND;TZID=America/New_York:20260326T184200
DTSTAMP:20260422T204933
CREATED:20260319T142721Z
LAST-MODIFIED:20260319T142721Z
UID:10003867-1774540800-1774550520@www.artsquest.org
SUMMARY:One Battle After Another
DESCRIPTION:
URL:https://www.artsquest.org/event/one-battle-after-another-18/
LOCATION:Frank Banko Alehouse Cinemas\, 101 Founders Way\, Bethlehem\, PA\, 18015\, United States
CATEGORIES:Film
ATTACH;FMTTYPE=image/jpeg:https://www.artsquest.org/app/uploads/2026/01/FILM_OneBattle_1200x392.jpg
END:VEVENT
BEGIN:VEVENT
DTSTART;TZID=America/New_York:20260326T191500
DTEND;TZID=America/New_York:20260326T211500
DTSTAMP:20260422T204933
CREATED:20260219T150049Z
LAST-MODIFIED:20260226T194159Z
UID:10003260-1774552500-1774559700@www.artsquest.org
SUMMARY:The Nice Guys (10th Anniversary)
DESCRIPTION:
URL:https://www.artsquest.org/event/the-nice-guys-10th-anniversary/
LOCATION:Frank Banko Alehouse Cinemas\, 101 Founders Way\, Bethlehem\, PA\, 18015\, United States
CATEGORIES:Film
ATTACH;FMTTYPE=image/jpeg:https://www.artsquest.org/app/uploads/2026/02/FILM_TheNiceGuys_1920x1080.jpg
END:VEVENT
BEGIN:VEVENT
DTSTART;TZID=America/New_York:20260326T193000
DTEND;TZID=America/New_York:20260326T213500
DTSTAMP:20260422T204933
CREATED:20260319T133843Z
LAST-MODIFIED:20260319T133843Z
UID:10003840-1774553400-1774560900@www.artsquest.org
SUMMARY:The Hail Mary
DESCRIPTION:
URL:https://www.artsquest.org/event/the-hail-mary-64/
LOCATION:Frank Banko Alehouse Cinemas\, 101 Founders Way\, Bethlehem\, PA\, 18015\, United States
CATEGORIES:Film
ATTACH;FMTTYPE=image/jpeg:https://www.artsquest.org/app/uploads/2026/01/FILM_HailMary_1200x392.jpg
END:VEVENT
BEGIN:VEVENT
DTSTART;TZID=America/New_York:20260327T133000
DTEND;TZID=America/New_York:20260327T151500
DTSTAMP:20260422T204933
CREATED:20260326T151519Z
LAST-MODIFIED:20260326T151519Z
UID:10003995-1774618200-1774624500@www.artsquest.org
SUMMARY:The AI Doc: Or How I Became an Apocaloptimist
DESCRIPTION:
URL:https://www.artsquest.org/event/the-ai-doc-or-how-i-became-an-apocaloptimist/
LOCATION:Frank Banko Alehouse Cinemas\, 101 Founders Way\, Bethlehem\, PA\, 18015\, United States
CATEGORIES:Film
ATTACH;FMTTYPE=image/jpeg:https://www.artsquest.org/app/uploads/2026/03/FILM_AIDoc_1920x1080.jpg
END:VEVENT
END:VCALENDAR