BEGIN:VCALENDAR
VERSION:2.0
PRODID:-//ArtsQuest - ECPv6.15.5//NONSGML v1.0//EN
CALSCALE:GREGORIAN
METHOD:PUBLISH
X-WR-CALNAME:ArtsQuest
X-ORIGINAL-URL:https://www.artsquest.org
X-WR-CALDESC:Events for ArtsQuest
REFRESH-INTERVAL;VALUE=DURATION:PT1H
X-Robots-Tag:noindex
X-PUBLISHED-TTL:PT1H
BEGIN:VTIMEZONE
TZID:America/New_York
BEGIN:DAYLIGHT
TZOFFSETFROM:-0500
TZOFFSETTO:-0400
TZNAME:EDT
DTSTART:20260308T070000
END:DAYLIGHT
BEGIN:STANDARD
TZOFFSETFROM:-0400
TZOFFSETTO:-0500
TZNAME:EST
DTSTART:20261101T060000
END:STANDARD
END:VTIMEZONE
BEGIN:VEVENT
DTSTART;TZID=America/New_York:20260308T090000
DTEND;TZID=America/New_York:20260308T103000
DTSTAMP:20260422T174816
CREATED:20260223T191610Z
LAST-MODIFIED:20260223T191610Z
UID:10003312-1772960400-1772965800@www.artsquest.org
SUMMARY:The Rise and Fall of Bethlehem Steel Tour
DESCRIPTION:
URL:https://www.artsquest.org/event/the-rise-and-fall-of-bethlehem-steel-tour-4/
LOCATION:PA
CATEGORIES:Tours
ATTACH;FMTTYPE=image/jpeg:https://www.artsquest.org/app/uploads/2025/08/rise-fall-tour.jpg
END:VEVENT
BEGIN:VEVENT
DTSTART;TZID=America/New_York:20260313T090000
DTEND;TZID=America/New_York:20260313T103000
DTSTAMP:20260422T174816
CREATED:20260225T160535Z
LAST-MODIFIED:20260225T160608Z
UID:10003316-1773392400-1773397800@www.artsquest.org
SUMMARY:The Rise and Fall of Bethlehem Steel Tour
DESCRIPTION:
URL:https://www.artsquest.org/event/the-rise-and-fall-of-bethlehem-steel-tour-3-13-26/
LOCATION:PA
CATEGORIES:Tours
ATTACH;FMTTYPE=image/jpeg:https://www.artsquest.org/app/uploads/2025/08/rise-fall-tour.jpg
END:VEVENT
BEGIN:VEVENT
DTSTART;TZID=America/New_York:20260314T130000
DTEND;TZID=America/New_York:20260314T143000
DTSTAMP:20260422T174816
CREATED:20260225T160558Z
LAST-MODIFIED:20260225T160558Z
UID:10003317-1773493200-1773498600@www.artsquest.org
SUMMARY:The Rise and Fall of Bethlehem Steel Tour
DESCRIPTION:
URL:https://www.artsquest.org/event/the-rise-and-fall-of-bethlehem-steel-tour-3-14-26/
LOCATION:PA
CATEGORIES:Tours
ATTACH;FMTTYPE=image/jpeg:https://www.artsquest.org/app/uploads/2025/08/rise-fall-tour.jpg
END:VEVENT
BEGIN:VEVENT
DTSTART;TZID=America/New_York:20260315T090000
DTEND;TZID=America/New_York:20260315T103000
DTSTAMP:20260422T174816
CREATED:20260225T160635Z
LAST-MODIFIED:20260225T160635Z
UID:10003318-1773565200-1773570600@www.artsquest.org
SUMMARY:The Rise and Fall of Bethlehem Steel Tour
DESCRIPTION:
URL:https://www.artsquest.org/event/the-rise-and-fall-of-bethlehem-steel-tour-3-15-26/
LOCATION:PA
CATEGORIES:Tours
ATTACH;FMTTYPE=image/jpeg:https://www.artsquest.org/app/uploads/2025/08/rise-fall-tour.jpg
END:VEVENT
BEGIN:VEVENT
DTSTART;TZID=America/New_York:20260320T090000
DTEND;TZID=America/New_York:20260320T103000
DTSTAMP:20260422T174816
CREATED:20260225T160746Z
LAST-MODIFIED:20260225T160828Z
UID:10003321-1773997200-1774002600@www.artsquest.org
SUMMARY:The Rise and Fall of Bethlehem Steel Tour
DESCRIPTION:
URL:https://www.artsquest.org/event/the-rise-and-fall-of-bethlehem-steel-tour-3-20-26/
LOCATION:PA
CATEGORIES:Tours
ATTACH;FMTTYPE=image/jpeg:https://www.artsquest.org/app/uploads/2025/08/rise-fall-tour.jpg
END:VEVENT
BEGIN:VEVENT
DTSTART;TZID=America/New_York:20260321T130000
DTEND;TZID=America/New_York:20260321T143000
DTSTAMP:20260422T174816
CREATED:20260225T160830Z
LAST-MODIFIED:20260225T160830Z
UID:10003320-1774098000-1774103400@www.artsquest.org
SUMMARY:The Rise and Fall of Bethlehem Steel Tour
DESCRIPTION:
URL:https://www.artsquest.org/event/the-rise-and-fall-of-bethlehem-steel-tour-3-21-26/
LOCATION:PA
CATEGORIES:Tours
ATTACH;FMTTYPE=image/jpeg:https://www.artsquest.org/app/uploads/2025/08/rise-fall-tour.jpg
END:VEVENT
BEGIN:VEVENT
DTSTART;TZID=America/New_York:20260322T090000
DTEND;TZID=America/New_York:20260322T103000
DTSTAMP:20260422T174816
CREATED:20260225T160832Z
LAST-MODIFIED:20260225T160832Z
UID:10003319-1774170000-1774175400@www.artsquest.org
SUMMARY:The Rise and Fall of Bethlehem Steel Tour
DESCRIPTION:
URL:https://www.artsquest.org/event/the-rise-and-fall-of-bethlehem-steel-tour-3-22-26/
LOCATION:PA
CATEGORIES:Tours
ATTACH;FMTTYPE=image/jpeg:https://www.artsquest.org/app/uploads/2025/08/rise-fall-tour.jpg
END:VEVENT
BEGIN:VEVENT
DTSTART;TZID=America/New_York:20260323T090000
DTEND;TZID=America/New_York:20260323T103000
DTSTAMP:20260422T174816
CREATED:20260225T161537Z
LAST-MODIFIED:20260225T161537Z
UID:10003322-1774256400-1774261800@www.artsquest.org
SUMMARY:The Rise and Fall of Bethlehem Steel Tour
DESCRIPTION:
URL:https://www.artsquest.org/event/the-rise-and-fall-of-bethlehem-steel-tour-3-23-26/
LOCATION:PA
CATEGORIES:Tours
ATTACH;FMTTYPE=image/jpeg:https://www.artsquest.org/app/uploads/2025/08/rise-fall-tour.jpg
END:VEVENT
BEGIN:VEVENT
DTSTART;TZID=America/New_York:20260324T130000
DTEND;TZID=America/New_York:20260324T143000
DTSTAMP:20260422T174816
CREATED:20260225T161559Z
LAST-MODIFIED:20260225T161559Z
UID:10003325-1774357200-1774362600@www.artsquest.org
SUMMARY:The Rise and Fall of Bethlehem Steel Tour
DESCRIPTION:
URL:https://www.artsquest.org/event/the-rise-and-fall-of-bethlehem-steel-tour-3-24-26/
LOCATION:PA
CATEGORIES:Tours
ATTACH;FMTTYPE=image/jpeg:https://www.artsquest.org/app/uploads/2025/08/rise-fall-tour.jpg
END:VEVENT
BEGIN:VEVENT
DTSTART;TZID=America/New_York:20260325T090000
DTEND;TZID=America/New_York:20260325T103000
DTSTAMP:20260422T174816
CREATED:20260225T161623Z
LAST-MODIFIED:20260225T161623Z
UID:10003327-1774429200-1774434600@www.artsquest.org
SUMMARY:The Rise and Fall of Bethlehem Steel Tour
DESCRIPTION:
URL:https://www.artsquest.org/event/the-rise-and-fall-of-bethlehem-steel-tour-3-25-26/
LOCATION:PA
CATEGORIES:Tours
ATTACH;FMTTYPE=image/jpeg:https://www.artsquest.org/app/uploads/2025/08/rise-fall-tour.jpg
END:VEVENT
BEGIN:VEVENT
DTSTART;TZID=America/New_York:20260327T090000
DTEND;TZID=America/New_York:20260327T103000
DTSTAMP:20260422T174816
CREATED:20260225T161652Z
LAST-MODIFIED:20260225T161652Z
UID:10003323-1774602000-1774607400@www.artsquest.org
SUMMARY:The Rise and Fall of Bethlehem Steel Tour
DESCRIPTION:
URL:https://www.artsquest.org/event/the-rise-and-fall-of-bethlehem-steel-tour-3-27-26/
LOCATION:PA
CATEGORIES:Tours
ATTACH;FMTTYPE=image/jpeg:https://www.artsquest.org/app/uploads/2025/08/rise-fall-tour.jpg
END:VEVENT
BEGIN:VEVENT
DTSTART;TZID=America/New_York:20260328T130000
DTEND;TZID=America/New_York:20260328T143000
DTSTAMP:20260422T174816
CREATED:20260225T161721Z
LAST-MODIFIED:20260225T161721Z
UID:10003324-1774702800-1774708200@www.artsquest.org
SUMMARY:The Rise and Fall of Bethlehem Steel Tour
DESCRIPTION:
URL:https://www.artsquest.org/event/the-rise-and-fall-of-bethlehem-steel-tour-3-28-28/
LOCATION:PA
CATEGORIES:Tours
ATTACH;FMTTYPE=image/jpeg:https://www.artsquest.org/app/uploads/2025/08/rise-fall-tour.jpg
END:VEVENT
BEGIN:VEVENT
DTSTART;TZID=America/New_York:20260329T090000
DTEND;TZID=America/New_York:20260329T103000
DTSTAMP:20260422T174816
CREATED:20260225T161744Z
LAST-MODIFIED:20260225T161744Z
UID:10003326-1774774800-1774780200@www.artsquest.org
SUMMARY:The Rise and Fall of Bethlehem Steel Tour
DESCRIPTION:
URL:https://www.artsquest.org/event/the-rise-and-fall-of-bethlehem-steel-tour-3-29-26/
LOCATION:PA
CATEGORIES:Tours
ATTACH;FMTTYPE=image/jpeg:https://www.artsquest.org/app/uploads/2025/08/rise-fall-tour.jpg
END:VEVENT
BEGIN:VEVENT
DTSTART;TZID=America/New_York:20260403T090000
DTEND;TZID=America/New_York:20260403T103000
DTSTAMP:20260422T174816
CREATED:20260225T162030Z
LAST-MODIFIED:20260225T162030Z
UID:10003328-1775206800-1775212200@www.artsquest.org
SUMMARY:The Rise and Fall of Bethlehem Steel Tour
DESCRIPTION:
URL:https://www.artsquest.org/event/the-rise-and-fall-of-bethlehem-steel-tour-4-3-26/
LOCATION:PA
CATEGORIES:Tours
ATTACH;FMTTYPE=image/jpeg:https://www.artsquest.org/app/uploads/2025/08/rise-fall-tour.jpg
END:VEVENT
BEGIN:VEVENT
DTSTART;TZID=America/New_York:20260404T130000
DTEND;TZID=America/New_York:20260404T143000
DTSTAMP:20260422T174816
CREATED:20260225T162047Z
LAST-MODIFIED:20260225T162047Z
UID:10003329-1775307600-1775313000@www.artsquest.org
SUMMARY:The Rise and Fall of Bethlehem Steel Tour
DESCRIPTION:
URL:https://www.artsquest.org/event/the-rise-and-fall-of-bethlehem-steel-tour-4-4-26/
LOCATION:PA
CATEGORIES:Tours
ATTACH;FMTTYPE=image/jpeg:https://www.artsquest.org/app/uploads/2025/08/rise-fall-tour.jpg
END:VEVENT
BEGIN:VEVENT
DTSTART;TZID=America/New_York:20260410T090000
DTEND;TZID=America/New_York:20260410T103000
DTSTAMP:20260422T174816
CREATED:20260225T162114Z
LAST-MODIFIED:20260225T162114Z
UID:10003330-1775811600-1775817000@www.artsquest.org
SUMMARY:The Rise and Fall of Bethlehem Steel Tour
DESCRIPTION:
URL:https://www.artsquest.org/event/the-rise-and-fall-of-bethlehem-steel-tour-4-10-26/
LOCATION:PA
CATEGORIES:Tours
ATTACH;FMTTYPE=image/jpeg:https://www.artsquest.org/app/uploads/2025/08/rise-fall-tour.jpg
END:VEVENT
BEGIN:VEVENT
DTSTART;TZID=America/New_York:20260411T090000
DTEND;TZID=America/New_York:20260411T103000
DTSTAMP:20260422T174816
CREATED:20260225T162136Z
LAST-MODIFIED:20260225T162136Z
UID:10003331-1775898000-1775903400@www.artsquest.org
SUMMARY:The Rise and Fall of Bethlehem Steel Tour
DESCRIPTION:
URL:https://www.artsquest.org/event/the-rise-and-fall-of-bethlehem-steel-tour-4-11-26/
LOCATION:PA
CATEGORIES:Tours
ATTACH;FMTTYPE=image/jpeg:https://www.artsquest.org/app/uploads/2025/08/rise-fall-tour.jpg
END:VEVENT
BEGIN:VEVENT
DTSTART;TZID=America/New_York:20260412T130000
DTEND;TZID=America/New_York:20260412T143000
DTSTAMP:20260422T174816
CREATED:20260225T162159Z
LAST-MODIFIED:20260225T162159Z
UID:10003332-1775998800-1776004200@www.artsquest.org
SUMMARY:The Rise and Fall of Bethlehem Steel Tour
DESCRIPTION:
URL:https://www.artsquest.org/event/the-rise-and-fall-of-bethlehem-steel-tour-4-12-26/
LOCATION:PA
CATEGORIES:Tours
ATTACH;FMTTYPE=image/jpeg:https://www.artsquest.org/app/uploads/2025/08/rise-fall-tour.jpg
END:VEVENT
BEGIN:VEVENT
DTSTART;TZID=America/New_York:20260417T130000
DTEND;TZID=America/New_York:20260417T143000
DTSTAMP:20260422T174816
CREATED:20260225T162957Z
LAST-MODIFIED:20260225T162957Z
UID:10003333-1776430800-1776436200@www.artsquest.org
SUMMARY:The Rise and Fall of Bethlehem Steel Tour
DESCRIPTION:
URL:https://www.artsquest.org/event/the-rise-and-fall-of-bethlehem-steel-tour-4-17-26/
LOCATION:PA
CATEGORIES:Tours
ATTACH;FMTTYPE=image/jpeg:https://www.artsquest.org/app/uploads/2025/08/rise-fall-tour.jpg
END:VEVENT
BEGIN:VEVENT
DTSTART;TZID=America/New_York:20260418T090000
DTEND;TZID=America/New_York:20260418T103000
DTSTAMP:20260422T174816
CREATED:20260225T163013Z
LAST-MODIFIED:20260225T163013Z
UID:10003334-1776502800-1776508200@www.artsquest.org
SUMMARY:The Rise and Fall of Bethlehem Steel Tour
DESCRIPTION:
URL:https://www.artsquest.org/event/the-rise-and-fall-of-bethlehem-steel-tour-4-18-26/
LOCATION:PA
CATEGORIES:Tours
ATTACH;FMTTYPE=image/jpeg:https://www.artsquest.org/app/uploads/2025/08/rise-fall-tour.jpg
END:VEVENT
BEGIN:VEVENT
DTSTART;TZID=America/New_York:20260419T090000
DTEND;TZID=America/New_York:20260419T103000
DTSTAMP:20260422T174816
CREATED:20260225T163034Z
LAST-MODIFIED:20260225T163034Z
UID:10003335-1776589200-1776594600@www.artsquest.org
SUMMARY:The Rise and Fall of Bethlehem Steel Tour
DESCRIPTION:
URL:https://www.artsquest.org/event/the-rise-and-fall-of-bethlehem-steel-tour-4-19-26/
LOCATION:PA
CATEGORIES:Tours
ATTACH;FMTTYPE=image/jpeg:https://www.artsquest.org/app/uploads/2025/08/rise-fall-tour.jpg
END:VEVENT
BEGIN:VEVENT
DTSTART;TZID=America/New_York:20260424T130000
DTEND;TZID=America/New_York:20260424T143000
DTSTAMP:20260422T174816
CREATED:20260225T163052Z
LAST-MODIFIED:20260225T163052Z
UID:10003336-1777035600-1777041000@www.artsquest.org
SUMMARY:The Rise and Fall of Bethlehem Steel Tour
DESCRIPTION:
URL:https://www.artsquest.org/event/the-rise-and-fall-of-bethlehem-steel-tour-4-24-26/
LOCATION:PA
CATEGORIES:Tours
ATTACH;FMTTYPE=image/jpeg:https://www.artsquest.org/app/uploads/2025/08/rise-fall-tour.jpg
END:VEVENT
BEGIN:VEVENT
DTSTART;TZID=America/New_York:20260425T090000
DTEND;TZID=America/New_York:20260425T103000
DTSTAMP:20260422T174816
CREATED:20260225T163114Z
LAST-MODIFIED:20260225T163114Z
UID:10003337-1777107600-1777113000@www.artsquest.org
SUMMARY:The Rise and Fall of Bethlehem Steel Tour
DESCRIPTION:
URL:https://www.artsquest.org/event/the-rise-and-fall-of-bethlehem-steel-tour-4-25-26/
LOCATION:PA
CATEGORIES:Tours
ATTACH;FMTTYPE=image/jpeg:https://www.artsquest.org/app/uploads/2025/08/rise-fall-tour.jpg
END:VEVENT
BEGIN:VEVENT
DTSTART;TZID=America/New_York:20260426T090000
DTEND;TZID=America/New_York:20260426T103000
DTSTAMP:20260422T174816
CREATED:20260225T163141Z
LAST-MODIFIED:20260225T163141Z
UID:10003338-1777194000-1777199400@www.artsquest.org
SUMMARY:The Rise and Fall of Bethlehem Steel Tour
DESCRIPTION:
URL:https://www.artsquest.org/event/the-rise-and-fall-of-bethlehem-steel-tour-4-26-26/
LOCATION:PA
CATEGORIES:Tours
ATTACH;FMTTYPE=image/jpeg:https://www.artsquest.org/app/uploads/2025/08/rise-fall-tour.jpg
END:VEVENT
BEGIN:VEVENT
DTSTART;TZID=America/New_York:20260501T130000
DTEND;TZID=America/New_York:20260501T143000
DTSTAMP:20260422T174816
CREATED:20260225T182131Z
LAST-MODIFIED:20260225T182131Z
UID:10003341-1777640400-1777645800@www.artsquest.org
SUMMARY:The Rise and Fall of Bethlehem Steel Tour
DESCRIPTION:
URL:https://www.artsquest.org/event/the-rise-and-fall-of-bethlehem-steel-tour-5-1-26/
LOCATION:PA
CATEGORIES:Tours
ATTACH;FMTTYPE=image/jpeg:https://www.artsquest.org/app/uploads/2025/08/rise-fall-tour.jpg
END:VEVENT
BEGIN:VEVENT
DTSTART;TZID=America/New_York:20260502T090000
DTEND;TZID=America/New_York:20260502T103000
DTSTAMP:20260422T174816
CREATED:20260225T182150Z
LAST-MODIFIED:20260225T182150Z
UID:10003340-1777712400-1777717800@www.artsquest.org
SUMMARY:The Rise and Fall of Bethlehem Steel Tour
DESCRIPTION:
URL:https://www.artsquest.org/event/the-rise-and-fall-of-bethlehem-steel-tour-5-2-26/
LOCATION:PA
CATEGORIES:Tours
ATTACH;FMTTYPE=image/jpeg:https://www.artsquest.org/app/uploads/2025/08/rise-fall-tour.jpg
END:VEVENT
BEGIN:VEVENT
DTSTART;TZID=America/New_York:20260503T090000
DTEND;TZID=America/New_York:20260503T103000
DTSTAMP:20260422T174816
CREATED:20260225T182206Z
LAST-MODIFIED:20260225T182206Z
UID:10003339-1777798800-1777804200@www.artsquest.org
SUMMARY:The Rise and Fall of Bethlehem Steel Tour
DESCRIPTION:
URL:https://www.artsquest.org/event/the-rise-and-fall-of-bethlehem-steel-tour-5-3-26/
LOCATION:PA
CATEGORIES:Tours
ATTACH;FMTTYPE=image/jpeg:https://www.artsquest.org/app/uploads/2025/08/rise-fall-tour.jpg
END:VEVENT
BEGIN:VEVENT
DTSTART;TZID=America/New_York:20260507T130000
DTEND;TZID=America/New_York:20260507T143000
DTSTAMP:20260422T174816
CREATED:20260225T182310Z
LAST-MODIFIED:20260225T182310Z
UID:10003344-1778158800-1778164200@www.artsquest.org
SUMMARY:The Rise and Fall of Bethlehem Steel Tour
DESCRIPTION:
URL:https://www.artsquest.org/event/the-rise-and-fall-of-bethlehem-steel-tour-5-7-26/
LOCATION:PA
CATEGORIES:Tours
ATTACH;FMTTYPE=image/jpeg:https://www.artsquest.org/app/uploads/2025/08/rise-fall-tour.jpg
END:VEVENT
BEGIN:VEVENT
DTSTART;TZID=America/New_York:20260508T090000
DTEND;TZID=America/New_York:20260508T103000
DTSTAMP:20260422T174816
CREATED:20260225T182333Z
LAST-MODIFIED:20260225T182333Z
UID:10003343-1778230800-1778236200@www.artsquest.org
SUMMARY:The Rise and Fall of Bethlehem Steel Tour
DESCRIPTION:
URL:https://www.artsquest.org/event/the-rise-and-fall-of-bethlehem-steel-tour-5-8-26/
LOCATION:PA
CATEGORIES:Tours
ATTACH;FMTTYPE=image/jpeg:https://www.artsquest.org/app/uploads/2025/08/rise-fall-tour.jpg
END:VEVENT
BEGIN:VEVENT
DTSTART;TZID=America/New_York:20260509T090000
DTEND;TZID=America/New_York:20260509T103000
DTSTAMP:20260422T174816
CREATED:20260225T182428Z
LAST-MODIFIED:20260225T182428Z
UID:10003342-1778317200-1778322600@www.artsquest.org
SUMMARY:The Rise and Fall of Bethlehem Steel Tour
DESCRIPTION:
URL:https://www.artsquest.org/event/the-rise-and-fall-of-bethlehem-steel-tour-5-9-26/
LOCATION:PA
CATEGORIES:Tours
ATTACH;FMTTYPE=image/jpeg:https://www.artsquest.org/app/uploads/2025/08/rise-fall-tour.jpg
END:VEVENT
END:VCALENDAR