BEGIN:VCALENDAR
VERSION:2.0
PRODID:-//ArtsQuest - ECPv6.15.5//NONSGML v1.0//EN
CALSCALE:GREGORIAN
METHOD:PUBLISH
X-WR-CALNAME:ArtsQuest
X-ORIGINAL-URL:https://www.artsquest.org
X-WR-CALDESC:Events for ArtsQuest
REFRESH-INTERVAL;VALUE=DURATION:PT1H
X-Robots-Tag:noindex
X-PUBLISHED-TTL:PT1H
BEGIN:VTIMEZONE
TZID:America/New_York
BEGIN:DAYLIGHT
TZOFFSETFROM:-0500
TZOFFSETTO:-0400
TZNAME:EDT
DTSTART:20260308T070000
END:DAYLIGHT
BEGIN:STANDARD
TZOFFSETFROM:-0400
TZOFFSETTO:-0500
TZNAME:EST
DTSTART:20261101T060000
END:STANDARD
END:VTIMEZONE
BEGIN:VEVENT
DTSTART;TZID=America/New_York:20260205T050000
DTEND;TZID=America/New_York:20260205T053000
DTSTAMP:20260425T065521
CREATED:20250905T223131Z
LAST-MODIFIED:20260205T214608Z
UID:10001254-1770267600-1770269400@www.artsquest.org
SUMMARY:Toddler Storytime
DESCRIPTION:
URL:https://www.artsquest.org/event/toddler-storytime/2026-02-05/
LOCATION:Bethlehem Visitor Center at SteelStacks pres. by Lehigh Valley Health Network\, 711 E. First St.\, Bethlehem\, PA\, 18015\, United States
CATEGORIES:Family Event
ATTACH;FMTTYPE=image/jpeg:https://www.artsquest.org/app/uploads/2025/09/2025_VA_toddler-storytime.jpg
END:VEVENT
BEGIN:VEVENT
DTSTART;TZID=America/New_York:20260212T050000
DTEND;TZID=America/New_York:20260212T053000
DTSTAMP:20260425T065521
CREATED:20250905T223131Z
LAST-MODIFIED:20260205T214608Z
UID:10001255-1770872400-1770874200@www.artsquest.org
SUMMARY:Toddler Storytime
DESCRIPTION:
URL:https://www.artsquest.org/event/toddler-storytime/2026-02-12/
LOCATION:Bethlehem Visitor Center at SteelStacks pres. by Lehigh Valley Health Network\, 711 E. First St.\, Bethlehem\, PA\, 18015\, United States
CATEGORIES:Family Event
ATTACH;FMTTYPE=image/jpeg:https://www.artsquest.org/app/uploads/2025/09/2025_VA_toddler-storytime.jpg
END:VEVENT
BEGIN:VEVENT
DTSTART;TZID=America/New_York:20260219T050000
DTEND;TZID=America/New_York:20260219T053000
DTSTAMP:20260425T065521
CREATED:20260204T203949Z
LAST-MODIFIED:20260204T210548Z
UID:10003122-1771477200-1771479000@www.artsquest.org
SUMMARY:Toddler Storytime - Kids Yoga Storytime
DESCRIPTION:
URL:https://www.artsquest.org/event/toddler-storytime-kids-yoga-storytime/
LOCATION:Bethlehem Visitor Center at SteelStacks pres. by Lehigh Valley Health Network\, 711 E. First St.\, Bethlehem\, PA\, 18015\, United States
CATEGORIES:Family Event
ATTACH;FMTTYPE=image/jpeg:https://www.artsquest.org/app/uploads/2026/02/KidsYogaStorytime-2-scaled.jpg
END:VEVENT
BEGIN:VEVENT
DTSTART;TZID=America/New_York:20260226T050000
DTEND;TZID=America/New_York:20260226T053000
DTSTAMP:20260425T065521
CREATED:20250905T223131Z
LAST-MODIFIED:20260205T214608Z
UID:10001257-1772082000-1772083800@www.artsquest.org
SUMMARY:Toddler Storytime
DESCRIPTION:
URL:https://www.artsquest.org/event/toddler-storytime/2026-02-26/
LOCATION:Bethlehem Visitor Center at SteelStacks pres. by Lehigh Valley Health Network\, 711 E. First St.\, Bethlehem\, PA\, 18015\, United States
CATEGORIES:Family Event
ATTACH;FMTTYPE=image/jpeg:https://www.artsquest.org/app/uploads/2025/09/2025_VA_toddler-storytime.jpg
END:VEVENT
BEGIN:VEVENT
DTSTART;TZID=America/New_York:20260305T050000
DTEND;TZID=America/New_York:20260305T053000
DTSTAMP:20260425T065521
CREATED:20250905T223131Z
LAST-MODIFIED:20260205T214608Z
UID:10001258-1772686800-1772688600@www.artsquest.org
SUMMARY:Toddler Storytime
DESCRIPTION:
URL:https://www.artsquest.org/event/toddler-storytime/2026-03-05/
LOCATION:Bethlehem Visitor Center at SteelStacks pres. by Lehigh Valley Health Network\, 711 E. First St.\, Bethlehem\, PA\, 18015\, United States
CATEGORIES:Family Event
ATTACH;FMTTYPE=image/jpeg:https://www.artsquest.org/app/uploads/2025/09/2025_VA_toddler-storytime.jpg
END:VEVENT
BEGIN:VEVENT
DTSTART;TZID=America/New_York:20260308T160000
DTEND;TZID=America/New_York:20260308T173000
DTSTAMP:20260425T065521
CREATED:20251212T150037Z
LAST-MODIFIED:20260220T215130Z
UID:10002537-1772985600-1772991000@www.artsquest.org
SUMMARY:Poets for Justice: Unplugged
DESCRIPTION:
URL:https://www.artsquest.org/event/poets-for-justice-unplugged/
LOCATION:Bethlehem Visitor Center at SteelStacks pres. by Lehigh Valley Health Network\, 711 E. First St.\, Bethlehem\, PA\, 18015\, United States
CATEGORIES:Family Event,Special Event
ATTACH;FMTTYPE=image/jpeg:https://www.artsquest.org/app/uploads/2025/12/COMEDY_poetsforjustice_1200x392.jpg
END:VEVENT
BEGIN:VEVENT
DTSTART;TZID=America/New_York:20260312T060000
DTEND;TZID=America/New_York:20260312T063000
DTSTAMP:20260425T065521
CREATED:20250905T223131Z
LAST-MODIFIED:20260205T214608Z
UID:10001259-1773295200-1773297000@www.artsquest.org
SUMMARY:Toddler Storytime
DESCRIPTION:
URL:https://www.artsquest.org/event/toddler-storytime/2026-03-12/
LOCATION:Bethlehem Visitor Center at SteelStacks pres. by Lehigh Valley Health Network\, 711 E. First St.\, Bethlehem\, PA\, 18015\, United States
CATEGORIES:Family Event
ATTACH;FMTTYPE=image/jpeg:https://www.artsquest.org/app/uploads/2025/09/2025_VA_toddler-storytime.jpg
END:VEVENT
BEGIN:VEVENT
DTSTART;TZID=America/New_York:20260319T060000
DTEND;TZID=America/New_York:20260319T063000
DTSTAMP:20260425T065521
CREATED:20260204T210630Z
LAST-MODIFIED:20260204T210630Z
UID:10003209-1773900000-1773901800@www.artsquest.org
SUMMARY:Toddler Storytime - Kids Yoga Storytime
DESCRIPTION:
URL:https://www.artsquest.org/event/toddler-storytime-kids-yoga-storytime-2/
LOCATION:Bethlehem Visitor Center at SteelStacks pres. by Lehigh Valley Health Network\, 711 E. First St.\, Bethlehem\, PA\, 18015\, United States
CATEGORIES:Family Event
ATTACH;FMTTYPE=image/jpeg:https://www.artsquest.org/app/uploads/2026/02/KidsYogaStorytime-2-scaled.jpg
END:VEVENT
BEGIN:VEVENT
DTSTART;TZID=America/New_York:20260326T060000
DTEND;TZID=America/New_York:20260326T063000
DTSTAMP:20260425T065521
CREATED:20250905T223131Z
LAST-MODIFIED:20260205T214608Z
UID:10001261-1774504800-1774506600@www.artsquest.org
SUMMARY:Toddler Storytime
DESCRIPTION:
URL:https://www.artsquest.org/event/toddler-storytime/2026-03-26/
LOCATION:Bethlehem Visitor Center at SteelStacks pres. by Lehigh Valley Health Network\, 711 E. First St.\, Bethlehem\, PA\, 18015\, United States
CATEGORIES:Family Event
ATTACH;FMTTYPE=image/jpeg:https://www.artsquest.org/app/uploads/2025/09/2025_VA_toddler-storytime.jpg
END:VEVENT
BEGIN:VEVENT
DTSTART;TZID=America/New_York:20260402T060000
DTEND;TZID=America/New_York:20260402T063000
DTSTAMP:20260425T065521
CREATED:20250905T223131Z
LAST-MODIFIED:20260205T214608Z
UID:10001262-1775109600-1775111400@www.artsquest.org
SUMMARY:Toddler Storytime
DESCRIPTION:
URL:https://www.artsquest.org/event/toddler-storytime/2026-04-02/
LOCATION:Bethlehem Visitor Center at SteelStacks pres. by Lehigh Valley Health Network\, 711 E. First St.\, Bethlehem\, PA\, 18015\, United States
CATEGORIES:Family Event
ATTACH;FMTTYPE=image/jpeg:https://www.artsquest.org/app/uploads/2025/09/2025_VA_toddler-storytime.jpg
END:VEVENT
BEGIN:VEVENT
DTSTART;TZID=America/New_York:20260409T060000
DTEND;TZID=America/New_York:20260409T063000
DTSTAMP:20260425T065521
CREATED:20250905T223131Z
LAST-MODIFIED:20260205T214608Z
UID:10001263-1775714400-1775716200@www.artsquest.org
SUMMARY:Toddler Storytime
DESCRIPTION:
URL:https://www.artsquest.org/event/toddler-storytime/2026-04-09/
LOCATION:Bethlehem Visitor Center at SteelStacks pres. by Lehigh Valley Health Network\, 711 E. First St.\, Bethlehem\, PA\, 18015\, United States
CATEGORIES:Family Event
ATTACH;FMTTYPE=image/jpeg:https://www.artsquest.org/app/uploads/2025/09/2025_VA_toddler-storytime.jpg
END:VEVENT
BEGIN:VEVENT
DTSTART;TZID=America/New_York:20260416T060000
DTEND;TZID=America/New_York:20260416T063000
DTSTAMP:20260425T065521
CREATED:20260204T210647Z
LAST-MODIFIED:20260204T210647Z
UID:10003210-1776319200-1776321000@www.artsquest.org
SUMMARY:Toddler Storytime - Kids Yoga Storytime
DESCRIPTION:
URL:https://www.artsquest.org/event/toddler-storytime-kids-yoga-storytime-3/
LOCATION:Bethlehem Visitor Center at SteelStacks pres. by Lehigh Valley Health Network\, 711 E. First St.\, Bethlehem\, PA\, 18015\, United States
CATEGORIES:Family Event
ATTACH;FMTTYPE=image/jpeg:https://www.artsquest.org/app/uploads/2026/02/KidsYogaStorytime-2-scaled.jpg
END:VEVENT
BEGIN:VEVENT
DTSTART;TZID=America/New_York:20260423T060000
DTEND;TZID=America/New_York:20260423T063000
DTSTAMP:20260425T065521
CREATED:20250905T223131Z
LAST-MODIFIED:20260205T214608Z
UID:10001265-1776924000-1776925800@www.artsquest.org
SUMMARY:Toddler Storytime
DESCRIPTION:
URL:https://www.artsquest.org/event/toddler-storytime/2026-04-23/
LOCATION:Bethlehem Visitor Center at SteelStacks pres. by Lehigh Valley Health Network\, 711 E. First St.\, Bethlehem\, PA\, 18015\, United States
CATEGORIES:Family Event
ATTACH;FMTTYPE=image/jpeg:https://www.artsquest.org/app/uploads/2025/09/2025_VA_toddler-storytime.jpg
END:VEVENT
BEGIN:VEVENT
DTSTART;TZID=America/New_York:20260507T060000
DTEND;TZID=America/New_York:20260507T063000
DTSTAMP:20260425T065521
CREATED:20250905T223131Z
LAST-MODIFIED:20260205T214608Z
UID:10001267-1778133600-1778135400@www.artsquest.org
SUMMARY:Toddler Storytime
DESCRIPTION:
URL:https://www.artsquest.org/event/toddler-storytime/2026-05-07/
LOCATION:Bethlehem Visitor Center at SteelStacks pres. by Lehigh Valley Health Network\, 711 E. First St.\, Bethlehem\, PA\, 18015\, United States
CATEGORIES:Family Event
ATTACH;FMTTYPE=image/jpeg:https://www.artsquest.org/app/uploads/2025/09/2025_VA_toddler-storytime.jpg
END:VEVENT
BEGIN:VEVENT
DTSTART;TZID=America/New_York:20260514T060000
DTEND;TZID=America/New_York:20260514T063000
DTSTAMP:20260425T065521
CREATED:20250905T224449Z
LAST-MODIFIED:20260116T152852Z
UID:10001268-1778738400-1778740200@www.artsquest.org
SUMMARY:Toddler Storytime
DESCRIPTION:
URL:https://www.artsquest.org/event/toddler-storytime-7/
LOCATION:Williams Brew Stage\, 101 Founders Way\, Bethlehem\, PA\, 18015\, United States
CATEGORIES:Family Event
ATTACH;FMTTYPE=image/jpeg:https://www.artsquest.org/app/uploads/2025/09/2025_VA_toddler-storytime.jpg
END:VEVENT
BEGIN:VEVENT
DTSTART;TZID=America/New_York:20260521T060000
DTEND;TZID=America/New_York:20260521T063000
DTSTAMP:20260425T065521
CREATED:20260204T210737Z
LAST-MODIFIED:20260204T210737Z
UID:10003211-1779343200-1779345000@www.artsquest.org
SUMMARY:Toddler Storytime - Kids Yoga Storytime
DESCRIPTION:
URL:https://www.artsquest.org/event/toddler-storytime-kids-yoga-storytime-4/
LOCATION:Williams Brew Stage\, 101 Founders Way\, Bethlehem\, PA\, 18015\, United States
CATEGORIES:Family Event
ATTACH;FMTTYPE=image/jpeg:https://www.artsquest.org/app/uploads/2026/02/KidsYogaStorytime-2-scaled.jpg
END:VEVENT
BEGIN:VEVENT
DTSTART;VALUE=DATE:20260523
DTEND;VALUE=DATE:20260524
DTSTAMP:20260425T065521
CREATED:20260209T155634Z
LAST-MODIFIED:20260209T155708Z
UID:10003238-1779494400-1779580799@www.artsquest.org
SUMMARY:Memorial Day Celebration
DESCRIPTION:
URL:https://www.artsquest.org/event/memorial-day-celebration-5-23-2026/
LOCATION:SteelStacks\, 101 Founders Way\, Bethlehem\, PA\, 18015\, United States
CATEGORIES:Concerts,Family Event,Festival,Free,Holiday,Special Event
ATTACH;FMTTYPE=image/jpeg:https://www.artsquest.org/app/uploads/2026/02/memorial-day-featured-1920x1080-1.jpg
END:VEVENT
BEGIN:VEVENT
DTSTART;VALUE=DATE:20260524
DTEND;VALUE=DATE:20260525
DTSTAMP:20260425T065521
CREATED:20260209T155739Z
LAST-MODIFIED:20260209T155739Z
UID:10003239-1779580800-1779667199@www.artsquest.org
SUMMARY:Memorial Day Celebration
DESCRIPTION:
URL:https://www.artsquest.org/event/memorial-day-celebration-5-24-2026/
LOCATION:SteelStacks\, 101 Founders Way\, Bethlehem\, PA\, 18015\, United States
CATEGORIES:Concerts,Family Event,Festival,Free,Holiday,Special Event
ATTACH;FMTTYPE=image/jpeg:https://www.artsquest.org/app/uploads/2026/02/memorial-day-featured-1920x1080-1.jpg
END:VEVENT
BEGIN:VEVENT
DTSTART;VALUE=DATE:20260525
DTEND;VALUE=DATE:20260526
DTSTAMP:20260425T065521
CREATED:20260209T155807Z
LAST-MODIFIED:20260209T155807Z
UID:10003240-1779667200-1779753599@www.artsquest.org
SUMMARY:Memorial Day Celebration
DESCRIPTION:
URL:https://www.artsquest.org/event/memorial-day-celebration-5-25-2026/
LOCATION:SteelStacks\, 101 Founders Way\, Bethlehem\, PA\, 18015\, United States
CATEGORIES:Concerts,Family Event,Festival,Free,Holiday,Special Event
ATTACH;FMTTYPE=image/jpeg:https://www.artsquest.org/app/uploads/2026/02/memorial-day-featured-1920x1080-1.jpg
END:VEVENT
BEGIN:VEVENT
DTSTART;TZID=America/New_York:20260528T060000
DTEND;TZID=America/New_York:20260528T063000
DTSTAMP:20260425T065521
CREATED:20250905T223131Z
LAST-MODIFIED:20260205T214608Z
UID:10001270-1779948000-1779949800@www.artsquest.org
SUMMARY:Toddler Storytime
DESCRIPTION:
URL:https://www.artsquest.org/event/toddler-storytime/2026-05-28/
LOCATION:Bethlehem Visitor Center at SteelStacks pres. by Lehigh Valley Health Network\, 711 E. First St.\, Bethlehem\, PA\, 18015\, United States
CATEGORIES:Family Event
ATTACH;FMTTYPE=image/jpeg:https://www.artsquest.org/app/uploads/2025/09/2025_VA_toddler-storytime.jpg
END:VEVENT
BEGIN:VEVENT
DTSTART;TZID=America/New_York:20260604T060000
DTEND;TZID=America/New_York:20260604T063000
DTSTAMP:20260425T065521
CREATED:20250905T223131Z
LAST-MODIFIED:20260205T214608Z
UID:10001271-1780552800-1780554600@www.artsquest.org
SUMMARY:Toddler Storytime
DESCRIPTION:
URL:https://www.artsquest.org/event/toddler-storytime/2026-06-04/
LOCATION:Bethlehem Visitor Center at SteelStacks pres. by Lehigh Valley Health Network\, 711 E. First St.\, Bethlehem\, PA\, 18015\, United States
CATEGORIES:Family Event
ATTACH;FMTTYPE=image/jpeg:https://www.artsquest.org/app/uploads/2025/09/2025_VA_toddler-storytime.jpg
END:VEVENT
BEGIN:VEVENT
DTSTART;TZID=America/New_York:20260606T133000
DTEND;TZID=America/New_York:20260606T143000
DTSTAMP:20260425T065521
CREATED:20260224T170603Z
LAST-MODIFIED:20260224T170643Z
UID:10003314-1780752600-1780756200@www.artsquest.org
SUMMARY:Flag Day Celebration
DESCRIPTION:
URL:https://www.artsquest.org/event/flag-day-celebration/
LOCATION:Musikfest Café\, 101 Founders Way\, Bethlehem\, PA\, 18015\, United States
CATEGORIES:Concerts,Family Event,Festival,Free,Holiday,Special Event
ATTACH;FMTTYPE=image/jpeg:https://www.artsquest.org/app/uploads/2026/02/flag-day-feature-1200x392-1.jpg
END:VEVENT
END:VCALENDAR