BEGIN:VCALENDAR
VERSION:2.0
PRODID:-//ArtsQuest - ECPv6.15.5//NONSGML v1.0//EN
CALSCALE:GREGORIAN
METHOD:PUBLISH
X-WR-CALNAME:ArtsQuest
X-ORIGINAL-URL:https://www.artsquest.org
X-WR-CALDESC:Events for ArtsQuest
REFRESH-INTERVAL;VALUE=DURATION:PT1H
X-Robots-Tag:noindex
X-PUBLISHED-TTL:PT1H
BEGIN:VTIMEZONE
TZID:America/New_York
BEGIN:DAYLIGHT
TZOFFSETFROM:-0500
TZOFFSETTO:-0400
TZNAME:EDT
DTSTART:20260308T070000
END:DAYLIGHT
BEGIN:STANDARD
TZOFFSETFROM:-0400
TZOFFSETTO:-0500
TZNAME:EST
DTSTART:20261101T060000
END:STANDARD
END:VTIMEZONE
BEGIN:VEVENT
DTSTART;TZID=America/New_York:20260122T130000
DTEND;TZID=America/New_York:20260122T152000
DTSTAMP:20260423T071454
CREATED:20260114T204734Z
LAST-MODIFIED:20260114T204734Z
UID:10002905-1769086800-1769095200@www.artsquest.org
SUMMARY:No Other Choice
DESCRIPTION:
URL:https://www.artsquest.org/event/no-other-choice-18/
LOCATION:Frank Banko Alehouse Cinemas\, 101 Founders Way\, Bethlehem\, PA\, 18015\, United States
CATEGORIES:Film
ATTACH;FMTTYPE=image/jpeg:https://www.artsquest.org/app/uploads/2026/01/FILM_NoOtherChoice_1200x392.jpg
END:VEVENT
BEGIN:VEVENT
DTSTART;TZID=America/New_York:20260122T154500
DTEND;TZID=America/New_York:20260122T180000
DTSTAMP:20260423T071454
CREATED:20260114T195929Z
LAST-MODIFIED:20260114T195929Z
UID:10002878-1769096700-1769104800@www.artsquest.org
SUMMARY:Song Sung Blue
DESCRIPTION:
URL:https://www.artsquest.org/event/song-sung-blue-77/
LOCATION:Frank Banko Alehouse Cinemas\, 101 Founders Way\, Bethlehem\, PA\, 18015\, United States
CATEGORIES:Film
ATTACH;FMTTYPE=image/jpeg:https://www.artsquest.org/app/uploads/2025/12/FILM_SungBlue_1200x392.jpg
END:VEVENT
BEGIN:VEVENT
DTSTART;TZID=America/New_York:20260122T160000
DTEND;TZID=America/New_York:20260122T182000
DTSTAMP:20260423T071454
CREATED:20260114T204844Z
LAST-MODIFIED:20260114T204844Z
UID:10002906-1769097600-1769106000@www.artsquest.org
SUMMARY:No Other Choice
DESCRIPTION:
URL:https://www.artsquest.org/event/no-other-choice-19/
LOCATION:Frank Banko Alehouse Cinemas\, 101 Founders Way\, Bethlehem\, PA\, 18015\, United States
CATEGORIES:Film
ATTACH;FMTTYPE=image/jpeg:https://www.artsquest.org/app/uploads/2026/01/FILM_NoOtherChoice_1200x392.jpg
END:VEVENT
BEGIN:VEVENT
DTSTART;TZID=America/New_York:20260122T190000
DTEND;TZID=America/New_York:20260122T212000
DTSTAMP:20260423T071454
CREATED:20260114T204924Z
LAST-MODIFIED:20260114T204924Z
UID:10002907-1769108400-1769116800@www.artsquest.org
SUMMARY:No Other Choice
DESCRIPTION:
URL:https://www.artsquest.org/event/no-other-choice-20/
LOCATION:Frank Banko Alehouse Cinemas\, 101 Founders Way\, Bethlehem\, PA\, 18015\, United States
CATEGORIES:Film
ATTACH;FMTTYPE=image/jpeg:https://www.artsquest.org/app/uploads/2026/01/FILM_NoOtherChoice_1200x392.jpg
END:VEVENT
BEGIN:VEVENT
DTSTART;TZID=America/New_York:20260122T191500
DTEND;TZID=America/New_York:20260122T213000
DTSTAMP:20260423T071454
CREATED:20251212T150005Z
LAST-MODIFIED:20251230T151213Z
UID:10002535-1769109300-1769117400@www.artsquest.org
SUMMARY:9 to 5: Celebrating 80 Years of Dolly Parton feat. a Performance by Kendal Conrad
DESCRIPTION:
URL:https://www.artsquest.org/event/9-to-5-celebrating-80-years-of-dolly-parton-feat-a-performance-by-kendal-conrad/
LOCATION:Frank Banko Alehouse Cinemas\, 101 Founders Way\, Bethlehem\, PA\, 18015\, United States
CATEGORIES:Film
ATTACH;FMTTYPE=image/jpeg:https://www.artsquest.org/app/uploads/2025/12/FILM_9to5_1200x392.jpg
END:VEVENT
BEGIN:VEVENT
DTSTART;TZID=America/New_York:20260123T164500
DTEND;TZID=America/New_York:20260123T190500
DTSTAMP:20260423T071454
CREATED:20260121T164326Z
LAST-MODIFIED:20260121T164326Z
UID:10002958-1769186700-1769195100@www.artsquest.org
SUMMARY:No Other Choice
DESCRIPTION:
URL:https://www.artsquest.org/event/no-other-choice-21/
LOCATION:Frank Banko Alehouse Cinemas\, 101 Founders Way\, Bethlehem\, PA\, 18015\, United States
CATEGORIES:Film
ATTACH;FMTTYPE=image/jpeg:https://www.artsquest.org/app/uploads/2026/01/FILM_NoOtherChoice_1200x392.jpg
END:VEVENT
BEGIN:VEVENT
DTSTART;TZID=America/New_York:20260123T193000
DTEND;TZID=America/New_York:20260123T214500
DTSTAMP:20260423T071454
CREATED:20260121T160315Z
LAST-MODIFIED:20260121T160315Z
UID:10002939-1769196600-1769204700@www.artsquest.org
SUMMARY:Song Sung Blue
DESCRIPTION:
URL:https://www.artsquest.org/event/song-sung-blue-78/
LOCATION:Frank Banko Alehouse Cinemas\, 101 Founders Way\, Bethlehem\, PA\, 18015\, United States
CATEGORIES:Film
ATTACH;FMTTYPE=image/jpeg:https://www.artsquest.org/app/uploads/2025/12/FILM_SungBlue_1200x392.jpg
END:VEVENT
BEGIN:VEVENT
DTSTART;TZID=America/New_York:20260123T200000
DTEND;TZID=America/New_York:20260123T222000
DTSTAMP:20260423T071454
CREATED:20260121T164410Z
LAST-MODIFIED:20260121T164410Z
UID:10002959-1769198400-1769206800@www.artsquest.org
SUMMARY:No Other Choice
DESCRIPTION:
URL:https://www.artsquest.org/event/no-other-choice-22/
LOCATION:Frank Banko Alehouse Cinemas\, 101 Founders Way\, Bethlehem\, PA\, 18015\, United States
CATEGORIES:Film
ATTACH;FMTTYPE=image/jpeg:https://www.artsquest.org/app/uploads/2026/01/FILM_NoOtherChoice_1200x392.jpg
END:VEVENT
BEGIN:VEVENT
DTSTART;TZID=America/New_York:20260124T130000
DTEND;TZID=America/New_York:20260124T151500
DTSTAMP:20260423T071454
CREATED:20260121T160403Z
LAST-MODIFIED:20260121T160403Z
UID:10002940-1769259600-1769267700@www.artsquest.org
SUMMARY:Song Sung Blue
DESCRIPTION:
URL:https://www.artsquest.org/event/song-sung-blue-79/
LOCATION:Frank Banko Alehouse Cinemas\, 101 Founders Way\, Bethlehem\, PA\, 18015\, United States
CATEGORIES:Film
ATTACH;FMTTYPE=image/jpeg:https://www.artsquest.org/app/uploads/2025/12/FILM_SungBlue_1200x392.jpg
END:VEVENT
BEGIN:VEVENT
DTSTART;TZID=America/New_York:20260124T161500
DTEND;TZID=America/New_York:20260124T183000
DTSTAMP:20260423T071454
CREATED:20260121T160507Z
LAST-MODIFIED:20260121T160507Z
UID:10002941-1769271300-1769279400@www.artsquest.org
SUMMARY:Song Sung Blue
DESCRIPTION:
URL:https://www.artsquest.org/event/song-sung-blue-80/
LOCATION:Frank Banko Alehouse Cinemas\, 101 Founders Way\, Bethlehem\, PA\, 18015\, United States
CATEGORIES:Film
ATTACH;FMTTYPE=image/jpeg:https://www.artsquest.org/app/uploads/2025/12/FILM_SungBlue_1200x392.jpg
END:VEVENT
BEGIN:VEVENT
DTSTART;TZID=America/New_York:20260124T164500
DTEND;TZID=America/New_York:20260124T190500
DTSTAMP:20260423T071454
CREATED:20260121T164452Z
LAST-MODIFIED:20260121T164452Z
UID:10002960-1769273100-1769281500@www.artsquest.org
SUMMARY:No Other Choice
DESCRIPTION:
URL:https://www.artsquest.org/event/no-other-choice-23/
LOCATION:Frank Banko Alehouse Cinemas\, 101 Founders Way\, Bethlehem\, PA\, 18015\, United States
CATEGORIES:Film
ATTACH;FMTTYPE=image/jpeg:https://www.artsquest.org/app/uploads/2026/01/FILM_NoOtherChoice_1200x392.jpg
END:VEVENT
BEGIN:VEVENT
DTSTART;TZID=America/New_York:20260126T160000
DTEND;TZID=America/New_York:20260126T182000
DTSTAMP:20260423T071454
CREATED:20260121T164725Z
LAST-MODIFIED:20260121T164725Z
UID:10002962-1769443200-1769451600@www.artsquest.org
SUMMARY:No Other Choice
DESCRIPTION:
URL:https://www.artsquest.org/event/no-other-choice-25/
LOCATION:Frank Banko Alehouse Cinemas\, 101 Founders Way\, Bethlehem\, PA\, 18015\, United States
CATEGORIES:Film
ATTACH;FMTTYPE=image/jpeg:https://www.artsquest.org/app/uploads/2026/01/FILM_NoOtherChoice_1200x392.jpg
END:VEVENT
BEGIN:VEVENT
DTSTART;TZID=America/New_York:20260126T191500
DTEND;TZID=America/New_York:20260126T213000
DTSTAMP:20260423T071454
CREATED:20260121T160934Z
LAST-MODIFIED:20260121T160934Z
UID:10002944-1769454900-1769463000@www.artsquest.org
SUMMARY:Song Sung Blue
DESCRIPTION:
URL:https://www.artsquest.org/event/song-sung-blue-83/
LOCATION:Frank Banko Alehouse Cinemas\, 101 Founders Way\, Bethlehem\, PA\, 18015\, United States
CATEGORIES:Film
ATTACH;FMTTYPE=image/jpeg:https://www.artsquest.org/app/uploads/2025/12/FILM_SungBlue_1200x392.jpg
END:VEVENT
BEGIN:VEVENT
DTSTART;TZID=America/New_York:20260127T160000
DTEND;TZID=America/New_York:20260127T182000
DTSTAMP:20260423T071454
CREATED:20260121T164946Z
LAST-MODIFIED:20260121T164946Z
UID:10002963-1769529600-1769538000@www.artsquest.org
SUMMARY:No Other Choice
DESCRIPTION:
URL:https://www.artsquest.org/event/no-other-choice-26/
LOCATION:Frank Banko Alehouse Cinemas\, 101 Founders Way\, Bethlehem\, PA\, 18015\, United States
CATEGORIES:Film
ATTACH;FMTTYPE=image/jpeg:https://www.artsquest.org/app/uploads/2026/01/FILM_NoOtherChoice_1200x392.jpg
END:VEVENT
BEGIN:VEVENT
DTSTART;TZID=America/New_York:20260127T163000
DTEND;TZID=America/New_York:20260127T184500
DTSTAMP:20260423T071454
CREATED:20260121T161025Z
LAST-MODIFIED:20260121T161025Z
UID:10002945-1769531400-1769539500@www.artsquest.org
SUMMARY:Song Sung Blue
DESCRIPTION:
URL:https://www.artsquest.org/event/song-sung-blue-84/
LOCATION:Frank Banko Alehouse Cinemas\, 101 Founders Way\, Bethlehem\, PA\, 18015\, United States
CATEGORIES:Film
ATTACH;FMTTYPE=image/jpeg:https://www.artsquest.org/app/uploads/2025/12/FILM_SungBlue_1200x392.jpg
END:VEVENT
BEGIN:VEVENT
DTSTART;TZID=America/New_York:20260128T130000
DTEND;TZID=America/New_York:20260128T154500
DTSTAMP:20260423T071454
CREATED:20260121T172548Z
LAST-MODIFIED:20260128T145938Z
UID:10002971-1769605200-1769615100@www.artsquest.org
SUMMARY:One Battle After Another
DESCRIPTION:
URL:https://www.artsquest.org/event/one-battle-after-another-8/
LOCATION:Frank Banko Alehouse Cinemas\, 101 Founders Way\, Bethlehem\, PA\, 18015\, United States
CATEGORIES:Film
ATTACH;FMTTYPE=image/jpeg:https://www.artsquest.org/app/uploads/2026/01/FILM_OneBattle_1200x392.jpg
END:VEVENT
BEGIN:VEVENT
DTSTART;TZID=America/New_York:20260128T160000
DTEND;TZID=America/New_York:20260128T181500
DTSTAMP:20260423T071454
CREATED:20260121T161147Z
LAST-MODIFIED:20260121T161147Z
UID:10002946-1769616000-1769624100@www.artsquest.org
SUMMARY:Song Sung Blue
DESCRIPTION:
URL:https://www.artsquest.org/event/song-sung-blue-85/
LOCATION:Frank Banko Alehouse Cinemas\, 101 Founders Way\, Bethlehem\, PA\, 18015\, United States
CATEGORIES:Film
ATTACH;FMTTYPE=image/jpeg:https://www.artsquest.org/app/uploads/2025/12/FILM_SungBlue_1200x392.jpg
END:VEVENT
BEGIN:VEVENT
DTSTART;TZID=America/New_York:20260128T161500
DTEND;TZID=America/New_York:20260128T190000
DTSTAMP:20260423T071454
CREATED:20260121T172624Z
LAST-MODIFIED:20260128T150010Z
UID:10002972-1769616900-1769626800@www.artsquest.org
SUMMARY:One Battle After Another
DESCRIPTION:
URL:https://www.artsquest.org/event/one-battle-after-another-9/
LOCATION:Frank Banko Alehouse Cinemas\, 101 Founders Way\, Bethlehem\, PA\, 18015\, United States
CATEGORIES:Film
ATTACH;FMTTYPE=image/jpeg:https://www.artsquest.org/app/uploads/2026/01/FILM_OneBattle_1200x392.jpg
END:VEVENT
BEGIN:VEVENT
DTSTART;TZID=America/New_York:20260128T190000
DTEND;TZID=America/New_York:20260128T212000
DTSTAMP:20260423T071454
CREATED:20260121T165029Z
LAST-MODIFIED:20260121T165029Z
UID:10002964-1769626800-1769635200@www.artsquest.org
SUMMARY:No Other Choice
DESCRIPTION:
URL:https://www.artsquest.org/event/no-other-choice-27/
LOCATION:Frank Banko Alehouse Cinemas\, 101 Founders Way\, Bethlehem\, PA\, 18015\, United States
CATEGORIES:Film
ATTACH;FMTTYPE=image/jpeg:https://www.artsquest.org/app/uploads/2026/01/FILM_NoOtherChoice_1200x392.jpg
END:VEVENT
BEGIN:VEVENT
DTSTART;TZID=America/New_York:20260128T193000
DTEND;TZID=America/New_York:20260128T210000
DTSTAMP:20260423T071454
CREATED:20251216T150003Z
LAST-MODIFIED:20260123T171007Z
UID:10002571-1769628600-1769634000@www.artsquest.org
SUMMARY:Amazing Grace
DESCRIPTION:
URL:https://www.artsquest.org/event/amazing-grace/
LOCATION:Frank Banko Alehouse Cinemas\, 101 Founders Way\, Bethlehem\, PA\, 18015\, United States
CATEGORIES:Film
ATTACH;FMTTYPE=image/jpeg:https://www.artsquest.org/app/uploads/2025/12/FILM_AmazingGrace_1200x392.jpg
END:VEVENT
BEGIN:VEVENT
DTSTART;TZID=America/New_York:20260129T130000
DTEND;TZID=America/New_York:20260129T151500
DTSTAMP:20260423T071454
CREATED:20260121T161328Z
LAST-MODIFIED:20260121T161328Z
UID:10002947-1769691600-1769699700@www.artsquest.org
SUMMARY:Song Sung Blue
DESCRIPTION:
URL:https://www.artsquest.org/event/song-sung-blue-86/
LOCATION:Frank Banko Alehouse Cinemas\, 101 Founders Way\, Bethlehem\, PA\, 18015\, United States
CATEGORIES:Film
ATTACH;FMTTYPE=image/jpeg:https://www.artsquest.org/app/uploads/2025/12/FILM_SungBlue_1200x392.jpg
END:VEVENT
BEGIN:VEVENT
DTSTART;TZID=America/New_York:20260129T160000
DTEND;TZID=America/New_York:20260129T181500
DTSTAMP:20260423T071454
CREATED:20260121T161409Z
LAST-MODIFIED:20260121T161409Z
UID:10002948-1769702400-1769710500@www.artsquest.org
SUMMARY:Song Sung Blue
DESCRIPTION:
URL:https://www.artsquest.org/event/song-sung-blue-87/
LOCATION:Frank Banko Alehouse Cinemas\, 101 Founders Way\, Bethlehem\, PA\, 18015\, United States
CATEGORIES:Film
ATTACH;FMTTYPE=image/jpeg:https://www.artsquest.org/app/uploads/2025/12/FILM_SungBlue_1200x392.jpg
END:VEVENT
BEGIN:VEVENT
DTSTART;TZID=America/New_York:20260129T163000
DTEND;TZID=America/New_York:20260129T185000
DTSTAMP:20260423T071454
CREATED:20260121T165111Z
LAST-MODIFIED:20260121T165111Z
UID:10002965-1769704200-1769712600@www.artsquest.org
SUMMARY:No Other Choice
DESCRIPTION:
URL:https://www.artsquest.org/event/no-other-choice-28/
LOCATION:Frank Banko Alehouse Cinemas\, 101 Founders Way\, Bethlehem\, PA\, 18015\, United States
CATEGORIES:Film
ATTACH;FMTTYPE=image/jpeg:https://www.artsquest.org/app/uploads/2026/01/FILM_NoOtherChoice_1200x392.jpg
END:VEVENT
BEGIN:VEVENT
DTSTART;TZID=America/New_York:20260129T190000
DTEND;TZID=America/New_York:20260129T214500
DTSTAMP:20260423T071454
CREATED:20260121T172721Z
LAST-MODIFIED:20260128T150016Z
UID:10002973-1769713200-1769723100@www.artsquest.org
SUMMARY:One Battle After Another
DESCRIPTION:
URL:https://www.artsquest.org/event/one-battle-after-another-10/
LOCATION:Frank Banko Alehouse Cinemas\, 101 Founders Way\, Bethlehem\, PA\, 18015\, United States
CATEGORIES:Film
ATTACH;FMTTYPE=image/jpeg:https://www.artsquest.org/app/uploads/2026/01/FILM_OneBattle_1200x392.jpg
END:VEVENT
BEGIN:VEVENT
DTSTART;TZID=America/New_York:20260130T123000
DTEND;TZID=America/New_York:20260130T150000
DTSTAMP:20260423T071454
CREATED:20260128T154502Z
LAST-MODIFIED:20260128T154502Z
UID:10003040-1769776200-1769785200@www.artsquest.org
SUMMARY:Marty Supreme
DESCRIPTION:
URL:https://www.artsquest.org/event/marty-supreme/
LOCATION:Frank Banko Alehouse Cinemas\, 101 Founders Way\, Bethlehem\, PA\, 18015\, United States
CATEGORIES:Film
ATTACH;FMTTYPE=image/jpeg:https://www.artsquest.org/app/uploads/2026/01/FILM_MartySupreme_1920x1080.jpg
END:VEVENT
BEGIN:VEVENT
DTSTART;TZID=America/New_York:20260130T160000
DTEND;TZID=America/New_York:20260130T182000
DTSTAMP:20260423T071454
CREATED:20260128T151542Z
LAST-MODIFIED:20260128T152758Z
UID:10003032-1769788800-1769797200@www.artsquest.org
SUMMARY:Sinners
DESCRIPTION:
URL:https://www.artsquest.org/event/sinners/
LOCATION:Frank Banko Alehouse Cinemas\, 101 Founders Way\, Bethlehem\, PA\, 18015\, United States
CATEGORIES:Film
ATTACH;FMTTYPE=image/jpeg:https://www.artsquest.org/app/uploads/2026/01/FILM_Sinners_1920x1080.jpg
END:VEVENT
BEGIN:VEVENT
DTSTART;TZID=America/New_York:20260130T161500
DTEND;TZID=America/New_York:20260130T184500
DTSTAMP:20260423T071454
CREATED:20260128T154826Z
LAST-MODIFIED:20260128T154826Z
UID:10003041-1769789700-1769798700@www.artsquest.org
SUMMARY:Marty Supreme
DESCRIPTION:
URL:https://www.artsquest.org/event/marty-supreme-2/
LOCATION:Frank Banko Alehouse Cinemas\, 101 Founders Way\, Bethlehem\, PA\, 18015\, United States
CATEGORIES:Film
ATTACH;FMTTYPE=image/jpeg:https://www.artsquest.org/app/uploads/2026/01/FILM_MartySupreme_1920x1080.jpg
END:VEVENT
BEGIN:VEVENT
DTSTART;TZID=America/New_York:20260130T193000
DTEND;TZID=America/New_York:20260130T220000
DTSTAMP:20260423T071454
CREATED:20260128T154859Z
LAST-MODIFIED:20260128T154859Z
UID:10003042-1769801400-1769810400@www.artsquest.org
SUMMARY:Marty Supreme
DESCRIPTION:
URL:https://www.artsquest.org/event/marty-supreme-3/
LOCATION:Frank Banko Alehouse Cinemas\, 101 Founders Way\, Bethlehem\, PA\, 18015\, United States
CATEGORIES:Film
ATTACH;FMTTYPE=image/jpeg:https://www.artsquest.org/app/uploads/2026/01/FILM_MartySupreme_1920x1080.jpg
END:VEVENT
BEGIN:VEVENT
DTSTART;TZID=America/New_York:20260130T214500
DTEND;TZID=America/New_York:20260130T235500
DTSTAMP:20260423T071454
CREATED:20251211T150050Z
LAST-MODIFIED:20260129T200814Z
UID:10002533-1769809500-1769817300@www.artsquest.org
SUMMARY:Iron Lung
DESCRIPTION:
URL:https://www.artsquest.org/event/iron-lung/
LOCATION:Frank Banko Alehouse Cinemas\, 101 Founders Way\, Bethlehem\, PA\, 18015\, United States
CATEGORIES:Film
ATTACH;FMTTYPE=image/jpeg:https://www.artsquest.org/app/uploads/2025/12/FILM_IronLung_1200x392.jpg
END:VEVENT
BEGIN:VEVENT
DTSTART;TZID=America/New_York:20260130T233000
DTEND;TZID=America/New_York:20260131T013000
DTSTAMP:20260423T071454
CREATED:20251222T150033Z
LAST-MODIFIED:20251216T184638Z
UID:10002585-1769815800-1769823000@www.artsquest.org
SUMMARY:The Rocky Horror Picture Show (50th Anniversary)
DESCRIPTION:
URL:https://www.artsquest.org/event/the-rocky-horror-picture-show-50th-anniversary/
LOCATION:Frank Banko Alehouse Cinemas\, 101 Founders Way\, Bethlehem\, PA\, 18015\, United States
CATEGORIES:Film
ATTACH;FMTTYPE=image/jpeg:https://www.artsquest.org/app/uploads/2025/10/CINEMA_rockyhorror_1024x576.jpg
END:VEVENT
END:VCALENDAR