BEGIN:VCALENDAR
VERSION:2.0
PRODID:-//ArtsQuest - ECPv6.15.5//NONSGML v1.0//EN
CALSCALE:GREGORIAN
METHOD:PUBLISH
X-ORIGINAL-URL:https://www.artsquest.org
X-WR-CALDESC:Events for ArtsQuest
REFRESH-INTERVAL;VALUE=DURATION:PT1H
X-Robots-Tag:noindex
X-PUBLISHED-TTL:PT1H
BEGIN:VTIMEZONE
TZID:America/New_York
BEGIN:DAYLIGHT
TZOFFSETFROM:-0500
TZOFFSETTO:-0400
TZNAME:EDT
DTSTART:20260308T070000
END:DAYLIGHT
BEGIN:STANDARD
TZOFFSETFROM:-0400
TZOFFSETTO:-0500
TZNAME:EST
DTSTART:20261101T060000
END:STANDARD
END:VTIMEZONE
BEGIN:VEVENT
DTSTART;TZID=America/New_York:20260518T190000
DTEND;TZID=America/New_York:20260518T210000
DTSTAMP:20260425T074853
CREATED:20260313T140012Z
LAST-MODIFIED:20260422T200733Z
UID:10003589-1779130800-1779138000@www.artsquest.org
SUMMARY:Theatricality in Improv Workshop
DESCRIPTION:
URL:https://www.artsquest.org/event/theatricality-in-improv-workshop/
LOCATION:Fowler Blast Furnace Room\, 101 Founders Way\, Bethlehem\, PA\, 18015\, United States
CATEGORIES:Classes,Comedy,Comedy Class,One-Day Workshop
ATTACH;FMTTYPE=image/jpeg:https://www.artsquest.org/app/uploads/2026/03/COMEDY_ShulieCowen_1920x1080.jpg
END:VEVENT
BEGIN:VEVENT
DTSTART;TZID=America/New_York:20260519T190000
DTEND;TZID=America/New_York:20260519T210000
DTSTAMP:20260425T074853
CREATED:20260227T205831Z
LAST-MODIFIED:20260227T205831Z
UID:10003393-1779217200-1779224400@www.artsquest.org
SUMMARY:Improv 201 with Danielle Tampier
DESCRIPTION:
URL:https://www.artsquest.org/event/improv-201-with-danielle-tampier/
LOCATION:Bethlehem Visitor Center at SteelStacks pres. by Lehigh Valley Health Network\, 711 E. First St.\, Bethlehem\, PA\, 18015\, United States
CATEGORIES:Classes,Comedy,Comedy Class
ATTACH;FMTTYPE=image/jpeg:https://www.artsquest.org/app/uploads/2026/02/COMEDY_DanielleTampier_1920x1080.jpg
END:VEVENT
BEGIN:VEVENT
DTSTART;TZID=America/New_York:20260601T190000
DTEND;TZID=America/New_York:20260601T210000
DTSTAMP:20260425T074853
CREATED:20260227T210317Z
LAST-MODIFIED:20260227T210317Z
UID:10003394-1780340400-1780347600@www.artsquest.org
SUMMARY:Improv 301 with Matt Candio
DESCRIPTION:
URL:https://www.artsquest.org/event/improv-301-with-matt-candio/
LOCATION:Bethlehem Visitor Center at SteelStacks pres. by Lehigh Valley Health Network\, 711 E. First St.\, Bethlehem\, PA\, 18015\, United States
CATEGORIES:Classes,Comedy,Comedy Class
ATTACH;FMTTYPE=image/jpeg:https://www.artsquest.org/app/uploads/2025/10/COMEDY_MattCandio_1200x392.jpg
END:VEVENT
BEGIN:VEVENT
DTSTART;TZID=America/New_York:20260602T180000
DTEND;TZID=America/New_York:20260602T210000
DTSTAMP:20260425T074853
CREATED:20260424T134445Z
LAST-MODIFIED:20260424T135701Z
UID:10005065-1780423200-1780434000@www.artsquest.org
SUMMARY:Acrylic Painting Basics
DESCRIPTION:
URL:https://www.artsquest.org/event/acrylic-painting-basics/
LOCATION:Artist Garages at 520 Hamilton – Bay 1\, 520 Hamilton St.\, Allentown\, PA\, 18101\, United States
CATEGORIES:Classes,Drawing & Painting
ATTACH;FMTTYPE=image/jpeg:https://www.artsquest.org/app/uploads/2026/04/VA_AcrylicsBasic_1920x1080.jpg
END:VEVENT
BEGIN:VEVENT
DTSTART;TZID=America/New_York:20260609T180000
DTEND;TZID=America/New_York:20260609T210000
DTSTAMP:20260425T074853
CREATED:20260112T174503Z
LAST-MODIFIED:20260424T164803Z
UID:10002864-1781028000-1781038800@www.artsquest.org
SUMMARY:Stamp Making Workshop (Session A)
DESCRIPTION:
URL:https://www.artsquest.org/event/stamp-making-workshop-session-a/
LOCATION:Fowler Blast Furnace Room\, 101 Founders Way\, Bethlehem\, PA\, 18015\, United States
CATEGORIES:Classes,One-Day Workshop,Paper & Print Arts
ATTACH;FMTTYPE=image/jpeg:https://www.artsquest.org/app/uploads/2026/01/VA_Stamps_1920x1080.jpg
END:VEVENT
BEGIN:VEVENT
DTSTART;TZID=America/New_York:20260610T180000
DTEND;TZID=America/New_York:20260610T210000
DTSTAMP:20260425T074853
CREATED:20260424T140631Z
LAST-MODIFIED:20260424T164826Z
UID:10005066-1781114400-1781125200@www.artsquest.org
SUMMARY:Block-Printed Fabric Banner
DESCRIPTION:
URL:https://www.artsquest.org/event/block-printed-fabric-banner/
LOCATION:Artist Garages at 520 Hamilton – Bay 1\, 520 Hamilton St.\, Allentown\, PA\, 18101\, United States
CATEGORIES:Classes,Fiber Arts,Paper & Print Arts
ATTACH;FMTTYPE=image/jpeg:https://www.artsquest.org/app/uploads/2026/04/VA_BlockPrint_1920x1080.jpg
END:VEVENT
BEGIN:VEVENT
DTSTART;TZID=America/New_York:20260611T180000
DTEND;TZID=America/New_York:20260611T210000
DTSTAMP:20260425T074853
CREATED:20260424T141429Z
LAST-MODIFIED:20260424T164846Z
UID:10005067-1781200800-1781211600@www.artsquest.org
SUMMARY:Color\, Materials\, and Process (Session A)
DESCRIPTION:
URL:https://www.artsquest.org/event/color-materials-and-process-session-a/
LOCATION:Artist Garages at 520 Hamilton – Bay 1\, 520 Hamilton St.\, Allentown\, PA\, 18101\, United States
CATEGORIES:Classes,Drawing & Painting
ATTACH;FMTTYPE=image/jpeg:https://www.artsquest.org/app/uploads/2026/04/VA_Color_1920x1080.jpg
END:VEVENT
BEGIN:VEVENT
DTSTART;TZID=America/New_York:20260612T180000
DTEND;TZID=America/New_York:20260612T210000
DTSTAMP:20260425T074853
CREATED:20260424T143418Z
LAST-MODIFIED:20260424T143418Z
UID:10005068-1781287200-1781298000@www.artsquest.org
SUMMARY:Beautiful Botanical Paintings Workshop
DESCRIPTION:
URL:https://www.artsquest.org/event/beautiful-botanical-paintings-workshop/
LOCATION:Artist Garages at 520 Hamilton – Bay 1\, 520 Hamilton St.\, Allentown\, PA\, 18101\, United States
CATEGORIES:Classes,Drawing & Painting
ATTACH;FMTTYPE=image/jpeg:https://www.artsquest.org/app/uploads/2026/04/VA_Botanical_1920x1080.jpg
END:VEVENT
BEGIN:VEVENT
DTSTART;TZID=America/New_York:20260614T160000
DTEND;TZID=America/New_York:20260614T180000
DTSTAMP:20260425T074853
CREATED:20260402T140003Z
LAST-MODIFIED:20260401T181520Z
UID:10004084-1781452800-1781460000@www.artsquest.org
SUMMARY:Short Form Improv Games with Stu Shaw
DESCRIPTION:
URL:https://www.artsquest.org/event/short-form-improv-games-with-stu-shaw/
LOCATION:Bethlehem Visitor Center at SteelStacks pres. by Lehigh Valley Health Network\, 711 E. First St.\, Bethlehem\, PA\, 18015\, United States
CATEGORIES:Classes,Comedy,Comedy Class,One-Day Workshop
ATTACH;FMTTYPE=image/jpeg:https://www.artsquest.org/app/uploads/2026/02/COMEDY_StuShaw_1920x1080-2.jpg
END:VEVENT
BEGIN:VEVENT
DTSTART;TZID=America/New_York:20260618T173000
DTEND;TZID=America/New_York:20260618T193000
DTSTAMP:20260425T074853
CREATED:20260424T144832Z
LAST-MODIFIED:20260424T144832Z
UID:10005069-1781803800-1781811000@www.artsquest.org
SUMMARY:Watercolor and Embroidery Workshop (Session A)
DESCRIPTION:
URL:https://www.artsquest.org/event/watercolor-and-embroidery-workshop-session-a/
LOCATION:Bethlehem Visitor Center at SteelStacks pres. by Lehigh Valley Health Network\, 711 E. First St.\, Bethlehem\, PA\, 18015\, United States
CATEGORIES:Classes,Drawing & Painting,One-Day Workshop
ATTACH;FMTTYPE=image/jpeg:https://www.artsquest.org/app/uploads/2026/04/VA_Embroidery_1920x1080.jpg
END:VEVENT
BEGIN:VEVENT
DTSTART;TZID=America/New_York:20260623T180000
DTEND;TZID=America/New_York:20260623T210000
DTSTAMP:20260425T074853
CREATED:20260424T145653Z
LAST-MODIFIED:20260424T145713Z
UID:10005070-1782237600-1782248400@www.artsquest.org
SUMMARY:Intro to Relief Printing
DESCRIPTION:
URL:https://www.artsquest.org/event/intro-to-relief-printing/
LOCATION:Artist Garages at 520 Hamilton – Bay 1\, 520 Hamilton St.\, Allentown\, PA\, 18101\, United States
CATEGORIES:Classes,Paper & Print Arts
ATTACH;FMTTYPE=image/jpeg:https://www.artsquest.org/app/uploads/2026/04/VA_Relief_1920x1080.jpg
END:VEVENT
BEGIN:VEVENT
DTSTART;TZID=America/New_York:20260625T180000
DTEND;TZID=America/New_York:20260625T200000
DTSTAMP:20260425T074853
CREATED:20260424T150219Z
LAST-MODIFIED:20260424T150219Z
UID:10005071-1782410400-1782417600@www.artsquest.org
SUMMARY:DIY Alt Fabric Patches Workshop
DESCRIPTION:
URL:https://www.artsquest.org/event/diy-alt-fabric-patches-workshop-2/
LOCATION:Fowler Blast Furnace Room\, 101 Founders Way\, Bethlehem\, PA\, 18015\, United States
CATEGORIES:Classes,Fiber Arts,One-Day Workshop
ATTACH;FMTTYPE=image/jpeg:https://www.artsquest.org/app/uploads/2026/03/VA_fabric-patches-class-1920x1080-1.jpg
END:VEVENT
BEGIN:VEVENT
DTSTART;TZID=America/New_York:20260627T120000
DTEND;TZID=America/New_York:20260627T150000
DTSTAMP:20260425T074853
CREATED:20260424T150718Z
LAST-MODIFIED:20260424T150718Z
UID:10005072-1782561600-1782572400@www.artsquest.org
SUMMARY:Stamp Making Workshop (Session B)
DESCRIPTION:
URL:https://www.artsquest.org/event/stamp-making-workshop-session-b-2/
LOCATION:Bethlehem Area Public Library (Main Branch) Laros Room\, 11 W Church St\, Bethlehem\, PA\, 18018\, United States
CATEGORIES:Classes,One-Day Workshop,Paper & Print Arts
ATTACH;FMTTYPE=image/jpeg:https://www.artsquest.org/app/uploads/2026/01/VA_Stamps_1920x1080.jpg
END:VEVENT
BEGIN:VEVENT
DTSTART;TZID=America/New_York:20260707T180000
DTEND;TZID=America/New_York:20260707T200000
DTSTAMP:20260425T074853
CREATED:20260424T151256Z
LAST-MODIFIED:20260424T151311Z
UID:10005073-1783447200-1783454400@www.artsquest.org
SUMMARY:Goth Sewn Plushie Workshop (Session A)
DESCRIPTION:
URL:https://www.artsquest.org/event/goth-sewn-plushie-workshop-session-a/
LOCATION:Fowler Blast Furnace Room\, 101 Founders Way\, Bethlehem\, PA\, 18015\, United States
CATEGORIES:Classes,Fiber Arts,One-Day Workshop
ATTACH;FMTTYPE=image/jpeg:https://www.artsquest.org/app/uploads/2026/04/VA_GothPlush_1920x1080.jpg
END:VEVENT
BEGIN:VEVENT
DTSTART;TZID=America/New_York:20260708T180000
DTEND;TZID=America/New_York:20260708T210000
DTSTAMP:20260425T074853
CREATED:20260424T152149Z
LAST-MODIFIED:20260424T152149Z
UID:10005074-1783533600-1783544400@www.artsquest.org
SUMMARY:Color\, Materials\, and Process (Session B)
DESCRIPTION:
URL:https://www.artsquest.org/event/color-materials-and-process-session-b/
LOCATION:Artist Garages at 520 Hamilton – Bay 1\, 520 Hamilton St.\, Allentown\, PA\, 18101\, United States
CATEGORIES:Classes,Drawing & Painting
ATTACH;FMTTYPE=image/jpeg:https://www.artsquest.org/app/uploads/2026/04/VA_ColorSessionB_1920x1080.jpg
END:VEVENT
BEGIN:VEVENT
DTSTART;TZID=America/New_York:20260711T103000
DTEND;TZID=America/New_York:20260711T123000
DTSTAMP:20260425T074853
CREATED:20260424T153333Z
LAST-MODIFIED:20260424T153333Z
UID:10005075-1783765800-1783773000@www.artsquest.org
SUMMARY:Watercolor and Embroidery Workshop (Session B)
DESCRIPTION:
URL:https://www.artsquest.org/event/watercolor-and-embroidery-workshop-session-b/
LOCATION:Bethlehem Area Public Library (Main Branch) Laros Room\, 11 W Church St\, Bethlehem\, PA\, 18018\, United States
CATEGORIES:Classes,Drawing & Painting,One-Day Workshop
ATTACH;FMTTYPE=image/jpeg:https://www.artsquest.org/app/uploads/2026/04/VA_Embroidery_1920x1080.jpg
END:VEVENT
BEGIN:VEVENT
DTSTART;TZID=America/New_York:20260718T103000
DTEND;TZID=America/New_York:20260718T123000
DTSTAMP:20260425T074853
CREATED:20260424T153944Z
LAST-MODIFIED:20260424T154027Z
UID:10005076-1784370600-1784377800@www.artsquest.org
SUMMARY:Embroidered Felt Keychain Charm Workshop
DESCRIPTION:
URL:https://www.artsquest.org/event/embroidered-felt-keychain-charm-workshop/
LOCATION:Bethlehem Area Public Library (Main Branch) Laros Room\, 11 W Church St\, Bethlehem\, PA\, 18018\, United States
CATEGORIES:Classes,Fiber Arts,One-Day Workshop
ATTACH;FMTTYPE=image/jpeg:https://www.artsquest.org/app/uploads/2026/04/VA_FeltKeychain_1920x1080.jpg
END:VEVENT
BEGIN:VEVENT
DTSTART;TZID=America/New_York:20260723T180000
DTEND;TZID=America/New_York:20260723T200000
DTSTAMP:20260425T074853
CREATED:20260424T154517Z
LAST-MODIFIED:20260424T154517Z
UID:10005077-1784829600-1784836800@www.artsquest.org
SUMMARY:Needle Felting Workshop: Spirit Animal/Guide
DESCRIPTION:
URL:https://www.artsquest.org/event/needle-felting-workshop-spirit-animal-guide/
LOCATION:Bethlehem Visitor Center at SteelStacks pres. by Lehigh Valley Health Network\, 711 E. First St.\, Bethlehem\, PA\, 18015\, United States
CATEGORIES:Classes,Fiber Arts,One-Day Workshop,Paper & Print Arts
ATTACH;FMTTYPE=image/jpeg:https://www.artsquest.org/app/uploads/2026/04/VA_SpiritAnimal_1920x1080.jpg
END:VEVENT
BEGIN:VEVENT
DTSTART;TZID=America/New_York:20260812T180000
DTEND;TZID=America/New_York:20260812T210000
DTSTAMP:20260425T074853
CREATED:20260424T155144Z
LAST-MODIFIED:20260424T155144Z
UID:10005078-1786557600-1786568400@www.artsquest.org
SUMMARY:Paint a Picture--Photographic Painting and Capturing Moments
DESCRIPTION:
URL:https://www.artsquest.org/event/paint-a-picture-photographic-painting-and-capturing-moments/
LOCATION:Fowler Blast Furnace Room\, 101 Founders Way\, Bethlehem\, PA\, 18015\, United States
CATEGORIES:Classes,Drawing & Painting
ATTACH;FMTTYPE=image/jpeg:https://www.artsquest.org/app/uploads/2026/04/VA_Photographic_1920x1080.jpg
END:VEVENT
BEGIN:VEVENT
DTSTART;TZID=America/New_York:20260813T173000
DTEND;TZID=America/New_York:20260813T193000
DTSTAMP:20260425T074853
CREATED:20260424T160046Z
LAST-MODIFIED:20260424T160046Z
UID:10005079-1786642200-1786649400@www.artsquest.org
SUMMARY:Watercolor and Embroidery Workshop (Session C)
DESCRIPTION:
URL:https://www.artsquest.org/event/watercolor-and-embroidery-workshop-session-c/
LOCATION:Bethlehem Visitor Center at SteelStacks pres. by Lehigh Valley Health Network\, 711 E. First St.\, Bethlehem\, PA\, 18015\, United States
CATEGORIES:Classes,Drawing & Painting,One-Day Workshop
ATTACH;FMTTYPE=image/jpeg:https://www.artsquest.org/app/uploads/2026/04/VA_Embroidery_1920x1080.jpg
END:VEVENT
BEGIN:VEVENT
DTSTART;TZID=America/New_York:20260814T180000
DTEND;TZID=America/New_York:20260814T210000
DTSTAMP:20260425T074853
CREATED:20260424T160400Z
LAST-MODIFIED:20260424T160424Z
UID:10005080-1786730400-1786741200@www.artsquest.org
SUMMARY:Wine'd Down Workshop: Beautiful Botanical Paintings
DESCRIPTION:
URL:https://www.artsquest.org/event/wined-down-workshop-beautiful-botanical-paintings/
LOCATION:Fowler Blast Furnace Room\, 101 Founders Way\, Bethlehem\, PA\, 18015\, United States
CATEGORIES:Classes,Drawing & Painting
ATTACH;FMTTYPE=image/jpeg:https://www.artsquest.org/app/uploads/2026/04/VA_AcrylicsBasic_1920x1080.jpg
END:VEVENT
BEGIN:VEVENT
DTSTART;TZID=America/New_York:20260815T123000
DTEND;TZID=America/New_York:20260815T153000
DTSTAMP:20260425T074853
CREATED:20260424T161419Z
LAST-MODIFIED:20260424T161419Z
UID:10005081-1786797000-1786807800@www.artsquest.org
SUMMARY:YogART Transformative Chakra Mandalas
DESCRIPTION:
URL:https://www.artsquest.org/event/yogart-transformative-chakra-mandalas/
LOCATION:Bethlehem Area Public Library (Main Branch) Laros Room\, 11 W Church St\, Bethlehem\, PA\, 18018\, United States
CATEGORIES:Classes,One-Day Workshop,Other Arts
ATTACH;FMTTYPE=image/jpeg:https://www.artsquest.org/app/uploads/2026/04/VA_YogART_1920x1080.jpg
END:VEVENT
BEGIN:VEVENT
DTSTART;TZID=America/New_York:20260817T180000
DTEND;TZID=America/New_York:20260817T210000
DTSTAMP:20260425T074853
CREATED:20260424T161811Z
LAST-MODIFIED:20260424T161811Z
UID:10005082-1786989600-1787000400@www.artsquest.org
SUMMARY:Stamp Making Workshop (Session C)
DESCRIPTION:
URL:https://www.artsquest.org/event/stamp-making-workshop-session-c/
LOCATION:Fowler Blast Furnace Room\, 101 Founders Way\, Bethlehem\, PA\, 18015\, United States
CATEGORIES:Classes,One-Day Workshop,Paper & Print Arts
ATTACH;FMTTYPE=image/jpeg:https://www.artsquest.org/app/uploads/2026/04/VA_StampC_1920x1080.jpg
END:VEVENT
BEGIN:VEVENT
DTSTART;TZID=America/New_York:20260822T123000
DTEND;TZID=America/New_York:20260822T153000
DTSTAMP:20260425T074853
CREATED:20260424T163718Z
LAST-MODIFIED:20260424T163727Z
UID:10005083-1787401800-1787412600@www.artsquest.org
SUMMARY:Radiant HeART Paint & Breathe Workshop
DESCRIPTION:
URL:https://www.artsquest.org/event/radiant-heart-paint-breathe-workshop-2/
LOCATION:Bethlehem Area Public Library (Main Branch) Laros Room\, 11 W Church St\, Bethlehem\, PA\, 18018\, United States
CATEGORIES:Classes,One-Day Workshop,Other Arts
ATTACH;FMTTYPE=image/jpeg:https://www.artsquest.org/app/uploads/2026/04/VA_RadiantHeart_1920x1080.jpg
END:VEVENT
BEGIN:VEVENT
DTSTART;TZID=America/New_York:20260828T180000
DTEND;TZID=America/New_York:20260828T210000
DTSTAMP:20260425T074853
CREATED:20260424T164307Z
LAST-MODIFIED:20260424T164307Z
UID:10005084-1787940000-1787950800@www.artsquest.org
SUMMARY:Goth Sewn Plushie Workshop (Session B)
DESCRIPTION:
URL:https://www.artsquest.org/event/goth-sewn-plushie-workshop-session-b/
LOCATION:Fowler Blast Furnace Room\, 101 Founders Way\, Bethlehem\, PA\, 18015\, United States
CATEGORIES:Classes,Fiber Arts,One-Day Workshop
ATTACH;FMTTYPE=image/jpeg:https://www.artsquest.org/app/uploads/2026/04/VA_GothPlush_1920x1080.jpg
END:VEVENT
END:VCALENDAR