BEGIN:VCALENDAR
VERSION:2.0
PRODID:-//ArtsQuest - ECPv6.15.5//NONSGML v1.0//EN
CALSCALE:GREGORIAN
METHOD:PUBLISH
X-ORIGINAL-URL:https://www.artsquest.org
X-WR-CALDESC:Events for ArtsQuest
REFRESH-INTERVAL;VALUE=DURATION:PT1H
X-Robots-Tag:noindex
X-PUBLISHED-TTL:PT1H
BEGIN:VTIMEZONE
TZID:America/New_York
BEGIN:DAYLIGHT
TZOFFSETFROM:-0500
TZOFFSETTO:-0400
TZNAME:EDT
DTSTART:20250309T070000
END:DAYLIGHT
BEGIN:STANDARD
TZOFFSETFROM:-0400
TZOFFSETTO:-0500
TZNAME:EST
DTSTART:20251102T060000
END:STANDARD
END:VTIMEZONE
BEGIN:VEVENT
DTSTART;TZID=America/New_York:20251205T144500
DTEND;TZID=America/New_York:20251205T161500
DTSTAMP:20260424T122433
CREATED:20251203T154349Z
LAST-MODIFIED:20251203T154349Z
UID:10002508-1764945900-1764951300@www.artsquest.org
SUMMARY:Saint Nick of Bethlehem
DESCRIPTION:
URL:https://www.artsquest.org/event/saint-nick-of-bethlehem-27/
LOCATION:Frank Banko Alehouse Cinemas\, 101 Founders Way\, Bethlehem\, PA\, 18015\, United States
CATEGORIES:Film,Holiday
ATTACH;FMTTYPE=image/jpeg:https://www.artsquest.org/app/uploads/2025/11/FILM_StNick_1200x392.jpg
END:VEVENT
BEGIN:VEVENT
DTSTART;TZID=America/New_York:20251206T140000
DTEND;TZID=America/New_York:20251206T153000
DTSTAMP:20260424T122433
CREATED:20251203T155130Z
LAST-MODIFIED:20251203T155130Z
UID:10002509-1765029600-1765035000@www.artsquest.org
SUMMARY:Saint Nick of Bethlehem
DESCRIPTION:
URL:https://www.artsquest.org/event/saint-nick-of-bethlehem-28/
LOCATION:Frank Banko Alehouse Cinemas\, 101 Founders Way\, Bethlehem\, PA\, 18015\, United States
CATEGORIES:Film,Holiday
ATTACH;FMTTYPE=image/jpeg:https://www.artsquest.org/app/uploads/2025/11/FILM_StNick_1200x392.jpg
END:VEVENT
BEGIN:VEVENT
DTSTART;TZID=America/New_York:20251207T110000
DTEND;TZID=America/New_York:20251207T123000
DTSTAMP:20260424T122433
CREATED:20251203T155220Z
LAST-MODIFIED:20251203T155251Z
UID:10002510-1765105200-1765110600@www.artsquest.org
SUMMARY:Saint Nick of Bethlehem
DESCRIPTION:
URL:https://www.artsquest.org/event/saint-nick-of-bethlehem-29/
LOCATION:Frank Banko Alehouse Cinemas\, 101 Founders Way\, Bethlehem\, PA\, 18015\, United States
CATEGORIES:Film,Holiday
ATTACH;FMTTYPE=image/jpeg:https://www.artsquest.org/app/uploads/2025/11/FILM_StNick_1200x392.jpg
END:VEVENT
BEGIN:VEVENT
DTSTART;TZID=America/New_York:20251209T161500
DTEND;TZID=America/New_York:20251209T174500
DTSTAMP:20260424T122433
CREATED:20251203T155403Z
LAST-MODIFIED:20251203T155403Z
UID:10002511-1765296900-1765302300@www.artsquest.org
SUMMARY:Saint Nick of Bethlehem
DESCRIPTION:
URL:https://www.artsquest.org/event/saint-nick-of-bethlehem-30/
LOCATION:Frank Banko Alehouse Cinemas\, 101 Founders Way\, Bethlehem\, PA\, 18015\, United States
CATEGORIES:Film,Holiday
ATTACH;FMTTYPE=image/jpeg:https://www.artsquest.org/app/uploads/2025/11/FILM_StNick_1200x392.jpg
END:VEVENT
BEGIN:VEVENT
DTSTART;TZID=America/New_York:20251210T150000
DTEND;TZID=America/New_York:20251210T163000
DTSTAMP:20260424T122433
CREATED:20251203T155445Z
LAST-MODIFIED:20251203T155445Z
UID:10002512-1765378800-1765384200@www.artsquest.org
SUMMARY:Saint Nick of Bethlehem
DESCRIPTION:
URL:https://www.artsquest.org/event/saint-nick-of-bethlehem-31/
LOCATION:Frank Banko Alehouse Cinemas\, 101 Founders Way\, Bethlehem\, PA\, 18015\, United States
CATEGORIES:Film,Holiday
ATTACH;FMTTYPE=image/jpeg:https://www.artsquest.org/app/uploads/2025/11/FILM_StNick_1200x392.jpg
END:VEVENT
BEGIN:VEVENT
DTSTART;TZID=America/New_York:20251210T171500
DTEND;TZID=America/New_York:20251210T184500
DTSTAMP:20260424T122433
CREATED:20251203T155523Z
LAST-MODIFIED:20251203T155523Z
UID:10002513-1765386900-1765392300@www.artsquest.org
SUMMARY:Saint Nick of Bethlehem
DESCRIPTION:
URL:https://www.artsquest.org/event/saint-nick-of-bethlehem-32/
LOCATION:Frank Banko Alehouse Cinemas\, 101 Founders Way\, Bethlehem\, PA\, 18015\, United States
CATEGORIES:Film,Holiday
ATTACH;FMTTYPE=image/jpeg:https://www.artsquest.org/app/uploads/2025/11/FILM_StNick_1200x392.jpg
END:VEVENT
BEGIN:VEVENT
DTSTART;TZID=America/New_York:20251211T143000
DTEND;TZID=America/New_York:20251211T160000
DTSTAMP:20260424T122433
CREATED:20251203T155653Z
LAST-MODIFIED:20251203T155653Z
UID:10002514-1765463400-1765468800@www.artsquest.org
SUMMARY:Saint Nick of Bethlehem
DESCRIPTION:
URL:https://www.artsquest.org/event/saint-nick-of-bethlehem-33/
LOCATION:Frank Banko Alehouse Cinemas\, 101 Founders Way\, Bethlehem\, PA\, 18015\, United States
CATEGORIES:Film,Holiday
ATTACH;FMTTYPE=image/jpeg:https://www.artsquest.org/app/uploads/2025/11/FILM_StNick_1200x392.jpg
END:VEVENT
END:VCALENDAR