BEGIN:VCALENDAR
VERSION:2.0
PRODID:-//ArtsQuest - ECPv6.15.5//NONSGML v1.0//EN
CALSCALE:GREGORIAN
METHOD:PUBLISH
X-WR-CALNAME:ArtsQuest
X-ORIGINAL-URL:https://www.artsquest.org
X-WR-CALDESC:Events for ArtsQuest
REFRESH-INTERVAL;VALUE=DURATION:PT1H
X-Robots-Tag:noindex
X-PUBLISHED-TTL:PT1H
BEGIN:VTIMEZONE
TZID:America/New_York
BEGIN:DAYLIGHT
TZOFFSETFROM:-0500
TZOFFSETTO:-0400
TZNAME:EDT
DTSTART:20250309T070000
END:DAYLIGHT
BEGIN:STANDARD
TZOFFSETFROM:-0400
TZOFFSETTO:-0500
TZNAME:EST
DTSTART:20251102T060000
END:STANDARD
END:VTIMEZONE
BEGIN:VEVENT
DTSTART;TZID=America/New_York:20251030T104500
DTEND;TZID=America/New_York:20251030T111500
DTSTAMP:20260425T115313
CREATED:20251007T163541Z
LAST-MODIFIED:20251007T163541Z
UID:10001685-1761821100-1761822900@www.artsquest.org
SUMMARY:Little Artists’ Workshop
DESCRIPTION:
URL:https://www.artsquest.org/event/little-artists-workshop-2/
LOCATION:Bethlehem Visitor Center at SteelStacks pres. by Lehigh Valley Health Network\, 711 E. First St.\, Bethlehem\, PA\, 18015\, United States
CATEGORIES:Classes,Family Classes,Free
ATTACH;FMTTYPE=image/jpeg:https://www.artsquest.org/app/uploads/2025/10/CLASS_little-artist-worksho-2025.jpg
END:VEVENT
BEGIN:VEVENT
DTSTART;TZID=America/New_York:20251028T183000
DTEND;TZID=America/New_York:20251028T203000
DTSTAMP:20260425T115313
CREATED:20251007T162615Z
LAST-MODIFIED:20251007T162615Z
UID:10001683-1761676200-1761683400@www.artsquest.org
SUMMARY:Ceramic Mug & Tea Strainer Workshop (3 Weeks)
DESCRIPTION:https://secure.artsquest.org/Online/seatSelect.asp?createBO::WSmap=1&BOparam::WSmap::loadBestAvailable::performance_ids=76875E3A-5E1F-4DFE-AA24-CC29E3A95D79
URL:https://www.artsquest.org/event/ceramic-mug-tea-strainer-workshop-3-weeks/
LOCATION:ArtsQuest Ceramics Studio\, 1801 Union Blvd Suite G\, Allentown\, PA\, 18109\, United States
CATEGORIES:Ceramics,Classes
ATTACH;FMTTYPE=image/jpeg:https://www.artsquest.org/app/uploads/2025/10/CLASS_ceramic-mug-and-tea-strainer.jpg
END:VEVENT
BEGIN:VEVENT
DTSTART;TZID=America/New_York:20251028T180000
DTEND;TZID=America/New_York:20251028T190000
DTSTAMP:20260425T115313
CREATED:20251002T132853Z
LAST-MODIFIED:20251022T165936Z
UID:10001464-1761674400-1761678000@www.artsquest.org
SUMMARY:Improv Gym
DESCRIPTION:
URL:https://www.artsquest.org/event/improv-gym-2/
LOCATION:Bethlehem Visitor Center at SteelStacks pres. by Lehigh Valley Health Network\, 711 E. First St.\, Bethlehem\, PA\, 18015\, United States
CATEGORIES:Classes,Comedy,Comedy Class
ATTACH;FMTTYPE=image/jpeg:https://www.artsquest.org/app/uploads/2025/10/COMEDY_chair_1024x576.jpg
END:VEVENT
BEGIN:VEVENT
DTSTART;TZID=America/New_York:20251023T104500
DTEND;TZID=America/New_York:20251023T111500
DTSTAMP:20260425T115313
CREATED:20251006T164525Z
LAST-MODIFIED:20251006T164525Z
UID:10001494-1761216300-1761218100@www.artsquest.org
SUMMARY:Little Artists’ Workshop
DESCRIPTION:
URL:https://www.artsquest.org/event/little-artists-workshop/
LOCATION:Bethlehem Visitor Center at SteelStacks pres. by Lehigh Valley Health Network\, 711 E. First St.\, Bethlehem\, PA\, 18015\, United States
CATEGORIES:Classes,Family Classes,Free
ATTACH;FMTTYPE=image/jpeg:https://www.artsquest.org/app/uploads/2025/10/CLASS_little-artist-worksho-2025.jpg
END:VEVENT
BEGIN:VEVENT
DTSTART;TZID=America/New_York:20251022T183000
DTEND;TZID=America/New_York:20251022T213000
DTSTAMP:20260425T115313
CREATED:20251006T164104Z
LAST-MODIFIED:20251006T164559Z
UID:10001493-1761157800-1761168600@www.artsquest.org
SUMMARY:Wine'd Down Workshop: Golden Harvest Fall Watercolor Painting
DESCRIPTION:
URL:https://www.artsquest.org/event/wined-down-workshop-golden-harvest-fall-watercolor-painting/
LOCATION:Fowler Blast Furnace Room\, 101 Founders Way\, Bethlehem\, PA\, 18015\, United States
CATEGORIES:Classes,Drawing & Painting,One-Day Workshop
ATTACH;FMTTYPE=image/jpeg:https://www.artsquest.org/app/uploads/2025/10/CLASS_wined-down-fall-pumpkin2025.jpg
END:VEVENT
BEGIN:VEVENT
DTSTART;TZID=America/New_York:20251021T180000
DTEND;TZID=America/New_York:20251021T190000
DTSTAMP:20260425T115313
CREATED:20251002T132630Z
LAST-MODIFIED:20251020T155941Z
UID:10001463-1761069600-1761073200@www.artsquest.org
SUMMARY:Improv Gym
DESCRIPTION:https://secure.artsquest.org/Online/seatSelect.asp?createBO::WSmap=1&BOparam::WSmap::loadBestAvailable::performance_ids=85EE1DB8-77CF-414E-975B-0D6656B024D2
URL:https://www.artsquest.org/event/4222/
LOCATION:Fowler Blast Furnace Room\, 101 Founders Way\, Bethlehem\, PA\, 18015\, United States
CATEGORIES:Classes,Comedy,Comedy Class
ATTACH;FMTTYPE=image/jpeg:https://www.artsquest.org/app/uploads/2025/10/COMEDY_chair_1024x576.jpg
END:VEVENT
BEGIN:VEVENT
DTSTART;TZID=America/New_York:20251014T180000
DTEND;TZID=America/New_York:20251014T190000
DTSTAMP:20260425T115313
CREATED:20251002T132003Z
LAST-MODIFIED:20251020T160013Z
UID:10001462-1760464800-1760468400@www.artsquest.org
SUMMARY:Improv Gym
DESCRIPTION:
URL:https://www.artsquest.org/event/improv-gym/
LOCATION:Fowler Blast Furnace Room\, 101 Founders Way\, Bethlehem\, PA\, 18015\, United States
CATEGORIES:Classes,Comedy,Comedy Class
ATTACH;FMTTYPE=image/jpeg:https://www.artsquest.org/app/uploads/2025/10/COMEDY_chair_1024x576.jpg
END:VEVENT
BEGIN:VEVENT
DTSTART;TZID=America/New_York:20251011T090000
DTEND;TZID=America/New_York:20251011T120000
DTSTAMP:20260425T115313
CREATED:20250829T231300Z
LAST-MODIFIED:20251009T210255Z
UID:10001078-1760173200-1760184000@www.artsquest.org
SUMMARY:Needle Felting: Plague Doctor
DESCRIPTION:https://www.instagram.com/craftykitsurou/
URL:https://www.artsquest.org/event/needle-felting-plague-doctor/
LOCATION:Bethlehem Area Public Library (Main Branch) Laros Room\, 11 W Church St\, Bethlehem\, PA\, 18018\, United States
CATEGORIES:Classes,One-Day Workshop,Visual Arts
ATTACH;FMTTYPE=image/jpeg:https://www.artsquest.org/app/uploads/2025/08/VA_plaguedoctor.jpg
END:VEVENT
BEGIN:VEVENT
DTSTART;TZID=America/New_York:20251001T140000
DTEND;TZID=America/New_York:20251001T160000
DTSTAMP:20260425T115313
CREATED:20250906T005331Z
LAST-MODIFIED:20251009T210106Z
UID:10001291-1759327200-1759334400@www.artsquest.org
SUMMARY:Halloween Polymer Clay Jewelry: Custom Make your Own!
DESCRIPTION:
URL:https://www.artsquest.org/event/halloween-polymer-clay-jewelry-custom-make-your-own/
LOCATION:Artist Garages at 520 Hamilton – Bay 1\, 520 Hamilton St.\, Allentown\, PA\, 18101\, United States
CATEGORIES:Classes,Jewelry & Metal,One-Day Workshop
ATTACH;FMTTYPE=image/jpeg:https://www.artsquest.org/app/uploads/2025/09/2025_VA_halloween-clay-jewelry.jpg
END:VEVENT
END:VCALENDAR