BEGIN:VCALENDAR
VERSION:2.0
PRODID:-//ArtsQuest - ECPv6.15.5//NONSGML v1.0//EN
CALSCALE:GREGORIAN
METHOD:PUBLISH
X-WR-CALNAME:ArtsQuest
X-ORIGINAL-URL:https://www.artsquest.org
X-WR-CALDESC:Events for ArtsQuest
REFRESH-INTERVAL;VALUE=DURATION:PT1H
X-Robots-Tag:noindex
X-PUBLISHED-TTL:PT1H
BEGIN:VTIMEZONE
TZID:America/New_York
BEGIN:DAYLIGHT
TZOFFSETFROM:-0500
TZOFFSETTO:-0400
TZNAME:EDT
DTSTART:20260308T070000
END:DAYLIGHT
BEGIN:STANDARD
TZOFFSETFROM:-0400
TZOFFSETTO:-0500
TZNAME:EST
DTSTART:20261101T060000
END:STANDARD
END:VTIMEZONE
BEGIN:VEVENT
DTSTART;TZID=America/New_York:20260731T180000
DTEND;TZID=America/New_York:20260731T220000
DTSTAMP:20260424T145950
CREATED:20260316T130043Z
LAST-MODIFIED:20260320T184159Z
UID:10003591-1785520800-1785535200@www.artsquest.org
SUMMARY:Russell Dickerson
DESCRIPTION:https://secure.artsquest.org/Online/article/RussellDickerson \nhttps://secure.artsquest.org/Online/article/RussellDickerson
URL:https://www.artsquest.org/event/russell-dickerson/
LOCATION:Wind Creek Steel Stage at PNC Plaza\, 711 E. First St.\, Bethlehem\, PA\, 18015\, United States
CATEGORIES:Concerts,Musikfest
ATTACH;FMTTYPE=image/jpeg:https://www.artsquest.org/app/uploads/2026/03/russell-dickerson-mf-wcss-2026-featured-1920x1080-1.jpg
END:VEVENT
BEGIN:VEVENT
DTSTART;TZID=America/New_York:20260801T120000
DTEND;TZID=America/New_York:20260801T230000
DTSTAMP:20260424T145950
CREATED:20250929T160110Z
LAST-MODIFIED:20250929T160110Z
UID:10001422-1785585600-1785625200@www.artsquest.org
SUMMARY:Musikfest 2026 - Saturday\, 8/1
DESCRIPTION:
URL:https://www.artsquest.org/event/musikfest-2026-saturday-8-1/
LOCATION:Bethlehem\, Bethlehem\, PA\, 18018\, United States
CATEGORIES:Concerts,Festival,Free
ATTACH;FMTTYPE=image/jpeg:https://www.artsquest.org/app/uploads/2025/09/MF_test.jpg
END:VEVENT
BEGIN:VEVENT
DTSTART;TZID=America/New_York:20260802T120000
DTEND;TZID=America/New_York:20260802T230000
DTSTAMP:20260424T145950
CREATED:20250929T160149Z
LAST-MODIFIED:20250929T160149Z
UID:10001423-1785672000-1785711600@www.artsquest.org
SUMMARY:Musikfest 2026 - Sunday\, 8/2
DESCRIPTION:
URL:https://www.artsquest.org/event/musikfest-2026-sunday-8-2/
LOCATION:Bethlehem\, Bethlehem\, PA\, 18018\, United States
CATEGORIES:Concerts,Festival,Free
ATTACH;FMTTYPE=image/jpeg:https://www.artsquest.org/app/uploads/2025/09/MF_test.jpg
END:VEVENT
BEGIN:VEVENT
DTSTART;TZID=America/New_York:20260802T180000
DTEND;TZID=America/New_York:20260802T220000
DTSTAMP:20260424T145950
CREATED:20260323T135951Z
LAST-MODIFIED:20260401T191703Z
UID:10003828-1785693600-1785708000@www.artsquest.org
SUMMARY:Third Eye Blind
DESCRIPTION:
URL:https://www.artsquest.org/event/third-eye-blind/
LOCATION:Wind Creek Steel Stage at PNC Plaza\, 711 E. First St.\, Bethlehem\, PA\, 18015\, United States
CATEGORIES:Concerts,Musikfest
ATTACH;FMTTYPE=image/jpeg:https://www.artsquest.org/app/uploads/2026/03/third-eye-blind-wcss-mf2026-feature-1920x1080-1.jpg
END:VEVENT
BEGIN:VEVENT
DTSTART;TZID=America/New_York:20260803T120000
DTEND;TZID=America/New_York:20260803T230000
DTSTAMP:20260424T145950
CREATED:20250929T160214Z
LAST-MODIFIED:20250929T160214Z
UID:10001424-1785758400-1785798000@www.artsquest.org
SUMMARY:Musikfest 2026 - Monday\, 8/3
DESCRIPTION:
URL:https://www.artsquest.org/event/musikfest-2026-monday-8-3/
LOCATION:Bethlehem\, Bethlehem\, PA\, 18018\, United States
CATEGORIES:Concerts,Festival,Free
ATTACH;FMTTYPE=image/jpeg:https://www.artsquest.org/app/uploads/2025/09/MF_test.jpg
END:VEVENT
BEGIN:VEVENT
DTSTART;TZID=America/New_York:20260803T180000
DTEND;TZID=America/New_York:20260803T220000
DTSTAMP:20260424T145950
CREATED:20251201T150038Z
LAST-MODIFIED:20260413T134933Z
UID:10002472-1785780000-1785794400@www.artsquest.org
SUMMARY:TRAIN
DESCRIPTION:
URL:https://www.artsquest.org/event/train/
LOCATION:Wind Creek Steel Stage at PNC Plaza\, 711 E. First St.\, Bethlehem\, PA\, 18015\, United States
CATEGORIES:Concerts,Musikfest
ATTACH;FMTTYPE=image/jpeg:https://www.artsquest.org/app/uploads/2025/11/train-mf2026-wcss-1920x1080-1.jpg
END:VEVENT
BEGIN:VEVENT
DTSTART;TZID=America/New_York:20260804T120000
DTEND;TZID=America/New_York:20260804T230000
DTSTAMP:20260424T145950
CREATED:20250929T160235Z
LAST-MODIFIED:20250929T160235Z
UID:10001425-1785844800-1785884400@www.artsquest.org
SUMMARY:Musikfest 2026 - Tuesday\, 8/4
DESCRIPTION:
URL:https://www.artsquest.org/event/musikfest-2026-tuesday-8-4/
LOCATION:Bethlehem\, Bethlehem\, PA\, 18018\, United States
CATEGORIES:Concerts,Festival,Free
ATTACH;FMTTYPE=image/jpeg:https://www.artsquest.org/app/uploads/2025/09/MF_test.jpg
END:VEVENT
BEGIN:VEVENT
DTSTART;TZID=America/New_York:20260804T180000
DTEND;TZID=America/New_York:20260804T220000
DTSTAMP:20260424T145950
CREATED:20251117T200037Z
LAST-MODIFIED:20251121T151525Z
UID:10002376-1785866400-1785880800@www.artsquest.org
SUMMARY:“Weird Al” Yankovic Bigger & Weirder 2026 Tour
DESCRIPTION:
URL:https://www.artsquest.org/event/weird-al-yankovic-bigger-weirder-2026-tour/
LOCATION:Wind Creek Steel Stage at PNC Plaza\, 711 E. First St.\, Bethlehem\, PA\, 18015\, United States
CATEGORIES:Concerts,Musikfest
ATTACH;FMTTYPE=image/jpeg:https://www.artsquest.org/app/uploads/2025/11/1920x1080_Weird-Al_art.jpg
END:VEVENT
BEGIN:VEVENT
DTSTART;TZID=America/New_York:20260805T120000
DTEND;TZID=America/New_York:20260805T230000
DTSTAMP:20260424T145950
CREATED:20250929T160300Z
LAST-MODIFIED:20250929T160300Z
UID:10001426-1785931200-1785970800@www.artsquest.org
SUMMARY:Musikfest 2026 - Wednesday\, 8/5
DESCRIPTION:
URL:https://www.artsquest.org/event/musikfest-2026-wednesday-8-5/
LOCATION:Bethlehem\, Bethlehem\, PA\, 18018\, United States
CATEGORIES:Concerts,Festival,Free
ATTACH;FMTTYPE=image/jpeg:https://www.artsquest.org/app/uploads/2025/09/MF_test.jpg
END:VEVENT
BEGIN:VEVENT
DTSTART;TZID=America/New_York:20260805T180000
DTEND;TZID=America/New_York:20260805T220000
DTSTAMP:20260424T145950
CREATED:20260302T110049Z
LAST-MODIFIED:20260306T145909Z
UID:10003375-1785952800-1785967200@www.artsquest.org
SUMMARY:T.I. with special guest DaBaby
DESCRIPTION:https://secure.artsquest.org/Online/article/TIDaBaby
URL:https://www.artsquest.org/event/t-i-with-special-guest-dababy/
LOCATION:Wind Creek Steel Stage at PNC Plaza\, 711 E. First St.\, Bethlehem\, PA\, 18015\, United States
CATEGORIES:Concerts,Musikfest
ATTACH;FMTTYPE=image/jpeg:https://www.artsquest.org/app/uploads/2026/02/ti-dababy-wcss-2026-mf-featured-1920x1080-1.jpg
END:VEVENT
BEGIN:VEVENT
DTSTART;TZID=America/New_York:20260806T120000
DTEND;TZID=America/New_York:20260806T230000
DTSTAMP:20260424T145950
CREATED:20250929T160321Z
LAST-MODIFIED:20250929T160321Z
UID:10001427-1786017600-1786057200@www.artsquest.org
SUMMARY:Musikfest 2026 - Thursday\, 8/6
DESCRIPTION:
URL:https://www.artsquest.org/event/musikfest-2026-thursday-8-6/
LOCATION:Bethlehem\, Bethlehem\, PA\, 18018\, United States
CATEGORIES:Concerts,Festival,Free
ATTACH;FMTTYPE=image/jpeg:https://www.artsquest.org/app/uploads/2025/09/MF_test.jpg
END:VEVENT
BEGIN:VEVENT
DTSTART;TZID=America/New_York:20260806T180000
DTEND;TZID=America/New_York:20260806T220000
DTSTAMP:20260424T145950
CREATED:20251117T140041Z
LAST-MODIFIED:20251121T151640Z
UID:10002375-1786039200-1786053600@www.artsquest.org
SUMMARY:Bailey Zimmerman
DESCRIPTION:https://www.instagram.com/bailey.zimmerman/
URL:https://www.artsquest.org/event/bailey-zimmerman/
LOCATION:Wind Creek Steel Stage at PNC Plaza\, 711 E. First St.\, Bethlehem\, PA\, 18015\, United States
CATEGORIES:Concerts,Musikfest
ATTACH;FMTTYPE=image/jpeg:https://www.artsquest.org/app/uploads/2025/11/Bailey-Zimmerman-mf-wcss-2026-1200x392-1.jpg
END:VEVENT
BEGIN:VEVENT
DTSTART;TZID=America/New_York:20260807T120000
DTEND;TZID=America/New_York:20260807T230000
DTSTAMP:20260424T145950
CREATED:20250929T160343Z
LAST-MODIFIED:20250929T160343Z
UID:10001428-1786104000-1786143600@www.artsquest.org
SUMMARY:Musikfest 2026 - Friday\, 8/7
DESCRIPTION:
URL:https://www.artsquest.org/event/musikfest-2026-friday-8-7/
LOCATION:Bethlehem\, Bethlehem\, PA\, 18018\, United States
CATEGORIES:Concerts,Festival,Free
ATTACH;FMTTYPE=image/jpeg:https://www.artsquest.org/app/uploads/2025/09/MF_test.jpg
END:VEVENT
BEGIN:VEVENT
DTSTART;TZID=America/New_York:20260807T180000
DTEND;TZID=America/New_York:20260807T220000
DTSTAMP:20260424T145950
CREATED:20251201T150026Z
LAST-MODIFIED:20251205T150018Z
UID:10002473-1786125600-1786140000@www.artsquest.org
SUMMARY:Parker McCollum
DESCRIPTION:
URL:https://www.artsquest.org/event/parker-mccollum/
LOCATION:Wind Creek Steel Stage at PNC Plaza\, 711 E. First St.\, Bethlehem\, PA\, 18015\, United States
CATEGORIES:Concerts,Musikfest
ATTACH;FMTTYPE=image/jpeg:https://www.artsquest.org/app/uploads/2025/11/Parker-McCollum-mf2026-wcss-1920x1080-1.jpg
END:VEVENT
BEGIN:VEVENT
DTSTART;TZID=America/New_York:20260808T120000
DTEND;TZID=America/New_York:20260808T230000
DTSTAMP:20260424T145950
CREATED:20250929T160402Z
LAST-MODIFIED:20250929T160402Z
UID:10001429-1786190400-1786230000@www.artsquest.org
SUMMARY:Musikfest 2026 - Saturday\, 8/8
DESCRIPTION:
URL:https://www.artsquest.org/event/musikfest-2026-saturday-8-8/
LOCATION:Bethlehem\, Bethlehem\, PA\, 18018\, United States
CATEGORIES:Concerts,Festival,Free
ATTACH;FMTTYPE=image/jpeg:https://www.artsquest.org/app/uploads/2025/09/MF_test.jpg
END:VEVENT
BEGIN:VEVENT
DTSTART;TZID=America/New_York:20260808T180000
DTEND;TZID=America/New_York:20260808T220000
DTSTAMP:20260424T145950
CREATED:20251215T150040Z
LAST-MODIFIED:20260331T192621Z
UID:10002572-1786212000-1786226400@www.artsquest.org
SUMMARY:Yellowcard and Taking Back Sunday
DESCRIPTION:
URL:https://www.artsquest.org/event/yellowcard-and-taking-back-sunday/
LOCATION:Wind Creek Steel Stage at PNC Plaza\, 711 E. First St.\, Bethlehem\, PA\, 18015\, United States
CATEGORIES:Concerts,Musikfest
ATTACH;FMTTYPE=image/jpeg:https://www.artsquest.org/app/uploads/2025/12/yellowcard-tbs-mf-wcss-2026-feature-1920x1080-1.jpg
END:VEVENT
BEGIN:VEVENT
DTSTART;TZID=America/New_York:20260809T120000
DTEND;TZID=America/New_York:20260809T230000
DTSTAMP:20260424T145950
CREATED:20250929T160424Z
LAST-MODIFIED:20250929T160424Z
UID:10001430-1786276800-1786316400@www.artsquest.org
SUMMARY:Musikfest 2026 - Sunday\, 8/9
DESCRIPTION:
URL:https://www.artsquest.org/event/musikfest-2026-sunday-8-9/
LOCATION:Bethlehem\, Bethlehem\, PA\, 18018\, United States
CATEGORIES:Concerts,Festival,Free
ATTACH;FMTTYPE=image/jpeg:https://www.artsquest.org/app/uploads/2025/09/MF_test.jpg
END:VEVENT
BEGIN:VEVENT
DTSTART;TZID=America/New_York:20260809T180000
DTEND;TZID=America/New_York:20260809T220000
DTSTAMP:20260424T145950
CREATED:20251215T150035Z
LAST-MODIFIED:20260318T133726Z
UID:10002569-1786298400-1786312800@www.artsquest.org
SUMMARY:AJR
DESCRIPTION:
URL:https://www.artsquest.org/event/ajr/
LOCATION:Wind Creek Steel Stage at PNC Plaza\, 711 E. First St.\, Bethlehem\, PA\, 18015\, United States
CATEGORIES:Concerts,Musikfest
ATTACH;FMTTYPE=image/jpeg:https://www.artsquest.org/app/uploads/2025/12/AJR-mf-wcss-2026-feature-1920x1080-1.jpg
END:VEVENT
BEGIN:VEVENT
DTSTART;TZID=America/New_York:20260821T180000
DTEND;TZID=America/New_York:20260821T191500
DTSTAMP:20260424T145950
CREATED:20260422T134126Z
LAST-MODIFIED:20260422T134202Z
UID:10004997-1787335200-1787339700@www.artsquest.org
SUMMARY:Erin Kelly
DESCRIPTION:
URL:https://www.artsquest.org/event/erin-kelly/
LOCATION:Highmark Blue Shield Community Stage on the Air Products Town Square\, 101 Founders Way\, Bethlehem\, PA\, 18015\, United States
CATEGORIES:Concerts,Free
ATTACH;FMTTYPE=image/jpeg:https://www.artsquest.org/app/uploads/2026/04/countryfest_erin-kelly_1920x1080.jpg
END:VEVENT
BEGIN:VEVENT
DTSTART;TZID=America/New_York:20260821T180000
DTEND;TZID=America/New_York:20260821T210000
DTSTAMP:20260424T145950
CREATED:20260406T150811Z
LAST-MODIFIED:20260406T152621Z
UID:10004097-1787335200-1787346000@www.artsquest.org
SUMMARY:Carbon Leaf with Fig for a Kiss
DESCRIPTION:
URL:https://www.artsquest.org/event/carbon-leaf-with-fig-for-a-kiss/
LOCATION:Union Terrace Amphitheater\, 200 S St Elmo St\, Allentown\, PA\, 18104\, United States
CATEGORIES:Concerts,Free
ATTACH;FMTTYPE=image/jpeg:https://www.artsquest.org/app/uploads/2026/04/UT_carbon-leaf-1920x1080-1.jpg
END:VEVENT
BEGIN:VEVENT
DTSTART;TZID=America/New_York:20260821T193000
DTEND;TZID=America/New_York:20260821T210000
DTSTAMP:20260424T145950
CREATED:20260422T134247Z
LAST-MODIFIED:20260422T140233Z
UID:10005004-1787340600-1787346000@www.artsquest.org
SUMMARY:Kevin Kenny - The Chesney Show
DESCRIPTION:
URL:https://www.artsquest.org/event/kevin-kenny-the-chesney-show/
LOCATION:Levitt Pavilion SteelStacks\, 789 E 1st St\, Bethlehem\, PA\, 18015
CATEGORIES:Concerts,Free
ATTACH;FMTTYPE=image/jpeg:https://www.artsquest.org/app/uploads/2026/04/Levitt_Kevin-kenny_1920x1080-1.jpg
END:VEVENT
BEGIN:VEVENT
DTSTART;TZID=America/New_York:20260821T200000
DTEND;TZID=America/New_York:20260821T220000
DTSTAMP:20260424T145950
CREATED:20260217T150047Z
LAST-MODIFIED:20260226T195641Z
UID:10003264-1787342400-1787349600@www.artsquest.org
SUMMARY:Steve Earle - 51 Years of Songs & Stories
DESCRIPTION:
URL:https://www.artsquest.org/event/steve-earle-51-years-of-songs-stories/
LOCATION:Musikfest Café\, 101 Founders Way\, Bethlehem\, PA\, 18015\, United States
CATEGORIES:Concerts
ATTACH;FMTTYPE=image/jpeg:https://www.artsquest.org/app/uploads/2026/02/MFC_SteveEarl_1920x1080.jpg
END:VEVENT
BEGIN:VEVENT
DTSTART;TZID=America/New_York:20260821T210000
DTEND;TZID=America/New_York:20260821T214000
DTSTAMP:20260424T145950
CREATED:20260422T134324Z
LAST-MODIFIED:20260422T134324Z
UID:10004998-1787346000-1787348400@www.artsquest.org
SUMMARY:Stomp and Shine (Line Dance Lessons with Whiskey and Roses)
DESCRIPTION:
URL:https://www.artsquest.org/event/stomp-and-shine-line-dance-lessons-with-whiskey-and-roses/
LOCATION:Highmark Blue Shield Community Stage on the Air Products Town Square\, 101 Founders Way\, Bethlehem\, PA\, 18015\, United States
CATEGORIES:Concerts,Free
ATTACH;FMTTYPE=image/jpeg:https://www.artsquest.org/app/uploads/2026/04/countryfest_stomp-shine_1920x1080.jpg
END:VEVENT
BEGIN:VEVENT
DTSTART;TZID=America/New_York:20260821T210000
DTEND;TZID=America/New_York:20260821T230000
DTSTAMP:20260424T145950
CREATED:20260422T134529Z
LAST-MODIFIED:20260422T134529Z
UID:10004999-1787346000-1787353200@www.artsquest.org
SUMMARY:Whiskey and Roses
DESCRIPTION:
URL:https://www.artsquest.org/event/whiskey-and-roses/
LOCATION:Highmark Blue Shield Community Stage on the Air Products Town Square\, 101 Founders Way\, Bethlehem\, PA\, 18015\, United States
CATEGORIES:Concerts,Free
ATTACH;FMTTYPE=image/jpeg:https://www.artsquest.org/app/uploads/2026/04/countryfest_whiskey-roses_1920x1080.jpg
END:VEVENT
BEGIN:VEVENT
DTSTART;TZID=America/New_York:20260822T160000
DTEND;TZID=America/New_York:20260822T170000
DTSTAMP:20260424T145950
CREATED:20260422T134639Z
LAST-MODIFIED:20260422T141607Z
UID:10005001-1787414400-1787418000@www.artsquest.org
SUMMARY:Luke Borchelt
DESCRIPTION:
URL:https://www.artsquest.org/event/luke-borchelt/
LOCATION:Highmark Blue Shield Community Stage on the Air Products Town Square\, 101 Founders Way\, Bethlehem\, PA\, 18015\, United States
CATEGORIES:Concerts,Free
ATTACH;FMTTYPE=image/jpeg:https://www.artsquest.org/app/uploads/2026/04/countryfest_luke-borchelt_1920x1080.jpg
END:VEVENT
BEGIN:VEVENT
DTSTART;TZID=America/New_York:20260822T170000
DTEND;TZID=America/New_York:20260822T183000
DTSTAMP:20260424T145950
CREATED:20260422T134726Z
LAST-MODIFIED:20260422T134726Z
UID:10005005-1787418000-1787423400@www.artsquest.org
SUMMARY:Clayton Mullen
DESCRIPTION:
URL:https://www.artsquest.org/event/clayton-mullen/
LOCATION:Levitt Pavilion SteelStacks\, 789 E 1st St\, Bethlehem\, PA\, 18015
CATEGORIES:Concerts,Free
ATTACH;FMTTYPE=image/jpeg:https://www.artsquest.org/app/uploads/2026/04/countryfest_clayton-mullen_1920x1080.jpg
END:VEVENT
BEGIN:VEVENT
DTSTART;TZID=America/New_York:20260822T183000
DTEND;TZID=America/New_York:20260822T193000
DTSTAMP:20260424T145950
CREATED:20260422T134814Z
LAST-MODIFIED:20260422T134814Z
UID:10005002-1787423400-1787427000@www.artsquest.org
SUMMARY:Peytan Porter
DESCRIPTION:
URL:https://www.artsquest.org/event/peytan-porter/
LOCATION:Highmark Blue Shield Community Stage on the Air Products Town Square\, 101 Founders Way\, Bethlehem\, PA\, 18015\, United States
CATEGORIES:Concerts,Free
ATTACH;FMTTYPE=image/jpeg:https://www.artsquest.org/app/uploads/2026/04/countryfest_peytan-porter_1920x1080.jpg
END:VEVENT
BEGIN:VEVENT
DTSTART;TZID=America/New_York:20260822T193000
DTEND;TZID=America/New_York:20260822T210000
DTSTAMP:20260424T145950
CREATED:20260422T134845Z
LAST-MODIFIED:20260422T140538Z
UID:10005006-1787427000-1787432400@www.artsquest.org
SUMMARY:Lainey Nation - A Tribute to Lainey Wilson
DESCRIPTION:
URL:https://www.artsquest.org/event/lainey-nation-a-tribute-to-lainey-wilson/
LOCATION:Levitt Pavilion SteelStacks\, 789 E 1st St\, Bethlehem\, PA\, 18015
CATEGORIES:Concerts,Free
ATTACH;FMTTYPE=image/jpeg:https://www.artsquest.org/app/uploads/2026/04/Levitt_Lainey-nation_1920x1080.jpg
END:VEVENT
BEGIN:VEVENT
DTSTART;TZID=America/New_York:20260822T200000
DTEND;TZID=America/New_York:20260822T220000
DTSTAMP:20260424T145950
CREATED:20260216T150014Z
LAST-MODIFIED:20260318T135723Z
UID:10003265-1787428800-1787436000@www.artsquest.org
SUMMARY:Green River - Tribute to Creedence Clearwater Revival & John Fogerty
DESCRIPTION:
URL:https://www.artsquest.org/event/green-river-tribute-to-creedence-clearwater-revival-john-fogerty/
LOCATION:Musikfest Café\, 101 Founders Way\, Bethlehem\, PA\, 18015\, United States
CATEGORIES:Concerts
ATTACH;FMTTYPE=image/jpeg:https://www.artsquest.org/app/uploads/2026/02/MFC_GreenRiver2_1920x1080.jpg
END:VEVENT
BEGIN:VEVENT
DTSTART;TZID=America/New_York:20260822T210000
DTEND;TZID=America/New_York:20260822T230000
DTSTAMP:20260424T145950
CREATED:20260422T134923Z
LAST-MODIFIED:20260422T141025Z
UID:10005003-1787432400-1787439600@www.artsquest.org
SUMMARY:Adam and the Armadillos
DESCRIPTION:
URL:https://www.artsquest.org/event/adam-and-the-armadillos/
LOCATION:Highmark Blue Shield Community Stage on the Air Products Town Square\, 101 Founders Way\, Bethlehem\, PA\, 18015\, United States
CATEGORIES:Concerts,Free
ATTACH;FMTTYPE=image/jpeg:https://www.artsquest.org/app/uploads/2026/04/countryfest_adam-armadilos_1920x1080-1.jpg
END:VEVENT
END:VCALENDAR