BEGIN:VCALENDAR
VERSION:2.0
PRODID:-//ArtsQuest - ECPv6.15.5//NONSGML v1.0//EN
CALSCALE:GREGORIAN
METHOD:PUBLISH
X-WR-CALNAME:ArtsQuest
X-ORIGINAL-URL:https://www.artsquest.org
X-WR-CALDESC:Events for ArtsQuest
REFRESH-INTERVAL;VALUE=DURATION:PT1H
X-Robots-Tag:noindex
X-PUBLISHED-TTL:PT1H
BEGIN:VTIMEZONE
TZID:America/New_York
BEGIN:DAYLIGHT
TZOFFSETFROM:-0500
TZOFFSETTO:-0400
TZNAME:EDT
DTSTART:20260308T070000
END:DAYLIGHT
BEGIN:STANDARD
TZOFFSETFROM:-0400
TZOFFSETTO:-0500
TZNAME:EST
DTSTART:20261101T060000
END:STANDARD
END:VTIMEZONE
BEGIN:VEVENT
DTSTART;TZID=America/New_York:20260313T173000
DTEND;TZID=America/New_York:20260313T193000
DTSTAMP:20260424T105641
CREATED:20260109T164007Z
LAST-MODIFIED:20260109T164007Z
UID:10002852-1773423000-1773430200@www.artsquest.org
SUMMARY:Cass Noelle
DESCRIPTION:
URL:https://www.artsquest.org/event/cass-noelle-2/
LOCATION:Williams Brew Stage\, 101 Founders Way\, Bethlehem\, PA\, 18015\, United States
CATEGORIES:Concerts,Free
ATTACH;FMTTYPE=image/jpeg:https://www.artsquest.org/app/uploads/2026/01/WBS_CassNoelle1200x392.jpg
END:VEVENT
BEGIN:VEVENT
DTSTART;TZID=America/New_York:20260312T150000
DTEND;TZID=America/New_York:20260312T170000
DTSTAMP:20260424T105641
CREATED:20250903T222600Z
LAST-MODIFIED:20260305T202132Z
UID:10002702-1773327600-1773334800@www.artsquest.org
SUMMARY:Open Mic Night
DESCRIPTION:
URL:https://www.artsquest.org/event/open-mic-night-2/2026-03-12/
LOCATION:Williams Brew Stage\, 101 Founders Way\, Bethlehem\, PA\, 18015\, United States
CATEGORIES:Concerts,Free
ATTACH;FMTTYPE=image/jpeg:https://www.artsquest.org/app/uploads/2025/09/WBS_OpenMicNight_1920x1080.jpg
END:VEVENT
BEGIN:VEVENT
DTSTART;TZID=America/New_York:20260311T193000
DTEND;TZID=America/New_York:20260311T220000
DTSTAMP:20260424T105641
CREATED:20250925T140030Z
LAST-MODIFIED:20260305T202926Z
UID:10001383-1773257400-1773266400@www.artsquest.org
SUMMARY:Dancing with The Celts
DESCRIPTION:
URL:https://www.artsquest.org/event/dancing-with-the-celts/
LOCATION:Musikfest Café\, 101 Founders Way\, Bethlehem\, PA\, 18015\, United States
CATEGORIES:Concerts
ATTACH;FMTTYPE=image/jpeg:https://www.artsquest.org/app/uploads/2025/09/MFC_DancingCelts_1920x1080.jpg
END:VEVENT
BEGIN:VEVENT
DTSTART;TZID=America/New_York:20260308T160000
DTEND;TZID=America/New_York:20260308T183000
DTSTAMP:20260424T105641
CREATED:20260106T150049Z
LAST-MODIFIED:20260319T174650Z
UID:10002727-1772985600-1772994600@www.artsquest.org
SUMMARY:SteelStacks High School Jazz Band Showcase 3/8 | 4 PM
DESCRIPTION:
URL:https://www.artsquest.org/event/steelstacks-high-school-jazz-band-showcase-3-8-4-pm/
LOCATION:Musikfest Café\, 101 Founders Way\, Bethlehem\, PA\, 18015\, United States
CATEGORIES:Concerts
ATTACH;FMTTYPE=image/jpeg:https://www.artsquest.org/app/uploads/2026/01/MFC_JazzBandShowcase1200x392.jpg
END:VEVENT
BEGIN:VEVENT
DTSTART;TZID=America/New_York:20260308T120000
DTEND;TZID=America/New_York:20260308T153000
DTSTAMP:20260424T105641
CREATED:20260106T150043Z
LAST-MODIFIED:20260319T174632Z
UID:10002726-1772971200-1772983800@www.artsquest.org
SUMMARY:SteelStacks High School Jazz Band Showcase 3/8 | 12 PM
DESCRIPTION:
URL:https://www.artsquest.org/event/steelstacks-high-school-jazz-band-showcase-3-8-12-pm/
LOCATION:Musikfest Café\, 101 Founders Way\, Bethlehem\, PA\, 18015\, United States
CATEGORIES:Concerts
ATTACH;FMTTYPE=image/jpeg:https://www.artsquest.org/app/uploads/2026/01/MFC_JazzBandShowcase1200x392.jpg
END:VEVENT
BEGIN:VEVENT
DTSTART;TZID=America/New_York:20260307T190000
DTEND;TZID=America/New_York:20260307T220000
DTSTAMP:20260424T105641
CREATED:20260109T163835Z
LAST-MODIFIED:20260109T163835Z
UID:10002851-1772910000-1772920800@www.artsquest.org
SUMMARY:Hannah Noel
DESCRIPTION:
URL:https://www.artsquest.org/event/hannah-noel-2/
LOCATION:Williams Brew Stage\, 101 Founders Way\, Bethlehem\, PA\, 18015\, United States
CATEGORIES:Concerts,Free
ATTACH;FMTTYPE=image/jpeg:https://www.artsquest.org/app/uploads/2025/12/WBS_HannahNoel_1200x392.jpg
END:VEVENT
BEGIN:VEVENT
DTSTART;TZID=America/New_York:20260306T200000
DTEND;TZID=America/New_York:20260306T230000
DTSTAMP:20260424T105641
CREATED:20260109T163635Z
LAST-MODIFIED:20260109T163635Z
UID:10002850-1772827200-1772838000@www.artsquest.org
SUMMARY:Liquid Smoke
DESCRIPTION:
URL:https://www.artsquest.org/event/liquid-smoke/
LOCATION:Williams Brew Stage\, 101 Founders Way\, Bethlehem\, PA\, 18015\, United States
CATEGORIES:Concerts,Free
ATTACH;FMTTYPE=image/jpeg:https://www.artsquest.org/app/uploads/2026/01/WBS_LiquidSmoke_1200x392.jpg
END:VEVENT
BEGIN:VEVENT
DTSTART;TZID=America/New_York:20260306T193000
DTEND;TZID=America/New_York:20260306T220000
DTSTAMP:20260424T105641
CREATED:20251201T150015Z
LAST-MODIFIED:20260304T210717Z
UID:10002465-1772825400-1772834400@www.artsquest.org
SUMMARY:Hollywood Nights - The Bob Seger Experience
DESCRIPTION:
URL:https://www.artsquest.org/event/hollywood-nights-the-bob-seger-experience/
LOCATION:Musikfest Café\, 101 Founders Way\, Bethlehem\, PA\, 18015\, United States
CATEGORIES:Concerts
ATTACH;FMTTYPE=image/jpeg:https://www.artsquest.org/app/uploads/2025/12/MFC_HollywoodNights2_1920x1080.jpg
END:VEVENT
BEGIN:VEVENT
DTSTART;TZID=America/New_York:20260306T173000
DTEND;TZID=America/New_York:20260306T193000
DTSTAMP:20260424T105641
CREATED:20260109T162936Z
LAST-MODIFIED:20260202T212738Z
UID:10002849-1772818200-1772825400@www.artsquest.org
SUMMARY:Scott Marshall
DESCRIPTION:
URL:https://www.artsquest.org/event/scott-marshall/
LOCATION:Williams Brew Stage\, 101 Founders Way\, Bethlehem\, PA\, 18015\, United States
CATEGORIES:Concerts,Free
ATTACH;FMTTYPE=image/jpeg:https://www.artsquest.org/app/uploads/2026/01/WBS_ScottMarshall_1200x392.jpg
END:VEVENT
BEGIN:VEVENT
DTSTART;TZID=America/New_York:20260305T140000
DTEND;TZID=America/New_York:20260305T170000
DTSTAMP:20260424T105641
CREATED:20250903T214531Z
LAST-MODIFIED:20260402T203231Z
UID:10002693-1772719200-1772730000@www.artsquest.org
SUMMARY:Jazz Jam
DESCRIPTION:
URL:https://www.artsquest.org/event/jazz-jam/2026-03-05/
LOCATION:Williams Brew Stage\, 101 Founders Way\, Bethlehem\, PA\, 18015\, United States
CATEGORIES:Concerts,Free
ATTACH;FMTTYPE=image/jpeg:https://www.artsquest.org/app/uploads/2025/09/WBS_JazzJam_1920x1080.jpg
END:VEVENT
BEGIN:VEVENT
DTSTART;TZID=America/New_York:20260301T120000
DTEND;TZID=America/New_York:20260301T153000
DTSTAMP:20260424T105641
CREATED:20260224T205028Z
LAST-MODIFIED:20260319T174507Z
UID:10003315-1772366400-1772379000@www.artsquest.org
SUMMARY:SteelStacks High School Jazz Band Showcase 3/1 | 12 PM
DESCRIPTION:
URL:https://www.artsquest.org/event/steelstacks-high-school-jazz-band-showcase-3-1-12-pm/
LOCATION:Musikfest Café\, 101 Founders Way\, Bethlehem\, PA\, 18015\, United States
CATEGORIES:Concerts
ATTACH;FMTTYPE=image/jpeg:https://www.artsquest.org/app/uploads/2026/01/MFC_JazzBandShowcase1200x392.jpg
END:VEVENT
BEGIN:VEVENT
DTSTART;TZID=America/New_York:20260228T193000
DTEND;TZID=America/New_York:20260228T220000
DTSTAMP:20260424T105641
CREATED:20251209T150059Z
LAST-MODIFIED:20260224T174515Z
UID:10002525-1772307000-1772316000@www.artsquest.org
SUMMARY:Brass Against
DESCRIPTION:
URL:https://www.artsquest.org/event/brass-against/
LOCATION:Musikfest Café\, 101 Founders Way\, Bethlehem\, PA\, 18015\, United States
CATEGORIES:Concerts
ATTACH;FMTTYPE=image/jpeg:https://www.artsquest.org/app/uploads/2025/12/MFC_brassagainst_1200x392.jpg
END:VEVENT
BEGIN:VEVENT
DTSTART;TZID=America/New_York:20260228T190000
DTEND;TZID=America/New_York:20260228T220000
DTSTAMP:20260424T105641
CREATED:20251230T162231Z
LAST-MODIFIED:20260126T180344Z
UID:10002735-1772305200-1772316000@www.artsquest.org
SUMMARY:Chuck Rissmiller
DESCRIPTION:
URL:https://www.artsquest.org/event/chuck-rissmiller/
LOCATION:Williams Brew Stage\, 101 Founders Way\, Bethlehem\, PA\, 18015\, United States
CATEGORIES:Concerts,Free
ATTACH;FMTTYPE=image/jpeg:https://www.artsquest.org/app/uploads/2025/12/WBS_ChuckRissmiller_1200x392.jpg
END:VEVENT
BEGIN:VEVENT
DTSTART;TZID=America/New_York:20260227T193000
DTEND;TZID=America/New_York:20260227T220000
DTSTAMP:20260424T105641
CREATED:20250925T142036Z
LAST-MODIFIED:20260319T174443Z
UID:10001384-1772220600-1772229600@www.artsquest.org
SUMMARY:Fire & Rain: Songs of the '70s by Swearingen & Kelli
DESCRIPTION:
URL:https://www.artsquest.org/event/fire-rain-songs-of-the-70s-by-swearingen-kelli/
LOCATION:Musikfest Café\, 101 Founders Way\, Bethlehem\, PA\, 18015\, United States
CATEGORIES:Concerts
ATTACH;FMTTYPE=image/jpeg:https://www.artsquest.org/app/uploads/2025/09/MFC_SwearingenKelli_1920x1080.jpg
END:VEVENT
BEGIN:VEVENT
DTSTART;TZID=America/New_York:20260227T190000
DTEND;TZID=America/New_York:20260227T220000
DTSTAMP:20260424T105641
CREATED:20251230T162110Z
LAST-MODIFIED:20251230T162110Z
UID:10002734-1772218800-1772229600@www.artsquest.org
SUMMARY:Tim Harakal
DESCRIPTION:
URL:https://www.artsquest.org/event/tim-harakal/
LOCATION:Williams Brew Stage\, 101 Founders Way\, Bethlehem\, PA\, 18015\, United States
CATEGORIES:Concerts,Free
ATTACH;FMTTYPE=image/jpeg:https://www.artsquest.org/app/uploads/2025/12/WBS_TimHarakal_1200x392.jpg
END:VEVENT
BEGIN:VEVENT
DTSTART;TZID=America/New_York:20260226T140000
DTEND;TZID=America/New_York:20260226T170000
DTSTAMP:20260424T105641
CREATED:20250903T222600Z
LAST-MODIFIED:20260305T202132Z
UID:10002701-1772114400-1772125200@www.artsquest.org
SUMMARY:Open Mic Night
DESCRIPTION:
URL:https://www.artsquest.org/event/open-mic-night-2/2026-02-26/
LOCATION:Williams Brew Stage\, 101 Founders Way\, Bethlehem\, PA\, 18015\, United States
CATEGORIES:Concerts,Free
ATTACH;FMTTYPE=image/jpeg:https://www.artsquest.org/app/uploads/2025/09/WBS_OpenMicNight_1920x1080.jpg
END:VEVENT
BEGIN:VEVENT
DTSTART;TZID=America/New_York:20260221T200000
DTEND;TZID=America/New_York:20260221T230000
DTSTAMP:20260424T105641
CREATED:20251230T161759Z
LAST-MODIFIED:20251230T161759Z
UID:10002733-1771704000-1771714800@www.artsquest.org
SUMMARY:Ted Donatelli
DESCRIPTION:
URL:https://www.artsquest.org/event/ted-donatelli-2/
LOCATION:Williams Brew Stage\, 101 Founders Way\, Bethlehem\, PA\, 18015\, United States
CATEGORIES:Concerts,Free
ATTACH;FMTTYPE=image/jpeg:https://www.artsquest.org/app/uploads/2025/10/WBS_TedDonatelli_1200x392.jpg
END:VEVENT
BEGIN:VEVENT
DTSTART;TZID=America/New_York:20260221T193000
DTEND;TZID=America/New_York:20260221T220000
DTSTAMP:20260424T105641
CREATED:20250925T143657Z
LAST-MODIFIED:20260319T174338Z
UID:10001385-1771702200-1771711200@www.artsquest.org
SUMMARY:The Amish Outlaws
DESCRIPTION:
URL:https://www.artsquest.org/event/3174/
LOCATION:Musikfest Café\, 101 Founders Way\, Bethlehem\, PA\, 18015\, United States
CATEGORIES:Concerts
ATTACH;FMTTYPE=image/jpeg:https://www.artsquest.org/app/uploads/2025/09/MFC_AmishOutlaws_1200x392.jpg
END:VEVENT
BEGIN:VEVENT
DTSTART;TZID=America/New_York:20260221T173000
DTEND;TZID=America/New_York:20260221T193000
DTSTAMP:20260424T105641
CREATED:20251104T141830Z
LAST-MODIFIED:20260108T215709Z
UID:10002252-1771695000-1771702200@www.artsquest.org
SUMMARY:Dolcetto – The Glenn Hoffmann Trio
DESCRIPTION:
URL:https://www.artsquest.org/event/dolcetto/
LOCATION:Williams Brew Stage\, 101 Founders Way\, Bethlehem\, PA\, 18015\, United States
CATEGORIES:Concerts,Free
ATTACH;FMTTYPE=image/jpeg:https://www.artsquest.org/app/uploads/2025/11/WBS_Dolcetto_1200x392.jpg
END:VEVENT
BEGIN:VEVENT
DTSTART;TZID=America/New_York:20260220T193000
DTEND;TZID=America/New_York:20260220T220000
DTSTAMP:20260424T105641
CREATED:20251201T150051Z
LAST-MODIFIED:20251208T203508Z
UID:10002415-1771615800-1771624800@www.artsquest.org
SUMMARY:The Side Cars Band - Tribute to The Cars
DESCRIPTION:
URL:https://www.artsquest.org/event/the-side-cars-band-tribute-to-the-cars/
LOCATION:Musikfest Café\, 101 Founders Way\, Bethlehem\, PA\, 18015\, United States
CATEGORIES:Concerts
ATTACH;FMTTYPE=image/jpeg:https://www.artsquest.org/app/uploads/2025/11/MFC_sidecars_1200x392.jpg
END:VEVENT
BEGIN:VEVENT
DTSTART;TZID=America/New_York:20260220T190000
DTEND;TZID=America/New_York:20260220T220000
DTSTAMP:20260424T105641
CREATED:20251230T161659Z
LAST-MODIFIED:20251230T161659Z
UID:10002732-1771614000-1771624800@www.artsquest.org
SUMMARY:The BriTles
DESCRIPTION:
URL:https://www.artsquest.org/event/the-britles-2/
LOCATION:Williams Brew Stage\, 101 Founders Way\, Bethlehem\, PA\, 18015\, United States
CATEGORIES:Concerts,Free
ATTACH;FMTTYPE=image/jpeg:https://www.artsquest.org/app/uploads/2025/10/PNP_TheBritles_1200x392.jpg
END:VEVENT
BEGIN:VEVENT
DTSTART;TZID=America/New_York:20260219T140000
DTEND;TZID=America/New_York:20260219T170000
DTSTAMP:20260424T105641
CREATED:20250903T214531Z
LAST-MODIFIED:20260402T203231Z
UID:10002692-1771509600-1771520400@www.artsquest.org
SUMMARY:Jazz Jam
DESCRIPTION:
URL:https://www.artsquest.org/event/jazz-jam/2026-02-19/
LOCATION:Williams Brew Stage\, 101 Founders Way\, Bethlehem\, PA\, 18015\, United States
CATEGORIES:Concerts,Free
ATTACH;FMTTYPE=image/jpeg:https://www.artsquest.org/app/uploads/2025/09/WBS_JazzJam_1920x1080.jpg
END:VEVENT
BEGIN:VEVENT
DTSTART;TZID=America/New_York:20260214T200000
DTEND;TZID=America/New_York:20260214T230000
DTSTAMP:20260424T105641
CREATED:20251027T185658Z
LAST-MODIFIED:20260108T215434Z
UID:10002154-1771099200-1771110000@www.artsquest.org
SUMMARY:Zaire
DESCRIPTION:
URL:https://www.artsquest.org/event/zaire/
LOCATION:Williams Brew Stage\, 101 Founders Way\, Bethlehem\, PA\, 18015\, United States
CATEGORIES:Concerts,Free
ATTACH;FMTTYPE=image/jpeg:https://www.artsquest.org/app/uploads/2025/10/WBS_zaire_1200x392.jpg
END:VEVENT
BEGIN:VEVENT
DTSTART;TZID=America/New_York:20260214T193000
DTEND;TZID=America/New_York:20260214T220000
DTSTAMP:20260424T105641
CREATED:20250925T145614Z
LAST-MODIFIED:20260121T151841Z
UID:10001386-1771097400-1771106400@www.artsquest.org
SUMMARY:Valentine's Day Show: Strawberry Fields - The Ultimate Beatles Tribute Band
DESCRIPTION:
URL:https://www.artsquest.org/event/strawberry-fields-the-ultimate-beatles-tribute-band/
LOCATION:Musikfest Café\, 101 Founders Way\, Bethlehem\, PA\, 18015\, United States
CATEGORIES:Concerts
ATTACH;FMTTYPE=image/jpeg:https://www.artsquest.org/app/uploads/2025/09/MFC_StrawberryFields_1200x392.jpg
END:VEVENT
BEGIN:VEVENT
DTSTART;TZID=America/New_York:20260214T173000
DTEND;TZID=America/New_York:20260214T193000
DTSTAMP:20260424T105641
CREATED:20251104T140421Z
LAST-MODIFIED:20260108T215255Z
UID:10002250-1771090200-1771097400@www.artsquest.org
SUMMARY:C'est La Vie
DESCRIPTION:
URL:https://www.artsquest.org/event/cest-la-vie/
LOCATION:Williams Brew Stage\, 101 Founders Way\, Bethlehem\, PA\, 18015\, United States
CATEGORIES:Concerts,Free
ATTACH;FMTTYPE=image/jpeg:https://www.artsquest.org/app/uploads/2025/11/WBS_CestLaVie_1200x392.jpg
END:VEVENT
BEGIN:VEVENT
DTSTART;TZID=America/New_York:20260213T200000
DTEND;TZID=America/New_York:20260213T230000
DTSTAMP:20260424T105641
CREATED:20251007T185551Z
LAST-MODIFIED:20260129T195439Z
UID:10001700-1771012800-1771023600@www.artsquest.org
SUMMARY:Starting Tomorrow
DESCRIPTION:
URL:https://www.artsquest.org/event/starting-tomorrow/
LOCATION:Williams Brew Stage\, 101 Founders Way\, Bethlehem\, PA\, 18015\, United States
CATEGORIES:Concerts,Free
ATTACH;FMTTYPE=image/jpeg:https://www.artsquest.org/app/uploads/2025/10/WBS_StartingTomorrow_1920x1080.jpg
END:VEVENT
BEGIN:VEVENT
DTSTART;TZID=America/New_York:20260213T193000
DTEND;TZID=America/New_York:20260213T220000
DTSTAMP:20260424T105642
CREATED:20251117T150020Z
LAST-MODIFIED:20251201T211834Z
UID:10002378-1771011000-1771020000@www.artsquest.org
SUMMARY:Yacht Lobsters - Soft Rock of the 70's and 80's
DESCRIPTION:
URL:https://www.artsquest.org/event/yacht-lobsters-soft-rock-of-the-70s-and-80s/
LOCATION:Musikfest Café\, 101 Founders Way\, Bethlehem\, PA\, 18015\, United States
CATEGORIES:Concerts
ATTACH;FMTTYPE=image/jpeg:https://www.artsquest.org/app/uploads/2025/11/MFC_YachtLobsters_1200x392.jpg
END:VEVENT
BEGIN:VEVENT
DTSTART;TZID=America/New_York:20260212T140000
DTEND;TZID=America/New_York:20260212T160000
DTSTAMP:20260424T105642
CREATED:20250903T222600Z
LAST-MODIFIED:20260305T202132Z
UID:10002700-1770904800-1770912000@www.artsquest.org
SUMMARY:Open Mic Night
DESCRIPTION:
URL:https://www.artsquest.org/event/open-mic-night-2/2026-02-12/
LOCATION:Williams Brew Stage\, 101 Founders Way\, Bethlehem\, PA\, 18015\, United States
CATEGORIES:Concerts,Free
ATTACH;FMTTYPE=image/jpeg:https://www.artsquest.org/app/uploads/2025/09/WBS_OpenMicNight_1920x1080.jpg
END:VEVENT
BEGIN:VEVENT
DTSTART;TZID=America/New_York:20260207T190000
DTEND;TZID=America/New_York:20260207T220000
DTSTAMP:20260424T105642
CREATED:20251230T161322Z
LAST-MODIFIED:20251230T161322Z
UID:10002730-1770490800-1770501600@www.artsquest.org
SUMMARY:aGirl & aGuy
DESCRIPTION:
URL:https://www.artsquest.org/event/agirl-aguy-2/
LOCATION:Williams Brew Stage\, 101 Founders Way\, Bethlehem\, PA\, 18015\, United States
CATEGORIES:Concerts,Free
ATTACH;FMTTYPE=image/jpeg:https://www.artsquest.org/app/uploads/2025/10/WBS_agirlaguy_1200x392.jpg
END:VEVENT
BEGIN:VEVENT
DTSTART;TZID=America/New_York:20260206T200000
DTEND;TZID=America/New_York:20260206T230000
DTSTAMP:20260424T105642
CREATED:20251230T160548Z
LAST-MODIFIED:20251230T161216Z
UID:10002728-1770408000-1770418800@www.artsquest.org
SUMMARY:Honey & Nutz
DESCRIPTION:
URL:https://www.artsquest.org/event/honey-nutz/
LOCATION:Williams Brew Stage\, 101 Founders Way\, Bethlehem\, PA\, 18015\, United States
CATEGORIES:Concerts,Free
ATTACH;FMTTYPE=image/jpeg:https://www.artsquest.org/app/uploads/2025/11/WBS_HoneyandNutz_1200x392.jpg
END:VEVENT
END:VCALENDAR