BEGIN:VCALENDAR
VERSION:2.0
PRODID:-//ArtsQuest - ECPv6.15.5//NONSGML v1.0//EN
CALSCALE:GREGORIAN
METHOD:PUBLISH
X-WR-CALNAME:ArtsQuest
X-ORIGINAL-URL:https://www.artsquest.org
X-WR-CALDESC:Events for ArtsQuest
REFRESH-INTERVAL;VALUE=DURATION:PT1H
X-Robots-Tag:noindex
X-PUBLISHED-TTL:PT1H
BEGIN:VTIMEZONE
TZID:America/New_York
BEGIN:DAYLIGHT
TZOFFSETFROM:-0500
TZOFFSETTO:-0400
TZNAME:EDT
DTSTART:20260308T070000
END:DAYLIGHT
BEGIN:STANDARD
TZOFFSETFROM:-0400
TZOFFSETTO:-0500
TZNAME:EST
DTSTART:20261101T060000
END:STANDARD
END:VTIMEZONE
BEGIN:VEVENT
DTSTART;TZID=America/New_York:20260829T200000
DTEND;TZID=America/New_York:20260829T220000
DTSTAMP:20260422T190157
CREATED:20260406T140035Z
LAST-MODIFIED:20260420T134935Z
UID:10004102-1788033600-1788040800@www.artsquest.org
SUMMARY:THERE\, THERE - A Tribute to RADIOHEAD
DESCRIPTION:
URL:https://www.artsquest.org/event/there-there-a-tribute-to-radiohead/
LOCATION:Musikfest Café\, 101 Founders Way\, Bethlehem\, PA\, 18015\, United States
CATEGORIES:Concerts
ATTACH;FMTTYPE=image/jpeg:https://www.artsquest.org/app/uploads/2026/04/MFC_ThereThere_1920x1080.jpg
END:VEVENT
BEGIN:VEVENT
DTSTART;TZID=America/New_York:20260829T090000
DTEND;TZID=America/New_York:20260829T103000
DTSTAMP:20260422T190157
CREATED:20260302T171139Z
LAST-MODIFIED:20260302T171139Z
UID:10003417-1787994000-1787999400@www.artsquest.org
SUMMARY:The Rise and Fall of Bethlehem Steel Tour
DESCRIPTION:
URL:https://www.artsquest.org/event/the-rise-and-fall-of-bethlehem-steel-tour-8-29-26/
LOCATION:PA
CATEGORIES:Tours
ATTACH;FMTTYPE=image/jpeg:https://www.artsquest.org/app/uploads/2025/08/rise-fall-tour.jpg
END:VEVENT
BEGIN:VEVENT
DTSTART;VALUE=DATE:20260829
DTEND;VALUE=DATE:20260830
DTSTAMP:20260422T190158
CREATED:20260318T130923Z
LAST-MODIFIED:20260318T130923Z
UID:10003781-1787961600-1788047999@www.artsquest.org
SUMMARY:The Art of Doug Boehm
DESCRIPTION:
URL:https://www.artsquest.org/event/the-art-of-doug-boehm/2026-08-29/
LOCATION:ArtsQuest Center\, 101 Founders Way\, Bethlehem\, PA\, 18015\, United States
CATEGORIES:Exhibition
ATTACH;FMTTYPE=image/jpeg:https://www.artsquest.org/app/uploads/2026/03/EXB_DougBoehm_1920x1080.jpg
END:VEVENT
BEGIN:VEVENT
DTSTART;TZID=America/New_York:20260828T090000
DTEND;TZID=America/New_York:20260828T103000
DTSTAMP:20260422T190158
CREATED:20260302T171123Z
LAST-MODIFIED:20260302T171123Z
UID:10003416-1787907600-1787913000@www.artsquest.org
SUMMARY:The Rise and Fall of Bethlehem Steel Tour
DESCRIPTION:
URL:https://www.artsquest.org/event/the-rise-and-fall-of-bethlehem-steel-tour-8-28-26/
LOCATION:PA
CATEGORIES:Tours
ATTACH;FMTTYPE=image/jpeg:https://www.artsquest.org/app/uploads/2025/08/rise-fall-tour.jpg
END:VEVENT
BEGIN:VEVENT
DTSTART;VALUE=DATE:20260828
DTEND;VALUE=DATE:20260829
DTSTAMP:20260422T190158
CREATED:20260318T130923Z
LAST-MODIFIED:20260318T130923Z
UID:10003780-1787875200-1787961599@www.artsquest.org
SUMMARY:The Art of Doug Boehm
DESCRIPTION:
URL:https://www.artsquest.org/event/the-art-of-doug-boehm/2026-08-28/
LOCATION:ArtsQuest Center\, 101 Founders Way\, Bethlehem\, PA\, 18015\, United States
CATEGORIES:Exhibition
ATTACH;FMTTYPE=image/jpeg:https://www.artsquest.org/app/uploads/2026/03/EXB_DougBoehm_1920x1080.jpg
END:VEVENT
BEGIN:VEVENT
DTSTART;TZID=America/New_York:20260827T090000
DTEND;TZID=America/New_York:20260827T103000
DTSTAMP:20260422T190158
CREATED:20260302T171103Z
LAST-MODIFIED:20260302T171103Z
UID:10003415-1787821200-1787826600@www.artsquest.org
SUMMARY:The Rise and Fall of Bethlehem Steel Tour
DESCRIPTION:
URL:https://www.artsquest.org/event/the-rise-and-fall-of-bethlehem-steel-tour-8-27-26/
LOCATION:PA
CATEGORIES:Tours
ATTACH;FMTTYPE=image/jpeg:https://www.artsquest.org/app/uploads/2025/08/rise-fall-tour.jpg
END:VEVENT
BEGIN:VEVENT
DTSTART;VALUE=DATE:20260827
DTEND;VALUE=DATE:20260828
DTSTAMP:20260422T190158
CREATED:20260318T130923Z
LAST-MODIFIED:20260318T130923Z
UID:10003779-1787788800-1787875199@www.artsquest.org
SUMMARY:The Art of Doug Boehm
DESCRIPTION:
URL:https://www.artsquest.org/event/the-art-of-doug-boehm/2026-08-27/
LOCATION:ArtsQuest Center\, 101 Founders Way\, Bethlehem\, PA\, 18015\, United States
CATEGORIES:Exhibition
ATTACH;FMTTYPE=image/jpeg:https://www.artsquest.org/app/uploads/2026/03/EXB_DougBoehm_1920x1080.jpg
END:VEVENT
BEGIN:VEVENT
DTSTART;VALUE=DATE:20260826
DTEND;VALUE=DATE:20260827
DTSTAMP:20260422T190158
CREATED:20260318T130923Z
LAST-MODIFIED:20260318T130923Z
UID:10003778-1787702400-1787788799@www.artsquest.org
SUMMARY:The Art of Doug Boehm
DESCRIPTION:
URL:https://www.artsquest.org/event/the-art-of-doug-boehm/2026-08-26/
LOCATION:ArtsQuest Center\, 101 Founders Way\, Bethlehem\, PA\, 18015\, United States
CATEGORIES:Exhibition
ATTACH;FMTTYPE=image/jpeg:https://www.artsquest.org/app/uploads/2026/03/EXB_DougBoehm_1920x1080.jpg
END:VEVENT
BEGIN:VEVENT
DTSTART;TZID=America/New_York:20260825T183000
DTEND;TZID=America/New_York:20260825T220000
DTSTAMP:20260422T190158
CREATED:20260120T150046Z
LAST-MODIFIED:20260305T140112Z
UID:10002929-1787682600-1787695200@www.artsquest.org
SUMMARY:Blues Traveler and Gin Blossoms with Spin Doctors
DESCRIPTION:
URL:https://www.artsquest.org/event/blues-traveler-and-gin-blossoms-with-spin-doctors/
LOCATION:SteelStacks\, 101 Founders Way\, Bethlehem\, PA\, 18015\, United States
CATEGORIES:Concerts
ATTACH;FMTTYPE=image/jpeg:https://www.artsquest.org/app/uploads/2026/01/LP_BT_GB_SD_1200x392.jpg
END:VEVENT
BEGIN:VEVENT
DTSTART;VALUE=DATE:20260825
DTEND;VALUE=DATE:20260826
DTSTAMP:20260422T190158
CREATED:20260318T130923Z
LAST-MODIFIED:20260318T130923Z
UID:10003777-1787616000-1787702399@www.artsquest.org
SUMMARY:The Art of Doug Boehm
DESCRIPTION:
URL:https://www.artsquest.org/event/the-art-of-doug-boehm/2026-08-25/
LOCATION:ArtsQuest Center\, 101 Founders Way\, Bethlehem\, PA\, 18015\, United States
CATEGORIES:Exhibition
ATTACH;FMTTYPE=image/jpeg:https://www.artsquest.org/app/uploads/2026/03/EXB_DougBoehm_1920x1080.jpg
END:VEVENT
BEGIN:VEVENT
DTSTART;TZID=America/New_York:20260824T150000
DTEND;TZID=America/New_York:20260824T170000
DTSTAMP:20260422T190158
CREATED:20260413T140005Z
LAST-MODIFIED:20260414T135612Z
UID:10004159-1787583600-1787590800@www.artsquest.org
SUMMARY:Open Screenings
DESCRIPTION:
URL:https://www.artsquest.org/event/open-screenings-2/
LOCATION:Frank Banko Alehouse Cinemas\, 101 Founders Way\, Bethlehem\, PA\, 18015\, United States
CATEGORIES:Film
ATTACH;FMTTYPE=image/jpeg:https://www.artsquest.org/app/uploads/2026/04/openscreening_1920x1080-scaled.jpg
END:VEVENT
BEGIN:VEVENT
DTSTART;VALUE=DATE:20260824
DTEND;VALUE=DATE:20260825
DTSTAMP:20260422T190158
CREATED:20260318T130923Z
LAST-MODIFIED:20260318T130923Z
UID:10003776-1787529600-1787615999@www.artsquest.org
SUMMARY:The Art of Doug Boehm
DESCRIPTION:
URL:https://www.artsquest.org/event/the-art-of-doug-boehm/2026-08-24/
LOCATION:ArtsQuest Center\, 101 Founders Way\, Bethlehem\, PA\, 18015\, United States
CATEGORIES:Exhibition
ATTACH;FMTTYPE=image/jpeg:https://www.artsquest.org/app/uploads/2026/03/EXB_DougBoehm_1920x1080.jpg
END:VEVENT
BEGIN:VEVENT
DTSTART;TZID=America/New_York:20260823T090000
DTEND;TZID=America/New_York:20260823T103000
DTSTAMP:20260422T190158
CREATED:20260302T171046Z
LAST-MODIFIED:20260302T171046Z
UID:10003414-1787475600-1787481000@www.artsquest.org
SUMMARY:The Rise and Fall of Bethlehem Steel Tour
DESCRIPTION:
URL:https://www.artsquest.org/event/the-rise-and-fall-of-bethlehem-steel-tour-8-23-26/
LOCATION:PA
CATEGORIES:Tours
ATTACH;FMTTYPE=image/jpeg:https://www.artsquest.org/app/uploads/2025/08/rise-fall-tour.jpg
END:VEVENT
BEGIN:VEVENT
DTSTART;VALUE=DATE:20260823
DTEND;VALUE=DATE:20260824
DTSTAMP:20260422T190158
CREATED:20260318T130923Z
LAST-MODIFIED:20260318T130923Z
UID:10003775-1787443200-1787529599@www.artsquest.org
SUMMARY:The Art of Doug Boehm
DESCRIPTION:
URL:https://www.artsquest.org/event/the-art-of-doug-boehm/2026-08-23/
LOCATION:ArtsQuest Center\, 101 Founders Way\, Bethlehem\, PA\, 18015\, United States
CATEGORIES:Exhibition
ATTACH;FMTTYPE=image/jpeg:https://www.artsquest.org/app/uploads/2026/03/EXB_DougBoehm_1920x1080.jpg
END:VEVENT
BEGIN:VEVENT
DTSTART;TZID=America/New_York:20260822T210000
DTEND;TZID=America/New_York:20260822T230000
DTSTAMP:20260422T190158
CREATED:20260422T134923Z
LAST-MODIFIED:20260422T141025Z
UID:10005003-1787432400-1787439600@www.artsquest.org
SUMMARY:Adam and the Armadillos
DESCRIPTION:
URL:https://www.artsquest.org/event/adam-and-the-armadillos/
LOCATION:Highmark Blue Shield Community Stage on the Air Products Town Square\, 101 Founders Way\, Bethlehem\, PA\, 18015\, United States
CATEGORIES:Concerts,Free
ATTACH;FMTTYPE=image/jpeg:https://www.artsquest.org/app/uploads/2026/04/countryfest_adam-armadilos_1920x1080-1.jpg
END:VEVENT
BEGIN:VEVENT
DTSTART;TZID=America/New_York:20260822T200000
DTEND;TZID=America/New_York:20260822T220000
DTSTAMP:20260422T190158
CREATED:20260216T150014Z
LAST-MODIFIED:20260318T135723Z
UID:10003265-1787428800-1787436000@www.artsquest.org
SUMMARY:Green River - Tribute to Creedence Clearwater Revival & John Fogerty
DESCRIPTION:
URL:https://www.artsquest.org/event/green-river-tribute-to-creedence-clearwater-revival-john-fogerty/
LOCATION:Musikfest Café\, 101 Founders Way\, Bethlehem\, PA\, 18015\, United States
CATEGORIES:Concerts
ATTACH;FMTTYPE=image/jpeg:https://www.artsquest.org/app/uploads/2026/02/MFC_GreenRiver2_1920x1080.jpg
END:VEVENT
BEGIN:VEVENT
DTSTART;TZID=America/New_York:20260822T193000
DTEND;TZID=America/New_York:20260822T210000
DTSTAMP:20260422T190158
CREATED:20260422T134845Z
LAST-MODIFIED:20260422T140538Z
UID:10005006-1787427000-1787432400@www.artsquest.org
SUMMARY:Lainey Nation - A Tribute to Lainey Wilson
DESCRIPTION:
URL:https://www.artsquest.org/event/lainey-nation-a-tribute-to-lainey-wilson/
LOCATION:Levitt Pavilion SteelStacks\, 789 E 1st St\, Bethlehem\, PA\, 18015
CATEGORIES:Concerts,Free
ATTACH;FMTTYPE=image/jpeg:https://www.artsquest.org/app/uploads/2026/04/Levitt_Lainey-nation_1920x1080.jpg
END:VEVENT
BEGIN:VEVENT
DTSTART;TZID=America/New_York:20260822T183000
DTEND;TZID=America/New_York:20260822T193000
DTSTAMP:20260422T190158
CREATED:20260422T134814Z
LAST-MODIFIED:20260422T134814Z
UID:10005002-1787423400-1787427000@www.artsquest.org
SUMMARY:Peytan Porter
DESCRIPTION:
URL:https://www.artsquest.org/event/peytan-porter/
LOCATION:Highmark Blue Shield Community Stage on the Air Products Town Square\, 101 Founders Way\, Bethlehem\, PA\, 18015\, United States
CATEGORIES:Concerts,Free
ATTACH;FMTTYPE=image/jpeg:https://www.artsquest.org/app/uploads/2026/04/countryfest_peytan-porter_1920x1080.jpg
END:VEVENT
BEGIN:VEVENT
DTSTART;TZID=America/New_York:20260822T170000
DTEND;TZID=America/New_York:20260822T183000
DTSTAMP:20260422T190158
CREATED:20260422T134726Z
LAST-MODIFIED:20260422T134726Z
UID:10005005-1787418000-1787423400@www.artsquest.org
SUMMARY:Clayton Mullen
DESCRIPTION:
URL:https://www.artsquest.org/event/clayton-mullen/
LOCATION:Levitt Pavilion SteelStacks\, 789 E 1st St\, Bethlehem\, PA\, 18015
CATEGORIES:Concerts,Free
ATTACH;FMTTYPE=image/jpeg:https://www.artsquest.org/app/uploads/2026/04/countryfest_clayton-mullen_1920x1080.jpg
END:VEVENT
BEGIN:VEVENT
DTSTART;TZID=America/New_York:20260822T160000
DTEND;TZID=America/New_York:20260822T170000
DTSTAMP:20260422T190158
CREATED:20260422T134639Z
LAST-MODIFIED:20260422T141607Z
UID:10005001-1787414400-1787418000@www.artsquest.org
SUMMARY:Luke Borchelt
DESCRIPTION:
URL:https://www.artsquest.org/event/luke-borchelt/
LOCATION:Highmark Blue Shield Community Stage on the Air Products Town Square\, 101 Founders Way\, Bethlehem\, PA\, 18015\, United States
CATEGORIES:Concerts,Free
ATTACH;FMTTYPE=image/jpeg:https://www.artsquest.org/app/uploads/2026/04/countryfest_luke-borchelt_1920x1080.jpg
END:VEVENT
BEGIN:VEVENT
DTSTART;TZID=America/New_York:20260822T090000
DTEND;TZID=America/New_York:20260822T103000
DTSTAMP:20260422T190158
CREATED:20260302T170939Z
LAST-MODIFIED:20260302T170939Z
UID:10003413-1787389200-1787394600@www.artsquest.org
SUMMARY:The Rise and Fall of Bethlehem Steel Tour
DESCRIPTION:
URL:https://www.artsquest.org/event/the-rise-and-fall-of-bethlehem-steel-tour-8-22-26/
LOCATION:PA
CATEGORIES:Tours
ATTACH;FMTTYPE=image/jpeg:https://www.artsquest.org/app/uploads/2025/08/rise-fall-tour.jpg
END:VEVENT
BEGIN:VEVENT
DTSTART;VALUE=DATE:20260822
DTEND;VALUE=DATE:20260823
DTSTAMP:20260422T190158
CREATED:20260318T130923Z
LAST-MODIFIED:20260318T130923Z
UID:10003774-1787356800-1787443199@www.artsquest.org
SUMMARY:The Art of Doug Boehm
DESCRIPTION:
URL:https://www.artsquest.org/event/the-art-of-doug-boehm/2026-08-22/
LOCATION:ArtsQuest Center\, 101 Founders Way\, Bethlehem\, PA\, 18015\, United States
CATEGORIES:Exhibition
ATTACH;FMTTYPE=image/jpeg:https://www.artsquest.org/app/uploads/2026/03/EXB_DougBoehm_1920x1080.jpg
END:VEVENT
BEGIN:VEVENT
DTSTART;TZID=America/New_York:20260821T210000
DTEND;TZID=America/New_York:20260821T230000
DTSTAMP:20260422T190158
CREATED:20260422T134529Z
LAST-MODIFIED:20260422T134529Z
UID:10004999-1787346000-1787353200@www.artsquest.org
SUMMARY:Whiskey and Roses
DESCRIPTION:
URL:https://www.artsquest.org/event/whiskey-and-roses/
LOCATION:Highmark Blue Shield Community Stage on the Air Products Town Square\, 101 Founders Way\, Bethlehem\, PA\, 18015\, United States
CATEGORIES:Concerts,Free
ATTACH;FMTTYPE=image/jpeg:https://www.artsquest.org/app/uploads/2026/04/countryfest_whiskey-roses_1920x1080.jpg
END:VEVENT
BEGIN:VEVENT
DTSTART;TZID=America/New_York:20260821T210000
DTEND;TZID=America/New_York:20260821T214000
DTSTAMP:20260422T190158
CREATED:20260422T134324Z
LAST-MODIFIED:20260422T134324Z
UID:10004998-1787346000-1787348400@www.artsquest.org
SUMMARY:Stomp and Shine (Line Dance Lessons with Whiskey and Roses)
DESCRIPTION:
URL:https://www.artsquest.org/event/stomp-and-shine-line-dance-lessons-with-whiskey-and-roses/
LOCATION:Highmark Blue Shield Community Stage on the Air Products Town Square\, 101 Founders Way\, Bethlehem\, PA\, 18015\, United States
CATEGORIES:Concerts,Free
ATTACH;FMTTYPE=image/jpeg:https://www.artsquest.org/app/uploads/2026/04/countryfest_stomp-shine_1920x1080.jpg
END:VEVENT
BEGIN:VEVENT
DTSTART;TZID=America/New_York:20260821T200000
DTEND;TZID=America/New_York:20260821T220000
DTSTAMP:20260422T190158
CREATED:20260217T150047Z
LAST-MODIFIED:20260226T195641Z
UID:10003264-1787342400-1787349600@www.artsquest.org
SUMMARY:Steve Earle - 51 Years of Songs & Stories
DESCRIPTION:
URL:https://www.artsquest.org/event/steve-earle-51-years-of-songs-stories/
LOCATION:Musikfest Café\, 101 Founders Way\, Bethlehem\, PA\, 18015\, United States
CATEGORIES:Concerts
ATTACH;FMTTYPE=image/jpeg:https://www.artsquest.org/app/uploads/2026/02/MFC_SteveEarl_1920x1080.jpg
END:VEVENT
BEGIN:VEVENT
DTSTART;TZID=America/New_York:20260821T193000
DTEND;TZID=America/New_York:20260821T210000
DTSTAMP:20260422T190158
CREATED:20260422T134247Z
LAST-MODIFIED:20260422T140233Z
UID:10005004-1787340600-1787346000@www.artsquest.org
SUMMARY:Kevin Kenny - The Chesney Show
DESCRIPTION:
URL:https://www.artsquest.org/event/kevin-kenny-the-chesney-show/
LOCATION:Levitt Pavilion SteelStacks\, 789 E 1st St\, Bethlehem\, PA\, 18015
CATEGORIES:Concerts,Free
ATTACH;FMTTYPE=image/jpeg:https://www.artsquest.org/app/uploads/2026/04/Levitt_Kevin-kenny_1920x1080-1.jpg
END:VEVENT
BEGIN:VEVENT
DTSTART;TZID=America/New_York:20260821T180000
DTEND;TZID=America/New_York:20260821T210000
DTSTAMP:20260422T190158
CREATED:20260406T150811Z
LAST-MODIFIED:20260406T152621Z
UID:10004097-1787335200-1787346000@www.artsquest.org
SUMMARY:Carbon Leaf with Fig for a Kiss
DESCRIPTION:
URL:https://www.artsquest.org/event/carbon-leaf-with-fig-for-a-kiss/
LOCATION:Union Terrace Amphitheater\, 200 S St Elmo St\, Allentown\, PA\, 18104\, United States
CATEGORIES:Concerts,Free
ATTACH;FMTTYPE=image/jpeg:https://www.artsquest.org/app/uploads/2026/04/UT_carbon-leaf-1920x1080-1.jpg
END:VEVENT
BEGIN:VEVENT
DTSTART;TZID=America/New_York:20260821T180000
DTEND;TZID=America/New_York:20260821T191500
DTSTAMP:20260422T190158
CREATED:20260422T134126Z
LAST-MODIFIED:20260422T134202Z
UID:10004997-1787335200-1787339700@www.artsquest.org
SUMMARY:Erin Kelly
DESCRIPTION:
URL:https://www.artsquest.org/event/erin-kelly/
LOCATION:Highmark Blue Shield Community Stage on the Air Products Town Square\, 101 Founders Way\, Bethlehem\, PA\, 18015\, United States
CATEGORIES:Concerts,Free
ATTACH;FMTTYPE=image/jpeg:https://www.artsquest.org/app/uploads/2026/04/countryfest_erin-kelly_1920x1080.jpg
END:VEVENT
BEGIN:VEVENT
DTSTART;TZID=America/New_York:20260821T090000
DTEND;TZID=America/New_York:20260821T103000
DTSTAMP:20260422T190158
CREATED:20260302T170920Z
LAST-MODIFIED:20260302T170920Z
UID:10003412-1787302800-1787308200@www.artsquest.org
SUMMARY:The Rise and Fall of Bethlehem Steel Tour
DESCRIPTION:
URL:https://www.artsquest.org/event/the-rise-and-fall-of-bethlehem-steel-tour-8-21-26/
LOCATION:PA
CATEGORIES:Tours
ATTACH;FMTTYPE=image/jpeg:https://www.artsquest.org/app/uploads/2025/08/rise-fall-tour.jpg
END:VEVENT
BEGIN:VEVENT
DTSTART;VALUE=DATE:20260821
DTEND;VALUE=DATE:20260822
DTSTAMP:20260422T190158
CREATED:20260318T130923Z
LAST-MODIFIED:20260318T130923Z
UID:10003773-1787270400-1787356799@www.artsquest.org
SUMMARY:The Art of Doug Boehm
DESCRIPTION:
URL:https://www.artsquest.org/event/the-art-of-doug-boehm/2026-08-21/
LOCATION:ArtsQuest Center\, 101 Founders Way\, Bethlehem\, PA\, 18015\, United States
CATEGORIES:Exhibition
ATTACH;FMTTYPE=image/jpeg:https://www.artsquest.org/app/uploads/2026/03/EXB_DougBoehm_1920x1080.jpg
END:VEVENT
END:VCALENDAR