BEGIN:VCALENDAR
VERSION:2.0
PRODID:-//ArtsQuest - ECPv6.15.5//NONSGML v1.0//EN
CALSCALE:GREGORIAN
METHOD:PUBLISH
X-ORIGINAL-URL:https://www.artsquest.org
X-WR-CALDESC:Events for ArtsQuest
REFRESH-INTERVAL;VALUE=DURATION:PT1H
X-Robots-Tag:noindex
X-PUBLISHED-TTL:PT1H
BEGIN:VTIMEZONE
TZID:America/New_York
BEGIN:DAYLIGHT
TZOFFSETFROM:-0500
TZOFFSETTO:-0400
TZNAME:EDT
DTSTART:20260308T070000
END:DAYLIGHT
BEGIN:STANDARD
TZOFFSETFROM:-0400
TZOFFSETTO:-0500
TZNAME:EST
DTSTART:20261101T060000
END:STANDARD
END:VTIMEZONE
BEGIN:VEVENT
DTSTART;TZID=America/New_York:20260423T123000
DTEND;TZID=America/New_York:20260423T142400
DTSTAMP:20260423T095352
CREATED:20260414T160255Z
LAST-MODIFIED:20260414T160255Z
UID:10004970-1776947400-1776954240@www.artsquest.org
SUMMARY:Reminders of Him
DESCRIPTION:
URL:https://www.artsquest.org/event/reminders-of-him-7/
LOCATION:Frank Banko Alehouse Cinemas\, 101 Founders Way\, Bethlehem\, PA\, 18015\, United States
CATEGORIES:Film
ATTACH;FMTTYPE=image/jpeg:https://www.artsquest.org/app/uploads/2026/04/FILM_RemindersOfHim_1920x1080.jpg
END:VEVENT
BEGIN:VEVENT
DTSTART;TZID=America/New_York:20260423T130000
DTEND;TZID=America/New_York:20260423T151000
DTSTAMP:20260423T095352
CREATED:20260326T140028Z
LAST-MODIFIED:20260319T195925Z
UID:10003929-1776949200-1776957000@www.artsquest.org
SUMMARY:Michael
DESCRIPTION:
URL:https://www.artsquest.org/event/michael/
LOCATION:Frank Banko Alehouse Cinemas\, 101 Founders Way\, Bethlehem\, PA\, 18015\, United States
CATEGORIES:Film
ATTACH;FMTTYPE=image/jpeg:https://www.artsquest.org/app/uploads/2026/03/FILM_Michael_1920x1080.jpg
END:VEVENT
BEGIN:VEVENT
DTSTART;TZID=America/New_York:20260423T150000
DTEND;TZID=America/New_York:20260423T164500
DTSTAMP:20260423T095352
CREATED:20260414T162232Z
LAST-MODIFIED:20260414T162232Z
UID:10004987-1776956400-1776962700@www.artsquest.org
SUMMARY:You\, Me & Tuscany
DESCRIPTION:
URL:https://www.artsquest.org/event/you-me-tuscany-36/
LOCATION:Frank Banko Alehouse Cinemas\, 101 Founders Way\, Bethlehem\, PA\, 18015\, United States
CATEGORIES:Film
ATTACH;FMTTYPE=image/jpeg:https://www.artsquest.org/app/uploads/2026/04/FILM_YouMeTuscany_1920x1080.jpg
END:VEVENT
BEGIN:VEVENT
DTSTART;TZID=America/New_York:20260423T150000
DTEND;TZID=America/New_York:20260423T180000
DTSTAMP:20260423T095352
CREATED:20250903T222600Z
LAST-MODIFIED:20260305T202132Z
UID:10002705-1776956400-1776967200@www.artsquest.org
SUMMARY:Open Mic Night
DESCRIPTION:
URL:https://www.artsquest.org/event/open-mic-night-2/2026-04-23/
LOCATION:Williams Brew Stage\, 101 Founders Way\, Bethlehem\, PA\, 18015\, United States
CATEGORIES:Concerts,Free
ATTACH;FMTTYPE=image/jpeg:https://www.artsquest.org/app/uploads/2025/09/WBS_OpenMicNight_1920x1080.jpg
END:VEVENT
BEGIN:VEVENT
DTSTART;TZID=America/New_York:20260423T161500
DTEND;TZID=America/New_York:20260423T182500
DTSTAMP:20260423T095352
CREATED:20260326T140036Z
LAST-MODIFIED:20260319T200039Z
UID:10003932-1776960900-1776968700@www.artsquest.org
SUMMARY:Michael
DESCRIPTION:
URL:https://www.artsquest.org/event/michael-2/
LOCATION:Frank Banko Alehouse Cinemas\, 101 Founders Way\, Bethlehem\, PA\, 18015\, United States
CATEGORIES:Film
ATTACH;FMTTYPE=image/jpeg:https://www.artsquest.org/app/uploads/2026/03/FILM_Michael_1920x1080.jpg
END:VEVENT
BEGIN:VEVENT
DTSTART;TZID=America/New_York:20260423T173000
DTEND;TZID=America/New_York:20260423T191500
DTSTAMP:20260423T095352
CREATED:20260414T162303Z
LAST-MODIFIED:20260414T180702Z
UID:10004988-1776965400-1776971700@www.artsquest.org
SUMMARY:You\, Me & Tuscany
DESCRIPTION:
URL:https://www.artsquest.org/event/you-me-tuscany-37/
LOCATION:Frank Banko Alehouse Cinemas\, 101 Founders Way\, Bethlehem\, PA\, 18015\, United States
CATEGORIES:Film
ATTACH;FMTTYPE=image/jpeg:https://www.artsquest.org/app/uploads/2026/04/FILM_YouMeTuscany_1920x1080.jpg
END:VEVENT
BEGIN:VEVENT
DTSTART;TZID=America/New_York:20260423T193000
DTEND;TZID=America/New_York:20260423T214000
DTSTAMP:20260423T095352
CREATED:20260326T140000Z
LAST-MODIFIED:20260319T200136Z
UID:10003933-1776972600-1776980400@www.artsquest.org
SUMMARY:Michael
DESCRIPTION:
URL:https://www.artsquest.org/event/michael-3/
LOCATION:Frank Banko Alehouse Cinemas\, 101 Founders Way\, Bethlehem\, PA\, 18015\, United States
CATEGORIES:Film
ATTACH;FMTTYPE=image/jpeg:https://www.artsquest.org/app/uploads/2026/03/FILM_Michael_1920x1080.jpg
END:VEVENT
BEGIN:VEVENT
DTSTART;TZID=America/New_York:20260423T193000
DTEND;TZID=America/New_York:20260423T220000
DTSTAMP:20260423T095352
CREATED:20251013T144558Z
LAST-MODIFIED:20260318T140515Z
UID:10002036-1776972600-1776981600@www.artsquest.org
SUMMARY:FEMMES OF ROCK
DESCRIPTION:
URL:https://www.artsquest.org/event/femmes-of-rock/
LOCATION:Musikfest Café\, 101 Founders Way\, Bethlehem\, PA\, 18015\, United States
CATEGORIES:Concerts
ATTACH;FMTTYPE=image/jpeg:https://www.artsquest.org/app/uploads/2025/10/MFC_FemmesOfRock2_1920x1080.jpg
END:VEVENT
BEGIN:VEVENT
DTSTART;TZID=America/New_York:20260423T200000
DTEND;TZID=America/New_York:20260423T220000
DTSTAMP:20260423T095352
CREATED:20260325T140039Z
LAST-MODIFIED:20260414T154819Z
UID:10003931-1776974400-1776981600@www.artsquest.org
SUMMARY:Taxi Driver (50th Anniversary)
DESCRIPTION:
URL:https://www.artsquest.org/event/taxi-driver-50th-anniversary-2/
LOCATION:Frank Banko Alehouse Cinemas\, 101 Founders Way\, Bethlehem\, PA\, 18015\, United States
CATEGORIES:Film
ATTACH;FMTTYPE=image/jpeg:https://www.artsquest.org/app/uploads/2026/03/FILM_TaxiDriver_1920x1080.jpg
END:VEVENT
BEGIN:VEVENT
DTSTART;VALUE=DATE:20260424
DTEND;VALUE=DATE:20260425
DTSTAMP:20260423T095352
CREATED:20260203T193157Z
LAST-MODIFIED:20260204T141508Z
UID:10003192-1776988800-1777075199@www.artsquest.org
SUMMARY:Roger Hane: Selected Works
DESCRIPTION:
URL:https://www.artsquest.org/event/roger-hane-selected-works/2026-04-24/
LOCATION:ArtsQuest Center\, 101 Founders Way\, Bethlehem\, PA\, 18015\, United States
CATEGORIES:Exhibition
ATTACH;FMTTYPE=image/jpeg:https://www.artsquest.org/app/uploads/2026/02/roger-hane-exhibition-1920x1080-2.jpg
END:VEVENT
BEGIN:VEVENT
DTSTART;TZID=America/New_York:20260424T110000
DTEND;TZID=America/New_York:20260424T133000
DTSTAMP:20260423T095352
CREATED:20260319T150417Z
LAST-MODIFIED:20260319T150417Z
UID:10003888-1777028400-1777037400@www.artsquest.org
SUMMARY:Steelworkers’ Archives Walking Tours
DESCRIPTION:https://secure.artsquest.org/Online/seatSelect.asp?createBO::WSmap=1&BOparam::WSmap::loadBestAvailable::performance_ids=59D77E2D-5558-47B5-8FC3-9F8C10F49620
URL:https://www.artsquest.org/event/steelworkers-archives-walking-tours-4-24-26/
LOCATION:PA
CATEGORIES:Tours
ATTACH;FMTTYPE=image/png:https://www.artsquest.org/app/uploads/2025/10/Steelworkers-Archives-Walking-Tours-1200x392-1.png
END:VEVENT
BEGIN:VEVENT
DTSTART;TZID=America/New_York:20260424T123000
DTEND;TZID=America/New_York:20260424T144000
DTSTAMP:20260423T095352
CREATED:20260421T152619Z
LAST-MODIFIED:20260421T152619Z
UID:10005036-1777033800-1777041600@www.artsquest.org
SUMMARY:Michael
DESCRIPTION:
URL:https://www.artsquest.org/event/michael-25/
LOCATION:Frank Banko Alehouse Cinemas\, 101 Founders Way\, Bethlehem\, PA\, 18015\, United States
CATEGORIES:Film
ATTACH;FMTTYPE=image/jpeg:https://www.artsquest.org/app/uploads/2026/03/FILM_Michael_1920x1080.jpg
END:VEVENT
BEGIN:VEVENT
DTSTART;TZID=America/New_York:20260424T130000
DTEND;TZID=America/New_York:20260424T143000
DTSTAMP:20260423T095352
CREATED:20260225T163052Z
LAST-MODIFIED:20260225T163052Z
UID:10003336-1777035600-1777041000@www.artsquest.org
SUMMARY:The Rise and Fall of Bethlehem Steel Tour
DESCRIPTION:
URL:https://www.artsquest.org/event/the-rise-and-fall-of-bethlehem-steel-tour-4-24-26/
LOCATION:PA
CATEGORIES:Tours
ATTACH;FMTTYPE=image/jpeg:https://www.artsquest.org/app/uploads/2025/08/rise-fall-tour.jpg
END:VEVENT
BEGIN:VEVENT
DTSTART;TZID=America/New_York:20260424T133000
DTEND;TZID=America/New_York:20260424T154000
DTSTAMP:20260423T095352
CREATED:20260326T140046Z
LAST-MODIFIED:20260319T200307Z
UID:10003934-1777037400-1777045200@www.artsquest.org
SUMMARY:Michael
DESCRIPTION:
URL:https://www.artsquest.org/event/michael-4/
LOCATION:Frank Banko Alehouse Cinemas\, 101 Founders Way\, Bethlehem\, PA\, 18015\, United States
CATEGORIES:Film
ATTACH;FMTTYPE=image/jpeg:https://www.artsquest.org/app/uploads/2026/03/FILM_Michael_1920x1080.jpg
END:VEVENT
BEGIN:VEVENT
DTSTART;TZID=America/New_York:20260424T160000
DTEND;TZID=America/New_York:20260424T175000
DTSTAMP:20260423T095352
CREATED:20260330T140031Z
LAST-MODIFIED:20260421T190002Z
UID:10003970-1777046400-1777053000@www.artsquest.org
SUMMARY:Lumière\, Le Cinéma!
DESCRIPTION:
URL:https://www.artsquest.org/event/lumiere-le-cinema/
LOCATION:Frank Banko Alehouse Cinemas\, 101 Founders Way\, Bethlehem\, PA\, 18015\, United States
CATEGORIES:Film
ATTACH;FMTTYPE=image/jpeg:https://www.artsquest.org/app/uploads/2026/03/FILM_LeCinema_1920x1080.jpg
END:VEVENT
BEGIN:VEVENT
DTSTART;TZID=America/New_York:20260424T163000
DTEND;TZID=America/New_York:20260424T184000
DTSTAMP:20260423T095352
CREATED:20260326T140018Z
LAST-MODIFIED:20260319T200443Z
UID:10003935-1777048200-1777056000@www.artsquest.org
SUMMARY:Michael
DESCRIPTION:
URL:https://www.artsquest.org/event/michael-5/
LOCATION:Frank Banko Alehouse Cinemas\, 101 Founders Way\, Bethlehem\, PA\, 18015\, United States
CATEGORIES:Film
ATTACH;FMTTYPE=image/jpeg:https://www.artsquest.org/app/uploads/2026/03/FILM_Michael_1920x1080.jpg
END:VEVENT
BEGIN:VEVENT
DTSTART;TZID=America/New_York:20260424T190000
DTEND;TZID=America/New_York:20260424T201000
DTSTAMP:20260423T095352
CREATED:20260326T140002Z
LAST-MODIFIED:20260319T200533Z
UID:10003936-1777057200-1777061400@www.artsquest.org
SUMMARY:Michael
DESCRIPTION:
URL:https://www.artsquest.org/event/michael-6/
LOCATION:Frank Banko Alehouse Cinemas\, 101 Founders Way\, Bethlehem\, PA\, 18015\, United States
CATEGORIES:Film
ATTACH;FMTTYPE=image/jpeg:https://www.artsquest.org/app/uploads/2026/03/FILM_Michael_1920x1080.jpg
END:VEVENT
BEGIN:VEVENT
DTSTART;TZID=America/New_York:20260424T190000
DTEND;TZID=America/New_York:20260424T220000
DTSTAMP:20260423T095352
CREATED:20251027T205134Z
LAST-MODIFIED:20260126T181049Z
UID:10002158-1777057200-1777068000@www.artsquest.org
SUMMARY:Dina Hall Trio
DESCRIPTION:
URL:https://www.artsquest.org/event/dina-hall/
LOCATION:Williams Brew Stage\, 101 Founders Way\, Bethlehem\, PA\, 18015\, United States
CATEGORIES:Concerts,Free
ATTACH;FMTTYPE=image/jpeg:https://www.artsquest.org/app/uploads/2025/10/WBS_DinaHall2_1200x392.jpg
END:VEVENT
BEGIN:VEVENT
DTSTART;TZID=America/New_York:20260424T193000
DTEND;TZID=America/New_York:20260424T213000
DTSTAMP:20260423T095352
CREATED:20260320T150129Z
LAST-MODIFIED:20260323T163304Z
UID:10003798-1777059000-1777066200@www.artsquest.org
SUMMARY:Student Showcase w/Literary Arts Majors at The Lehigh Valley Charter High School for the Arts
DESCRIPTION:
URL:https://www.artsquest.org/event/student-showcase-w-literary-arts-majors-at-the-lehigh-valley-charter-high-school-for-the-arts/
LOCATION:Frank Banko Alehouse Cinemas\, 101 Founders Way\, Bethlehem\, PA\, 18015\, United States
CATEGORIES:Festival,Film
ATTACH;FMTTYPE=image/jpeg:https://www.artsquest.org/app/uploads/2026/03/GLVFF_showcase-scaled.jpg
END:VEVENT
BEGIN:VEVENT
DTSTART;TZID=America/New_York:20260424T193000
DTEND;TZID=America/New_York:20260426T235900
DTSTAMP:20260423T095352
CREATED:20250909T004032Z
LAST-MODIFIED:20260323T143203Z
UID:10001292-1777059000-1777247940@www.artsquest.org
SUMMARY:Greater Lehigh Valley Filmmaker Festival
DESCRIPTION:
URL:https://www.artsquest.org/event/greater-lehigh-valley-filmmaker-festival/
LOCATION:Frank Banko Alehouse Cinemas\, 101 Founders Way\, Bethlehem\, PA\, 18015\, United States
CATEGORIES:Festival,Film
ATTACH;FMTTYPE=image/png:https://www.artsquest.org/app/uploads/2025/09/GLVFF_gridcrop-1-scaled.png
END:VEVENT
BEGIN:VEVENT
DTSTART;TZID=America/New_York:20260424T200000
DTEND;TZID=America/New_York:20260424T210000
DTSTAMP:20260423T095352
CREATED:20251201T182735Z
LAST-MODIFIED:20251205T202512Z
UID:10002481-1777060800-1777064400@www.artsquest.org
SUMMARY:COBRA
DESCRIPTION:
URL:https://www.artsquest.org/event/cobra-6/
LOCATION:Bethlehem Visitor Center at SteelStacks pres. by Lehigh Valley Health Network\, 711 E. First St.\, Bethlehem\, PA\, 18015\, United States
CATEGORIES:Comedy
ATTACH;FMTTYPE=image/jpeg:https://www.artsquest.org/app/uploads/2025/09/2025_COM_Cobra_1280x720.jpg
END:VEVENT
BEGIN:VEVENT
DTSTART;TZID=America/New_York:20260424T214500
DTEND;TZID=America/New_York:20260424T235000
DTSTAMP:20260423T095352
CREATED:20260326T140047Z
LAST-MODIFIED:20260319T200617Z
UID:10003937-1777067100-1777074600@www.artsquest.org
SUMMARY:Michael
DESCRIPTION:
URL:https://www.artsquest.org/event/michael-7/
LOCATION:Frank Banko Alehouse Cinemas\, 101 Founders Way\, Bethlehem\, PA\, 18015\, United States
CATEGORIES:Film
ATTACH;FMTTYPE=image/jpeg:https://www.artsquest.org/app/uploads/2026/03/FILM_Michael_1920x1080.jpg
END:VEVENT
BEGIN:VEVENT
DTSTART;TZID=America/New_York:20260424T233000
DTEND;TZID=America/New_York:20260425T013000
DTSTAMP:20260423T095352
CREATED:20251222T150025Z
LAST-MODIFIED:20260304T165811Z
UID:10002588-1777073400-1777080600@www.artsquest.org
SUMMARY:The Rocky Horror Picture Show (50th Anniversary)
DESCRIPTION:
URL:https://www.artsquest.org/event/the-rocky-horror-picture-show-50th-anniversary-4/
LOCATION:Frank Banko Alehouse Cinemas\, 101 Founders Way\, Bethlehem\, PA\, 18015\, United States
CATEGORIES:Film
ATTACH;FMTTYPE=image/jpeg:https://www.artsquest.org/app/uploads/2025/12/FILM_RockyHorrorCrop_1920x1080.jpg
END:VEVENT
BEGIN:VEVENT
DTSTART;VALUE=DATE:20260425
DTEND;VALUE=DATE:20260426
DTSTAMP:20260423T095352
CREATED:20260203T193157Z
LAST-MODIFIED:20260204T141508Z
UID:10003193-1777075200-1777161599@www.artsquest.org
SUMMARY:Roger Hane: Selected Works
DESCRIPTION:
URL:https://www.artsquest.org/event/roger-hane-selected-works/2026-04-25/
LOCATION:ArtsQuest Center\, 101 Founders Way\, Bethlehem\, PA\, 18015\, United States
CATEGORIES:Exhibition
ATTACH;FMTTYPE=image/jpeg:https://www.artsquest.org/app/uploads/2026/02/roger-hane-exhibition-1920x1080-2.jpg
END:VEVENT
BEGIN:VEVENT
DTSTART;TZID=America/New_York:20260425T090000
DTEND;TZID=America/New_York:20260425T103000
DTSTAMP:20260423T095352
CREATED:20260225T163114Z
LAST-MODIFIED:20260225T163114Z
UID:10003337-1777107600-1777113000@www.artsquest.org
SUMMARY:The Rise and Fall of Bethlehem Steel Tour
DESCRIPTION:
URL:https://www.artsquest.org/event/the-rise-and-fall-of-bethlehem-steel-tour-4-25-26/
LOCATION:PA
CATEGORIES:Tours
ATTACH;FMTTYPE=image/jpeg:https://www.artsquest.org/app/uploads/2025/08/rise-fall-tour.jpg
END:VEVENT
BEGIN:VEVENT
DTSTART;TZID=America/New_York:20260425T100000
DTEND;TZID=America/New_York:20260425T130000
DTSTAMP:20260423T095352
CREATED:20260112T175112Z
LAST-MODIFIED:20260408T183602Z
UID:10002865-1777111200-1777122000@www.artsquest.org
SUMMARY:Stamp Making Workshop (Session B)
DESCRIPTION:
URL:https://www.artsquest.org/event/stamp-making-workshop-session-b/
LOCATION:Bethlehem Visitor Center at SteelStacks pres. by Lehigh Valley Health Network\, 711 E. First St.\, Bethlehem\, PA\, 18015\, United States
CATEGORIES:Classes,Drawing & Painting,One-Day Workshop,Paper & Print Arts
ATTACH;FMTTYPE=image/jpeg:https://www.artsquest.org/app/uploads/2026/01/VA_StampMaking_1200x392.jpg
END:VEVENT
BEGIN:VEVENT
DTSTART;TZID=America/New_York:20260425T100000
DTEND;TZID=America/New_York:20260425T160000
DTSTAMP:20260423T095352
CREATED:20260401T173840Z
LAST-MODIFIED:20260422T191830Z
UID:10004082-1777111200-1777132800@www.artsquest.org
SUMMARY:4th Annual No Planet B Jamboree presented by Next Fav Band and ArtsQuest
DESCRIPTION:
URL:https://www.artsquest.org/event/4th-annual-no-planet-b-jamboree-presented-by-next-fav-band-and-artsquest/
LOCATION:Highmark Blue Shield Community Stage on the Air Products Town Square\, 101 Founders Way\, Bethlehem\, PA\, 18015\, United States
CATEGORIES:Concerts,Free,Special Event
ATTACH;FMTTYPE=image/jpeg:https://www.artsquest.org/app/uploads/2026/04/NoPlanetB_1920x1080.jpg
END:VEVENT
BEGIN:VEVENT
DTSTART;TZID=America/New_York:20260425T110000
DTEND;TZID=America/New_York:20260425T123000
DTSTAMP:20260423T095352
CREATED:20260319T150442Z
LAST-MODIFIED:20260319T150442Z
UID:10003887-1777114800-1777120200@www.artsquest.org
SUMMARY:Steelworkers’ Archives Walking Tours
DESCRIPTION:https://secure.artsquest.org/Online/seatSelect.asp?createBO::WSmap=1&BOparam::WSmap::loadBestAvailable::performance_ids=5277AE10-57A8-481F-804B-D87D10008157 \nhttps://secure.artsquest.org/Online/seatSelect.asp?createBO::WSmap=1&BOparam::WSmap::loadBestAvailable::performance_ids=51A98451-4320-40EF-B4A3-B7103CDB0568
URL:https://www.artsquest.org/event/steelworkers-archives-walking-tours-4-25-26/
LOCATION:PA
CATEGORIES:Tours
ATTACH;FMTTYPE=image/png:https://www.artsquest.org/app/uploads/2025/10/Steelworkers-Archives-Walking-Tours-1200x392-1.png
END:VEVENT
BEGIN:VEVENT
DTSTART;TZID=America/New_York:20260425T120000
DTEND;TZID=America/New_York:20260425T141000
DTSTAMP:20260423T095352
CREATED:20260326T140040Z
LAST-MODIFIED:20260319T200806Z
UID:10003938-1777118400-1777126200@www.artsquest.org
SUMMARY:Michael
DESCRIPTION:
URL:https://www.artsquest.org/event/michael-8/
LOCATION:Frank Banko Alehouse Cinemas\, 101 Founders Way\, Bethlehem\, PA\, 18015\, United States
CATEGORIES:Film
ATTACH;FMTTYPE=image/jpeg:https://www.artsquest.org/app/uploads/2026/03/FILM_Michael_1920x1080.jpg
END:VEVENT
BEGIN:VEVENT
DTSTART;TZID=America/New_York:20260425T123000
DTEND;TZID=America/New_York:20260425T140000
DTSTAMP:20260423T095352
CREATED:20260320T150228Z
LAST-MODIFIED:20260323T162426Z
UID:10003799-1777120200-1777125600@www.artsquest.org
SUMMARY:Block 1
DESCRIPTION:
URL:https://www.artsquest.org/event/block-1/
LOCATION:Frank Banko Alehouse Cinemas\, 101 Founders Way\, Bethlehem\, PA\, 18015\, United States
CATEGORIES:Festival,Film
ATTACH;FMTTYPE=image/jpeg:https://www.artsquest.org/app/uploads/2026/03/GLVFF_B1-scaled.jpg
END:VEVENT
END:VCALENDAR