BEGIN:VCALENDAR
VERSION:2.0
PRODID:-//ArtsQuest - ECPv6.15.5//NONSGML v1.0//EN
CALSCALE:GREGORIAN
METHOD:PUBLISH
X-WR-CALNAME:ArtsQuest
X-ORIGINAL-URL:https://www.artsquest.org
X-WR-CALDESC:Events for ArtsQuest
REFRESH-INTERVAL;VALUE=DURATION:PT1H
X-Robots-Tag:noindex
X-PUBLISHED-TTL:PT1H
BEGIN:VTIMEZONE
TZID:America/New_York
BEGIN:DAYLIGHT
TZOFFSETFROM:-0500
TZOFFSETTO:-0400
TZNAME:EDT
DTSTART:20250309T070000
END:DAYLIGHT
BEGIN:STANDARD
TZOFFSETFROM:-0400
TZOFFSETTO:-0500
TZNAME:EST
DTSTART:20251102T060000
END:STANDARD
END:VTIMEZONE
BEGIN:VEVENT
DTSTART;TZID=America/New_York:20251001T150000
DTEND;TZID=America/New_York:20251001T170000
DTSTAMP:20260424T074456
CREATED:20250904T185102Z
LAST-MODIFIED:20250915T205255Z
UID:10001199-1759330800-1759338000@www.artsquest.org
SUMMARY:Women Who Kill with Ingrid Jungermann
DESCRIPTION:https://secure.artsquest.org/Online/seatSelect.asp?createBO::WSmap=1&BOparam::WSmap::loadBestAvailable::performance_ids=3B16B059-2F86-4610-941B-25E9E7382ADF
URL:https://www.artsquest.org/event/women-who-kill-with-ingrid-jungermann/
LOCATION:PA
CATEGORIES:Film
ATTACH;FMTTYPE=image/jpeg:https://www.artsquest.org/app/uploads/2025/09/2025_film_women-who-kill.jpg
END:VEVENT
BEGIN:VEVENT
DTSTART;TZID=America/New_York:20251018T214500
DTEND;TZID=America/New_York:20251019T000000
DTSTAMP:20260424T074456
CREATED:20251002T153054Z
LAST-MODIFIED:20251002T153054Z
UID:10001476-1760823900-1760832000@www.artsquest.org
SUMMARY:Creepshow
DESCRIPTION:https://secure.artsquest.org/Online/seatSelect.asp?createBO::WSmap=1&BOparam::WSmap::loadBestAvailable::performance_ids=C9502E3F-E9A0-428D-AF6A-951338FA433B
URL:https://www.artsquest.org/event/creepshow/
LOCATION:Frank Banko Alehouse Cinemas\, 101 Founders Way\, Bethlehem\, PA\, 18015\, United States
CATEGORIES:Film
ATTACH;FMTTYPE=image/jpeg:https://www.artsquest.org/app/uploads/2025/10/Creepshow.jpg
END:VEVENT
BEGIN:VEVENT
DTSTART;TZID=America/New_York:20251019T180000
DTEND;TZID=America/New_York:20251019T200000
DTSTAMP:20260424T074456
CREATED:20251002T175736Z
LAST-MODIFIED:20251002T195344Z
UID:10001490-1760896800-1760904000@www.artsquest.org
SUMMARY:ArtsQuest Members' Movie Night: Silver Linings Playbook (2012)
DESCRIPTION:
URL:https://www.artsquest.org/event/artsquest-members-movie-night-silver-linings-playbook-2012/
LOCATION:Frank Banko Alehouse Cinemas\, 101 Founders Way\, Bethlehem\, PA\, 18015\, United States
CATEGORIES:Film
ATTACH;FMTTYPE=image/jpeg:https://www.artsquest.org/app/uploads/2025/10/FILM_SilverLiningsPlaybook_1200x392.jpg
END:VEVENT
BEGIN:VEVENT
DTSTART;TZID=America/New_York:20251022T133000
DTEND;TZID=America/New_York:20251022T151000
DTSTAMP:20260424T074456
CREATED:20251017T190849Z
LAST-MODIFIED:20251020T174409Z
UID:10002082-1761139800-1761145800@www.artsquest.org
SUMMARY:Eleanor the Great
DESCRIPTION:
URL:https://www.artsquest.org/event/eleanor-the-great/
LOCATION:Frank Banko Alehouse Cinemas\, 101 Founders Way\, Bethlehem\, PA\, 18015\, United States
CATEGORIES:Film
ATTACH;FMTTYPE=image/jpeg:https://www.artsquest.org/app/uploads/2025/10/FILM_Eleanor_1200x392.jpg
END:VEVENT
BEGIN:VEVENT
DTSTART;TZID=America/New_York:20251022T140000
DTEND;TZID=America/New_York:20251022T153000
DTSTAMP:20260424T074456
CREATED:20251017T183441Z
LAST-MODIFIED:20251020T174715Z
UID:10002078-1761141600-1761147000@www.artsquest.org
SUMMARY:Strange Journey: The Story of Rocky Horror
DESCRIPTION:
URL:https://www.artsquest.org/event/strange-journey-the-story-of-rocky-horror/
LOCATION:Frank Banko Alehouse Cinemas\, 101 Founders Way\, Bethlehem\, PA\, 18015\, United States
CATEGORIES:Film
ATTACH;FMTTYPE=image/jpeg:https://www.artsquest.org/app/uploads/2025/10/FILM_StrangeJourney_1200x392.jpg
END:VEVENT
BEGIN:VEVENT
DTSTART;TZID=America/New_York:20251022T160000
DTEND;TZID=America/New_York:20251022T181000
DTSTAMP:20260424T074456
CREATED:20251017T200255Z
LAST-MODIFIED:20251020T174120Z
UID:10002086-1761148800-1761156600@www.artsquest.org
SUMMARY:The History of Sound
DESCRIPTION:
URL:https://www.artsquest.org/event/the-history-of-sound/
LOCATION:Frank Banko Alehouse Cinemas\, 101 Founders Way\, Bethlehem\, PA\, 18015\, United States
CATEGORIES:Film
ATTACH;FMTTYPE=image/jpeg:https://www.artsquest.org/app/uploads/2025/10/FILM_HistoryofSound_1200x392.jpg
END:VEVENT
BEGIN:VEVENT
DTSTART;TZID=America/New_York:20251022T161500
DTEND;TZID=America/New_York:20251022T182000
DTSTAMP:20260424T074456
CREATED:20251017T193610Z
LAST-MODIFIED:20251020T174500Z
UID:10002084-1761149700-1761157200@www.artsquest.org
SUMMARY:Anemone
DESCRIPTION:
URL:https://www.artsquest.org/event/anemone/
LOCATION:Frank Banko Alehouse Cinemas\, 101 Founders Way\, Bethlehem\, PA\, 18015\, United States
CATEGORIES:Film
ATTACH;FMTTYPE=image/jpeg:https://www.artsquest.org/app/uploads/2025/10/FILM_Anemone_1200x392.jpg
END:VEVENT
BEGIN:VEVENT
DTSTART;TZID=America/New_York:20251022T184500
DTEND;TZID=America/New_York:20251022T213000
DTSTAMP:20260424T074456
CREATED:20251017T185109Z
LAST-MODIFIED:20251020T205620Z
UID:10002080-1761158700-1761168600@www.artsquest.org
SUMMARY:One Battle After Another
DESCRIPTION:
URL:https://www.artsquest.org/event/one-battle-after-another/
LOCATION:Frank Banko Alehouse Cinemas\, 101 Founders Way\, Bethlehem\, PA\, 18015\, United States
CATEGORIES:Film
ATTACH;FMTTYPE=image/jpeg:https://www.artsquest.org/app/uploads/2025/10/FILM_OneBattle_1200x392.jpg
END:VEVENT
BEGIN:VEVENT
DTSTART;TZID=America/New_York:20251022T190000
DTEND;TZID=America/New_York:20251022T213000
DTSTAMP:20260424T074456
CREATED:20251008T152333Z
LAST-MODIFIED:20251022T161454Z
UID:10001703-1761159600-1761168600@www.artsquest.org
SUMMARY:The Harder They Fall
DESCRIPTION:
URL:https://www.artsquest.org/event/the-harder-they-fall/
LOCATION:Frank Banko Alehouse Cinemas\, 101 Founders Way\, Bethlehem\, PA\, 18015\, United States
CATEGORIES:Film
ATTACH;FMTTYPE=image/jpeg:https://www.artsquest.org/app/uploads/2025/10/FILM_HarderTheyFall_1200x392.jpg
END:VEVENT
BEGIN:VEVENT
DTSTART;TZID=America/New_York:20251023T123000
DTEND;TZID=America/New_York:20251023T144000
DTSTAMP:20260424T074456
CREATED:20251017T195135Z
LAST-MODIFIED:20251020T174450Z
UID:10002085-1761222600-1761230400@www.artsquest.org
SUMMARY:Anemone
DESCRIPTION:
URL:https://www.artsquest.org/event/anemone-2/
LOCATION:Frank Banko Alehouse Cinemas\, 101 Founders Way\, Bethlehem\, PA\, 18015\, United States
CATEGORIES:Film
ATTACH;FMTTYPE=image/jpeg:https://www.artsquest.org/app/uploads/2025/10/FILM_Anemone_1200x392.jpg
END:VEVENT
BEGIN:VEVENT
DTSTART;TZID=America/New_York:20251023T130000
DTEND;TZID=America/New_York:20251023T144500
DTSTAMP:20260424T074456
CREATED:20251017T185204Z
LAST-MODIFIED:20251020T205630Z
UID:10002081-1761224400-1761230700@www.artsquest.org
SUMMARY:One Battle After Another
DESCRIPTION:
URL:https://www.artsquest.org/event/one-battle-after-another-2/
LOCATION:Frank Banko Alehouse Cinemas\, 101 Founders Way\, Bethlehem\, PA\, 18015\, United States
CATEGORIES:Film
ATTACH;FMTTYPE=image/jpeg:https://www.artsquest.org/app/uploads/2025/10/FILM_OneBattle_1200x392.jpg
END:VEVENT
BEGIN:VEVENT
DTSTART;TZID=America/New_York:20251023T151500
DTEND;TZID=America/New_York:20251023T164500
DTSTAMP:20260424T074456
CREATED:20251017T191033Z
LAST-MODIFIED:20251020T174358Z
UID:10002083-1761232500-1761237900@www.artsquest.org
SUMMARY:Eleanor the Great
DESCRIPTION:
URL:https://www.artsquest.org/event/eleanor-the-great-2/
LOCATION:Frank Banko Alehouse Cinemas\, 101 Founders Way\, Bethlehem\, PA\, 18015\, United States
CATEGORIES:Film
ATTACH;FMTTYPE=image/jpeg:https://www.artsquest.org/app/uploads/2025/10/FILM_Eleanor_1200x392.jpg
END:VEVENT
BEGIN:VEVENT
DTSTART;TZID=America/New_York:20251023T160000
DTEND;TZID=America/New_York:20251023T180000
DTSTAMP:20260424T074457
CREATED:20250829T184424Z
LAST-MODIFIED:20251020T205834Z
UID:10001071-1761235200-1761242400@www.artsquest.org
SUMMARY:Re-Animator (40th Anniversary)
DESCRIPTION:
URL:https://www.artsquest.org/event/re-animator-40th-anniversary/
LOCATION:Frank Banko Alehouse Cinemas\, 101 Founders Way\, Bethlehem\, PA\, 18015\, United States
CATEGORIES:Film
ATTACH;FMTTYPE=image/jpeg:https://www.artsquest.org/app/uploads/2025/08/FBAC-Reanimator_1024x576.jpg
END:VEVENT
BEGIN:VEVENT
DTSTART;TZID=America/New_York:20251023T163000
DTEND;TZID=America/New_York:20251023T183000
DTSTAMP:20260424T074457
CREATED:20251008T175206Z
LAST-MODIFIED:20251008T175510Z
UID:10001725-1761237000-1761244200@www.artsquest.org
SUMMARY:Springsteen: Deliver Me from Nowhere
DESCRIPTION:
URL:https://www.artsquest.org/event/springsteen-deliver-me-from-nowhere/
LOCATION:Frank Banko Alehouse Cinemas\, 101 Founders Way\, Bethlehem\, PA\, 18015\, United States
CATEGORIES:Film
ATTACH;FMTTYPE=image/jpeg:https://www.artsquest.org/app/uploads/2025/10/FILM_Springsteen_1200x392.jpg
END:VEVENT
BEGIN:VEVENT
DTSTART;TZID=America/New_York:20251023T174500
DTEND;TZID=America/New_York:20251023T191500
DTSTAMP:20260424T074457
CREATED:20251017T183650Z
LAST-MODIFIED:20251020T174721Z
UID:10002079-1761241500-1761246900@www.artsquest.org
SUMMARY:Strange Journey: The Story of Rocky Horror
DESCRIPTION:
URL:https://www.artsquest.org/event/strange-journey-the-story-of-rocky-horror-2/
LOCATION:Frank Banko Alehouse Cinemas\, 101 Founders Way\, Bethlehem\, PA\, 18015\, United States
CATEGORIES:Film
ATTACH;FMTTYPE=image/jpeg:https://www.artsquest.org/app/uploads/2025/10/FILM_StrangeJourney_1200x392.jpg
END:VEVENT
BEGIN:VEVENT
DTSTART;TZID=America/New_York:20251023T193000
DTEND;TZID=America/New_York:20251023T213000
DTSTAMP:20260424T074457
CREATED:20251008T175458Z
LAST-MODIFIED:20251008T175458Z
UID:10001726-1761247800-1761255000@www.artsquest.org
SUMMARY:Springsteen: Deliver Me from Nowhere
DESCRIPTION:
URL:https://www.artsquest.org/event/springsteen-deliver-me-from-nowhere-2/
LOCATION:Frank Banko Alehouse Cinemas\, 101 Founders Way\, Bethlehem\, PA\, 18015\, United States
CATEGORIES:Film
ATTACH;FMTTYPE=image/jpeg:https://www.artsquest.org/app/uploads/2025/10/FILM_Springsteen_1200x392.jpg
END:VEVENT
BEGIN:VEVENT
DTSTART;TZID=America/New_York:20251024T114500
DTEND;TZID=America/New_York:20251024T133000
DTSTAMP:20260424T074457
CREATED:20251008T155119Z
LAST-MODIFIED:20251022T161432Z
UID:10001704-1761306300-1761312600@www.artsquest.org
SUMMARY:Blue Moon
DESCRIPTION:
URL:https://www.artsquest.org/event/blue-moon/
LOCATION:Frank Banko Alehouse Cinemas\, 101 Founders Way\, Bethlehem\, PA\, 18015\, United States
CATEGORIES:Film
ATTACH;FMTTYPE=image/jpeg:https://www.artsquest.org/app/uploads/2025/10/FILM_BlueMooon_1200x392.jpg
END:VEVENT
BEGIN:VEVENT
DTSTART;TZID=America/New_York:20251024T120000
DTEND;TZID=America/New_York:20251024T140000
DTSTAMP:20260424T074457
CREATED:20251008T175916Z
LAST-MODIFIED:20251008T175916Z
UID:10001727-1761307200-1761314400@www.artsquest.org
SUMMARY:Springsteen: Deliver Me from Nowhere
DESCRIPTION:
URL:https://www.artsquest.org/event/springsteen-deliver-me-from-nowhere-3/
LOCATION:Frank Banko Alehouse Cinemas\, 101 Founders Way\, Bethlehem\, PA\, 18015\, United States
CATEGORIES:Film
ATTACH;FMTTYPE=image/jpeg:https://www.artsquest.org/app/uploads/2025/10/FILM_Springsteen_1200x392.jpg
END:VEVENT
BEGIN:VEVENT
DTSTART;TZID=America/New_York:20251024T141500
DTEND;TZID=America/New_York:20251024T160500
DTSTAMP:20260424T074457
CREATED:20251008T155607Z
LAST-MODIFIED:20251022T161415Z
UID:10001705-1761315300-1761321900@www.artsquest.org
SUMMARY:Blue Moon
DESCRIPTION:
URL:https://www.artsquest.org/event/blue-moon-2/
LOCATION:Frank Banko Alehouse Cinemas\, 101 Founders Way\, Bethlehem\, PA\, 18015\, United States
CATEGORIES:Film
ATTACH;FMTTYPE=image/jpeg:https://www.artsquest.org/app/uploads/2025/10/FILM_BlueMooon_1200x392.jpg
END:VEVENT
BEGIN:VEVENT
DTSTART;TZID=America/New_York:20251024T143000
DTEND;TZID=America/New_York:20251024T163000
DTSTAMP:20260424T074457
CREATED:20251008T175951Z
LAST-MODIFIED:20251008T175951Z
UID:10001728-1761316200-1761323400@www.artsquest.org
SUMMARY:Springsteen: Deliver Me from Nowhere
DESCRIPTION:
URL:https://www.artsquest.org/event/springsteen-deliver-me-from-nowhere-4/
LOCATION:Frank Banko Alehouse Cinemas\, 101 Founders Way\, Bethlehem\, PA\, 18015\, United States
CATEGORIES:Film
ATTACH;FMTTYPE=image/jpeg:https://www.artsquest.org/app/uploads/2025/10/FILM_Springsteen_1200x392.jpg
END:VEVENT
BEGIN:VEVENT
DTSTART;TZID=America/New_York:20251024T164500
DTEND;TZID=America/New_York:20251024T190000
DTSTAMP:20260424T074457
CREATED:20251008T160705Z
LAST-MODIFIED:20251022T161404Z
UID:10001706-1761324300-1761332400@www.artsquest.org
SUMMARY:Blue Moon
DESCRIPTION:
URL:https://www.artsquest.org/event/blue-moon-3/
LOCATION:Frank Banko Alehouse Cinemas\, 101 Founders Way\, Bethlehem\, PA\, 18015\, United States
CATEGORIES:Film
ATTACH;FMTTYPE=image/jpeg:https://www.artsquest.org/app/uploads/2025/10/FILM_BlueMooon_1200x392.jpg
END:VEVENT
BEGIN:VEVENT
DTSTART;TZID=America/New_York:20251024T171500
DTEND;TZID=America/New_York:20251024T191500
DTSTAMP:20260424T074457
CREATED:20251008T180033Z
LAST-MODIFIED:20251022T155354Z
UID:10001729-1761326100-1761333300@www.artsquest.org
SUMMARY:Springsteen: Deliver Me from Nowhere
DESCRIPTION:
URL:https://www.artsquest.org/event/springsteen-deliver-me-from-nowhere-5/
LOCATION:Frank Banko Alehouse Cinemas\, 101 Founders Way\, Bethlehem\, PA\, 18015\, United States
CATEGORIES:Film
ATTACH;FMTTYPE=image/jpeg:https://www.artsquest.org/app/uploads/2025/10/FILM_Springsteen_1200x392.jpg
END:VEVENT
BEGIN:VEVENT
DTSTART;TZID=America/New_York:20251024T193000
DTEND;TZID=America/New_York:20251024T213000
DTSTAMP:20260424T074457
CREATED:20251008T162311Z
LAST-MODIFIED:20251022T161343Z
UID:10001708-1761334200-1761341400@www.artsquest.org
SUMMARY:Blue Moon
DESCRIPTION:
URL:https://www.artsquest.org/event/blue-moon-5/
LOCATION:Frank Banko Alehouse Cinemas\, 101 Founders Way\, Bethlehem\, PA\, 18015\, United States
CATEGORIES:Film
ATTACH;FMTTYPE=image/jpeg:https://www.artsquest.org/app/uploads/2025/10/FILM_BlueMooon_1200x392.jpg
END:VEVENT
BEGIN:VEVENT
DTSTART;TZID=America/New_York:20251024T200000
DTEND;TZID=America/New_York:20251024T220000
DTSTAMP:20260424T074457
CREATED:20251008T180237Z
LAST-MODIFIED:20251022T155413Z
UID:10001730-1761336000-1761343200@www.artsquest.org
SUMMARY:Springsteen: Deliver Me from Nowhere
DESCRIPTION:
URL:https://www.artsquest.org/event/springsteen-deliver-me-from-nowhere-6/
LOCATION:Frank Banko Alehouse Cinemas\, 101 Founders Way\, Bethlehem\, PA\, 18015\, United States
CATEGORIES:Film
ATTACH;FMTTYPE=image/jpeg:https://www.artsquest.org/app/uploads/2025/10/FILM_Springsteen_1200x392.jpg
END:VEVENT
BEGIN:VEVENT
DTSTART;TZID=America/New_York:20251024T214500
DTEND;TZID=America/New_York:20251024T234500
DTSTAMP:20260424T074457
CREATED:20251008T180329Z
LAST-MODIFIED:20251022T155424Z
UID:10001731-1761342300-1761349500@www.artsquest.org
SUMMARY:Springsteen: Deliver Me from Nowhere
DESCRIPTION:
URL:https://www.artsquest.org/event/springsteen-deliver-me-from-nowhere-7/
LOCATION:Frank Banko Alehouse Cinemas\, 101 Founders Way\, Bethlehem\, PA\, 18015\, United States
CATEGORIES:Film
ATTACH;FMTTYPE=image/jpeg:https://www.artsquest.org/app/uploads/2025/10/FILM_Springsteen_1200x392.jpg
END:VEVENT
BEGIN:VEVENT
DTSTART;TZID=America/New_York:20251024T233000
DTEND;TZID=America/New_York:20251025T013000
DTSTAMP:20260424T074457
CREATED:20251002T135831Z
LAST-MODIFIED:20251020T153704Z
UID:10001467-1761348600-1761355800@www.artsquest.org
SUMMARY:The Rocky Horror Picture Show (50th Anniversary)
DESCRIPTION:
URL:https://www.artsquest.org/event/the-rocky-horror-picture-show-2025-10-24/
LOCATION:Frank Banko Alehouse Cinemas\, 101 Founders Way\, Bethlehem\, PA\, 18015\, United States
CATEGORIES:Film
ATTACH;FMTTYPE=image/jpeg:https://www.artsquest.org/app/uploads/2025/10/CINEMA_rockyhorror_1024x576.jpg
END:VEVENT
BEGIN:VEVENT
DTSTART;TZID=America/New_York:20251025T114500
DTEND;TZID=America/New_York:20251025T134500
DTSTAMP:20260424T074457
CREATED:20251008T161100Z
LAST-MODIFIED:20251022T161354Z
UID:10001707-1761392700-1761399900@www.artsquest.org
SUMMARY:Blue Moon
DESCRIPTION:
URL:https://www.artsquest.org/event/blue-moon-4/
LOCATION:Frank Banko Alehouse Cinemas\, 101 Founders Way\, Bethlehem\, PA\, 18015\, United States
CATEGORIES:Film
ATTACH;FMTTYPE=image/jpeg:https://www.artsquest.org/app/uploads/2025/10/FILM_BlueMooon_1200x392.jpg
END:VEVENT
BEGIN:VEVENT
DTSTART;TZID=America/New_York:20251025T120000
DTEND;TZID=America/New_York:20251025T140000
DTSTAMP:20260424T074457
CREATED:20251008T180412Z
LAST-MODIFIED:20251022T155445Z
UID:10001732-1761393600-1761400800@www.artsquest.org
SUMMARY:Springsteen: Deliver Me from Nowhere
DESCRIPTION:
URL:https://www.artsquest.org/event/springsteen-deliver-me-from-nowhere-8/
LOCATION:Frank Banko Alehouse Cinemas\, 101 Founders Way\, Bethlehem\, PA\, 18015\, United States
CATEGORIES:Film
ATTACH;FMTTYPE=image/jpeg:https://www.artsquest.org/app/uploads/2025/10/FILM_Springsteen_1200x392.jpg
END:VEVENT
BEGIN:VEVENT
DTSTART;TZID=America/New_York:20251025T141500
DTEND;TZID=America/New_York:20251025T161500
DTSTAMP:20260424T074457
CREATED:20251008T162505Z
LAST-MODIFIED:20251022T161335Z
UID:10001709-1761401700-1761408900@www.artsquest.org
SUMMARY:Blue Moon
DESCRIPTION:
URL:https://www.artsquest.org/event/blue-moon-6/
LOCATION:Frank Banko Alehouse Cinemas\, 101 Founders Way\, Bethlehem\, PA\, 18015\, United States
CATEGORIES:Film
ATTACH;FMTTYPE=image/jpeg:https://www.artsquest.org/app/uploads/2025/10/FILM_BlueMooon_1200x392.jpg
END:VEVENT
BEGIN:VEVENT
DTSTART;TZID=America/New_York:20251025T150000
DTEND;TZID=America/New_York:20251025T170000
DTSTAMP:20260424T074457
CREATED:20251008T180444Z
LAST-MODIFIED:20251022T155454Z
UID:10001733-1761404400-1761411600@www.artsquest.org
SUMMARY:Springsteen: Deliver Me from Nowhere
DESCRIPTION:
URL:https://www.artsquest.org/event/springsteen-deliver-me-from-nowhere-9/
LOCATION:Frank Banko Alehouse Cinemas\, 101 Founders Way\, Bethlehem\, PA\, 18015\, United States
CATEGORIES:Film
ATTACH;FMTTYPE=image/jpeg:https://www.artsquest.org/app/uploads/2025/10/FILM_Springsteen_1200x392.jpg
END:VEVENT
END:VCALENDAR