BEGIN:VCALENDAR
VERSION:2.0
PRODID:-//ArtsQuest - ECPv6.15.5//NONSGML v1.0//EN
CALSCALE:GREGORIAN
METHOD:PUBLISH
X-WR-CALNAME:ArtsQuest
X-ORIGINAL-URL:https://www.artsquest.org
X-WR-CALDESC:Events for ArtsQuest
REFRESH-INTERVAL;VALUE=DURATION:PT1H
X-Robots-Tag:noindex
X-PUBLISHED-TTL:PT1H
BEGIN:VTIMEZONE
TZID:America/New_York
BEGIN:DAYLIGHT
TZOFFSETFROM:-0500
TZOFFSETTO:-0400
TZNAME:EDT
DTSTART:20250309T070000
END:DAYLIGHT
BEGIN:STANDARD
TZOFFSETFROM:-0400
TZOFFSETTO:-0500
TZNAME:EST
DTSTART:20251102T060000
END:STANDARD
BEGIN:DAYLIGHT
TZOFFSETFROM:-0500
TZOFFSETTO:-0400
TZNAME:EDT
DTSTART:20260308T070000
END:DAYLIGHT
BEGIN:STANDARD
TZOFFSETFROM:-0400
TZOFFSETTO:-0500
TZNAME:EST
DTSTART:20261101T060000
END:STANDARD
END:VTIMEZONE
BEGIN:VEVENT
DTSTART;TZID=America/New_York:20260327T233000
DTEND;TZID=America/New_York:20260328T013000
DTSTAMP:20260423T071542
CREATED:20251222T150037Z
LAST-MODIFIED:20260304T170337Z
UID:10002587-1774654200-1774661400@www.artsquest.org
SUMMARY:The Rocky Horror Picture Show (50th Anniversary)
DESCRIPTION:
URL:https://www.artsquest.org/event/the-rocky-horror-picture-show-50th-anniversary-3/
LOCATION:Frank Banko Alehouse Cinemas\, 101 Founders Way\, Bethlehem\, PA\, 18015\, United States
CATEGORIES:Film
ATTACH;FMTTYPE=image/jpeg:https://www.artsquest.org/app/uploads/2025/12/FILM_RockyHorrorCrop_1920x1080.jpg
END:VEVENT
BEGIN:VEVENT
DTSTART;TZID=America/New_York:20260227T233000
DTEND;TZID=America/New_York:20260228T013000
DTSTAMP:20260423T071542
CREATED:20251222T150052Z
LAST-MODIFIED:20251216T184724Z
UID:10002586-1772235000-1772242200@www.artsquest.org
SUMMARY:The Rocky Horror Picture Show (50th Anniversary)
DESCRIPTION:
URL:https://www.artsquest.org/event/the-rocky-horror-picture-show-50th-anniversary-2/
LOCATION:Frank Banko Alehouse Cinemas\, 101 Founders Way\, Bethlehem\, PA\, 18015\, United States
CATEGORIES:Film
ATTACH;FMTTYPE=image/jpeg:https://www.artsquest.org/app/uploads/2025/10/CINEMA_rockyhorror_1024x576.jpg
END:VEVENT
BEGIN:VEVENT
DTSTART;TZID=America/New_York:20260130T233000
DTEND;TZID=America/New_York:20260131T013000
DTSTAMP:20260423T071542
CREATED:20251222T150033Z
LAST-MODIFIED:20251216T184638Z
UID:10002585-1769815800-1769823000@www.artsquest.org
SUMMARY:The Rocky Horror Picture Show (50th Anniversary)
DESCRIPTION:
URL:https://www.artsquest.org/event/the-rocky-horror-picture-show-50th-anniversary/
LOCATION:Frank Banko Alehouse Cinemas\, 101 Founders Way\, Bethlehem\, PA\, 18015\, United States
CATEGORIES:Film
ATTACH;FMTTYPE=image/jpeg:https://www.artsquest.org/app/uploads/2025/10/CINEMA_rockyhorror_1024x576.jpg
END:VEVENT
BEGIN:VEVENT
DTSTART;TZID=America/New_York:20251128T233000
DTEND;TZID=America/New_York:20251129T013000
DTSTAMP:20260423T071542
CREATED:20251002T141024Z
LAST-MODIFIED:20251020T153836Z
UID:10001470-1764372600-1764379800@www.artsquest.org
SUMMARY:The Rocky Horror Picture Show (50th Anniversary)
DESCRIPTION:
URL:https://www.artsquest.org/event/the-rocky-horror-picture-show-2025-11-28/
LOCATION:Frank Banko Alehouse Cinemas\, 101 Founders Way\, Bethlehem\, PA\, 18015\, United States
CATEGORIES:Film
ATTACH;FMTTYPE=image/jpeg:https://www.artsquest.org/app/uploads/2025/10/CINEMA_rockyhorror_1024x576.jpg
END:VEVENT
BEGIN:VEVENT
DTSTART;TZID=America/New_York:20251101T233000
DTEND;TZID=America/New_York:20251102T013000
DTSTAMP:20260423T071542
CREATED:20251002T140804Z
LAST-MODIFIED:20251020T153813Z
UID:10001469-1762039800-1762047000@www.artsquest.org
SUMMARY:The Rocky Horror Picture Show (50th Anniversary)
DESCRIPTION:https://secure.artsquest.org/Online/seatSelect.asp?createBO::WSmap=1&BOparam::WSmap::loadBestAvailable::performance_ids=0023161B-94A3-44B0-B5B2-AE12A6056002
URL:https://www.artsquest.org/event/the-rocky-horror-picture-show-2025-11-1/
LOCATION:Frank Banko Alehouse Cinemas\, 101 Founders Way\, Bethlehem\, PA\, 18015\, United States
CATEGORIES:Film
ATTACH;FMTTYPE=image/jpeg:https://www.artsquest.org/app/uploads/2025/10/CINEMA_rockyhorror_1024x576.jpg
END:VEVENT
BEGIN:VEVENT
DTSTART;TZID=America/New_York:20251031T233000
DTEND;TZID=America/New_York:20251101T013000
DTSTAMP:20260423T071542
CREATED:20251002T140304Z
LAST-MODIFIED:20251020T153643Z
UID:10001468-1761953400-1761960600@www.artsquest.org
SUMMARY:The Rocky Horror Picture Show (50th Anniversary)
DESCRIPTION:
URL:https://www.artsquest.org/event/the-rocky-horror-picture-show-2025-10-31/
LOCATION:Frank Banko Alehouse Cinemas\, 101 Founders Way\, Bethlehem\, PA\, 18015\, United States
CATEGORIES:Film
ATTACH;FMTTYPE=image/jpeg:https://www.artsquest.org/app/uploads/2025/10/CINEMA_rockyhorror_1024x576.jpg
END:VEVENT
BEGIN:VEVENT
DTSTART;TZID=America/New_York:20251024T233000
DTEND;TZID=America/New_York:20251025T013000
DTSTAMP:20260423T071542
CREATED:20251002T135831Z
LAST-MODIFIED:20251020T153704Z
UID:10001467-1761348600-1761355800@www.artsquest.org
SUMMARY:The Rocky Horror Picture Show (50th Anniversary)
DESCRIPTION:
URL:https://www.artsquest.org/event/the-rocky-horror-picture-show-2025-10-24/
LOCATION:Frank Banko Alehouse Cinemas\, 101 Founders Way\, Bethlehem\, PA\, 18015\, United States
CATEGORIES:Film
ATTACH;FMTTYPE=image/jpeg:https://www.artsquest.org/app/uploads/2025/10/CINEMA_rockyhorror_1024x576.jpg
END:VEVENT
BEGIN:VEVENT
DTSTART;TZID=America/New_York:20251023T174500
DTEND;TZID=America/New_York:20251023T191500
DTSTAMP:20260423T071542
CREATED:20251017T183650Z
LAST-MODIFIED:20251020T174721Z
UID:10002079-1761241500-1761246900@www.artsquest.org
SUMMARY:Strange Journey: The Story of Rocky Horror
DESCRIPTION:
URL:https://www.artsquest.org/event/strange-journey-the-story-of-rocky-horror-2/
LOCATION:Frank Banko Alehouse Cinemas\, 101 Founders Way\, Bethlehem\, PA\, 18015\, United States
CATEGORIES:Film
ATTACH;FMTTYPE=image/jpeg:https://www.artsquest.org/app/uploads/2025/10/FILM_StrangeJourney_1200x392.jpg
END:VEVENT
BEGIN:VEVENT
DTSTART;TZID=America/New_York:20251022T140000
DTEND;TZID=America/New_York:20251022T153000
DTSTAMP:20260423T071542
CREATED:20251017T183441Z
LAST-MODIFIED:20251020T174715Z
UID:10002078-1761141600-1761147000@www.artsquest.org
SUMMARY:Strange Journey: The Story of Rocky Horror
DESCRIPTION:
URL:https://www.artsquest.org/event/strange-journey-the-story-of-rocky-horror/
LOCATION:Frank Banko Alehouse Cinemas\, 101 Founders Way\, Bethlehem\, PA\, 18015\, United States
CATEGORIES:Film
ATTACH;FMTTYPE=image/jpeg:https://www.artsquest.org/app/uploads/2025/10/FILM_StrangeJourney_1200x392.jpg
END:VEVENT
END:VCALENDAR