BEGIN:VCALENDAR
VERSION:2.0
PRODID:-//ArtsQuest - ECPv6.15.5//NONSGML v1.0//EN
CALSCALE:GREGORIAN
METHOD:PUBLISH
X-WR-CALNAME:ArtsQuest
X-ORIGINAL-URL:https://www.artsquest.org
X-WR-CALDESC:Events for ArtsQuest
REFRESH-INTERVAL;VALUE=DURATION:PT1H
X-Robots-Tag:noindex
X-PUBLISHED-TTL:PT1H
BEGIN:VTIMEZONE
TZID:America/New_York
BEGIN:DAYLIGHT
TZOFFSETFROM:-0500
TZOFFSETTO:-0400
TZNAME:EDT
DTSTART:20250309T070000
END:DAYLIGHT
BEGIN:STANDARD
TZOFFSETFROM:-0400
TZOFFSETTO:-0500
TZNAME:EST
DTSTART:20251102T060000
END:STANDARD
END:VTIMEZONE
BEGIN:VEVENT
DTSTART;TZID=America/New_York:20251215T080000
DTEND;TZID=America/New_York:20251215T093000
DTSTAMP:20260423T111040
CREATED:20251007T144415Z
LAST-MODIFIED:20251104T163809Z
UID:10000083-1765785600-1765791000@www.artsquest.org
SUMMARY:The Rise and Fall of Bethlehem Steel Tour
DESCRIPTION:
URL:https://www.artsquest.org/event/the-rise-and-fall-of-bethlehem-steel-tour-2025-12-15/
CATEGORIES:Tours
ATTACH;FMTTYPE=image/jpeg:https://www.artsquest.org/app/uploads/2025/08/rise-fall-tour.jpg
END:VEVENT
BEGIN:VEVENT
DTSTART;TZID=America/New_York:20251214T133000
DTEND;TZID=America/New_York:20251214T150000
DTSTAMP:20260423T111040
CREATED:20251007T174630Z
LAST-MODIFIED:20251214T140631Z
UID:10001678-1765719000-1765724400@www.artsquest.org
SUMMARY:Steelworkers’ Archives Walking Tours
DESCRIPTION:
URL:https://www.artsquest.org/event/steelworkers-archives-walking-tours-2025-12-14-130/
CATEGORIES:Tours
ATTACH;FMTTYPE=image/png:https://www.artsquest.org/app/uploads/2025/10/Steelworkers-Archives-Walking-Tours-1200x392-1.png
END:VEVENT
BEGIN:VEVENT
DTSTART;TZID=America/New_York:20251214T080000
DTEND;TZID=America/New_York:20251214T093000
DTSTAMP:20260423T111040
CREATED:20251007T144339Z
LAST-MODIFIED:20251104T163757Z
UID:10000082-1765699200-1765704600@www.artsquest.org
SUMMARY:The Rise and Fall of Bethlehem Steel Tour
DESCRIPTION:
URL:https://www.artsquest.org/event/the-rise-and-fall-of-bethlehem-steel-tour-2025-12-14/
CATEGORIES:Tours
ATTACH;FMTTYPE=image/jpeg:https://www.artsquest.org/app/uploads/2025/08/rise-fall-tour.jpg
END:VEVENT
BEGIN:VEVENT
DTSTART;TZID=America/New_York:20251213T133000
DTEND;TZID=America/New_York:20251213T150000
DTSTAMP:20260423T111040
CREATED:20251007T174309Z
LAST-MODIFIED:20251007T174322Z
UID:10001677-1765632600-1765638000@www.artsquest.org
SUMMARY:Steelworkers’ Archives Walking Tours
DESCRIPTION:
URL:https://www.artsquest.org/event/steelworkers-archives-walking-tours-2025-12-13-130/
CATEGORIES:Tours
ATTACH;FMTTYPE=image/png:https://www.artsquest.org/app/uploads/2025/10/Steelworkers-Archives-Walking-Tours-1200x392-1.png
END:VEVENT
BEGIN:VEVENT
DTSTART;TZID=America/New_York:20251213T110000
DTEND;TZID=America/New_York:20251213T123000
DTSTAMP:20260423T111040
CREATED:20251007T174233Z
LAST-MODIFIED:20251007T174245Z
UID:10001553-1765623600-1765629000@www.artsquest.org
SUMMARY:Steelworkers’ Archives Walking Tours
DESCRIPTION:
URL:https://www.artsquest.org/event/steelworkers-archives-walking-tours-2025-12-13/
CATEGORIES:Tours
ATTACH;FMTTYPE=image/png:https://www.artsquest.org/app/uploads/2025/10/Steelworkers-Archives-Walking-Tours-1200x392-1.png
END:VEVENT
BEGIN:VEVENT
DTSTART;TZID=America/New_York:20251213T080000
DTEND;TZID=America/New_York:20251213T093000
DTSTAMP:20260423T111040
CREATED:20251007T144300Z
LAST-MODIFIED:20251104T163748Z
UID:10000081-1765612800-1765618200@www.artsquest.org
SUMMARY:The Rise and Fall of Bethlehem Steel Tour
DESCRIPTION:
URL:https://www.artsquest.org/event/the-rise-and-fall-of-bethlehem-steel-tour-2025-12-13/
CATEGORIES:Tours
ATTACH;FMTTYPE=image/jpeg:https://www.artsquest.org/app/uploads/2025/08/rise-fall-tour.jpg
END:VEVENT
BEGIN:VEVENT
DTSTART;TZID=America/New_York:20251212T110000
DTEND;TZID=America/New_York:20251212T123000
DTSTAMP:20260423T111040
CREATED:20251007T174149Z
LAST-MODIFIED:20251007T174207Z
UID:10001552-1765537200-1765542600@www.artsquest.org
SUMMARY:Steelworkers’ Archives Walking Tours
DESCRIPTION:
URL:https://www.artsquest.org/event/steelworkers-archives-walking-tours-2025-12-12/
CATEGORIES:Tours
ATTACH;FMTTYPE=image/png:https://www.artsquest.org/app/uploads/2025/10/Steelworkers-Archives-Walking-Tours-1200x392-1.png
END:VEVENT
BEGIN:VEVENT
DTSTART;TZID=America/New_York:20251212T080000
DTEND;TZID=America/New_York:20251212T093000
DTSTAMP:20260423T111040
CREATED:20251007T144228Z
LAST-MODIFIED:20251104T163739Z
UID:10000080-1765526400-1765531800@www.artsquest.org
SUMMARY:The Rise and Fall of Bethlehem Steel Tour
DESCRIPTION:
URL:https://www.artsquest.org/event/the-rise-and-fall-of-bethlehem-steel-tour-2025-12-12/
CATEGORIES:Tours
ATTACH;FMTTYPE=image/jpeg:https://www.artsquest.org/app/uploads/2025/08/rise-fall-tour.jpg
END:VEVENT
BEGIN:VEVENT
DTSTART;TZID=America/New_York:20251211T110000
DTEND;TZID=America/New_York:20251211T123000
DTSTAMP:20260423T111040
CREATED:20251007T174113Z
LAST-MODIFIED:20251007T174126Z
UID:10001551-1765450800-1765456200@www.artsquest.org
SUMMARY:Steelworkers’ Archives Walking Tours
DESCRIPTION:
URL:https://www.artsquest.org/event/steelworkers-archives-walking-tours-2025-12-11/
CATEGORIES:Tours
ATTACH;FMTTYPE=image/png:https://www.artsquest.org/app/uploads/2025/10/Steelworkers-Archives-Walking-Tours-1200x392-1.png
END:VEVENT
BEGIN:VEVENT
DTSTART;TZID=America/New_York:20251208T080000
DTEND;TZID=America/New_York:20251208T093000
DTSTAMP:20260423T111040
CREATED:20251007T144158Z
LAST-MODIFIED:20251104T163611Z
UID:10000079-1765180800-1765186200@www.artsquest.org
SUMMARY:The Rise and Fall of Bethlehem Steel Tour
DESCRIPTION:
URL:https://www.artsquest.org/event/the-rise-and-fall-of-bethlehem-steel-tour-2025-12-8/
CATEGORIES:Tours
ATTACH;FMTTYPE=image/jpeg:https://www.artsquest.org/app/uploads/2025/08/rise-fall-tour.jpg
END:VEVENT
BEGIN:VEVENT
DTSTART;TZID=America/New_York:20251207T133000
DTEND;TZID=America/New_York:20251207T150000
DTSTAMP:20260423T111040
CREATED:20251007T174035Z
LAST-MODIFIED:20251007T174048Z
UID:10001676-1765114200-1765119600@www.artsquest.org
SUMMARY:Steelworkers’ Archives Walking Tours
DESCRIPTION:
URL:https://www.artsquest.org/event/steelworkers-archives-walking-tours-2025-12-7-130/
CATEGORIES:Tours
ATTACH;FMTTYPE=image/png:https://www.artsquest.org/app/uploads/2025/10/Steelworkers-Archives-Walking-Tours-1200x392-1.png
END:VEVENT
BEGIN:VEVENT
DTSTART;TZID=America/New_York:20251207T110000
DTEND;TZID=America/New_York:20251207T123000
DTSTAMP:20260423T111040
CREATED:20251007T173953Z
LAST-MODIFIED:20251007T174005Z
UID:10001550-1765105200-1765110600@www.artsquest.org
SUMMARY:Steelworkers’ Archives Walking Tours
DESCRIPTION:
URL:https://www.artsquest.org/event/steelworkers-archives-walking-tours-2025-12-7/
CATEGORIES:Tours
ATTACH;FMTTYPE=image/png:https://www.artsquest.org/app/uploads/2025/10/Steelworkers-Archives-Walking-Tours-1200x392-1.png
END:VEVENT
BEGIN:VEVENT
DTSTART;TZID=America/New_York:20251207T080000
DTEND;TZID=America/New_York:20251207T093000
DTSTAMP:20260423T111040
CREATED:20251007T144125Z
LAST-MODIFIED:20251104T163601Z
UID:10000078-1765094400-1765099800@www.artsquest.org
SUMMARY:The Rise and Fall of Bethlehem Steel Tour
DESCRIPTION:
URL:https://www.artsquest.org/event/the-rise-and-fall-of-bethlehem-steel-tour-2025-12-7/
CATEGORIES:Tours
ATTACH;FMTTYPE=image/jpeg:https://www.artsquest.org/app/uploads/2025/08/rise-fall-tour.jpg
END:VEVENT
BEGIN:VEVENT
DTSTART;TZID=America/New_York:20251206T133000
DTEND;TZID=America/New_York:20251206T150000
DTSTAMP:20260423T111040
CREATED:20251007T173913Z
LAST-MODIFIED:20251007T175527Z
UID:10001675-1765027800-1765033200@www.artsquest.org
SUMMARY:Steelworkers’ Archives Walking Tours
DESCRIPTION:
URL:https://www.artsquest.org/event/steelworkers-archives-walking-tours-2025-12-6-130/
CATEGORIES:Tours
ATTACH;FMTTYPE=image/png:https://www.artsquest.org/app/uploads/2025/10/Steelworkers-Archives-Walking-Tours-1200x392-1.png
END:VEVENT
BEGIN:VEVENT
DTSTART;TZID=America/New_York:20251206T110000
DTEND;TZID=America/New_York:20251206T123000
DTSTAMP:20260423T111040
CREATED:20251007T173839Z
LAST-MODIFIED:20251007T173849Z
UID:10001549-1765018800-1765024200@www.artsquest.org
SUMMARY:Steelworkers’ Archives Walking Tours
DESCRIPTION:
URL:https://www.artsquest.org/event/steelworkers-archives-walking-tours-2025-12-6/
CATEGORIES:Tours
ATTACH;FMTTYPE=image/png:https://www.artsquest.org/app/uploads/2025/10/Steelworkers-Archives-Walking-Tours-1200x392-1.png
END:VEVENT
BEGIN:VEVENT
DTSTART;TZID=America/New_York:20251206T080000
DTEND;TZID=America/New_York:20251206T093000
DTSTAMP:20260423T111040
CREATED:20251007T144049Z
LAST-MODIFIED:20251104T163553Z
UID:10000077-1765008000-1765013400@www.artsquest.org
SUMMARY:The Rise and Fall of Bethlehem Steel Tour
DESCRIPTION:
URL:https://www.artsquest.org/event/the-rise-and-fall-of-bethlehem-steel-tour-2025-12-6/
CATEGORIES:Tours
ATTACH;FMTTYPE=image/jpeg:https://www.artsquest.org/app/uploads/2025/08/rise-fall-tour.jpg
END:VEVENT
BEGIN:VEVENT
DTSTART;TZID=America/New_York:20251205T110000
DTEND;TZID=America/New_York:20251205T123000
DTSTAMP:20260423T111040
CREATED:20251007T173807Z
LAST-MODIFIED:20251007T173818Z
UID:10001548-1764932400-1764937800@www.artsquest.org
SUMMARY:Steelworkers’ Archives Walking Tours
DESCRIPTION:
URL:https://www.artsquest.org/event/steelworkers-archives-walking-tours-2025-12-5/
CATEGORIES:Tours
ATTACH;FMTTYPE=image/png:https://www.artsquest.org/app/uploads/2025/10/Steelworkers-Archives-Walking-Tours-1200x392-1.png
END:VEVENT
BEGIN:VEVENT
DTSTART;TZID=America/New_York:20251205T080000
DTEND;TZID=America/New_York:20251205T093000
DTSTAMP:20260423T111040
CREATED:20251007T144015Z
LAST-MODIFIED:20251104T163544Z
UID:10000076-1764921600-1764927000@www.artsquest.org
SUMMARY:The Rise and Fall of Bethlehem Steel Tour
DESCRIPTION:
URL:https://www.artsquest.org/event/the-rise-and-fall-of-bethlehem-steel-tour-2025-12-5/
CATEGORIES:Tours
ATTACH;FMTTYPE=image/jpeg:https://www.artsquest.org/app/uploads/2025/08/rise-fall-tour.jpg
END:VEVENT
BEGIN:VEVENT
DTSTART;TZID=America/New_York:20251204T110000
DTEND;TZID=America/New_York:20251204T123000
DTSTAMP:20260423T111040
CREATED:20251007T173726Z
LAST-MODIFIED:20251007T173747Z
UID:10001547-1764846000-1764851400@www.artsquest.org
SUMMARY:Steelworkers’ Archives Walking Tours
DESCRIPTION:
URL:https://www.artsquest.org/event/steelworkers-archives-walking-tours-2025-12-4/
CATEGORIES:Tours
ATTACH;FMTTYPE=image/png:https://www.artsquest.org/app/uploads/2025/10/Steelworkers-Archives-Walking-Tours-1200x392-1.png
END:VEVENT
BEGIN:VEVENT
DTSTART;TZID=America/New_York:20251201T080000
DTEND;TZID=America/New_York:20251201T093000
DTSTAMP:20260423T111040
CREATED:20251007T143944Z
LAST-MODIFIED:20251104T163515Z
UID:10000075-1764576000-1764581400@www.artsquest.org
SUMMARY:The Rise and Fall of Bethlehem Steel Tour
DESCRIPTION:
URL:https://www.artsquest.org/event/the-rise-and-fall-of-bethlehem-steel-tour-2025-12-1/
CATEGORIES:Tours
ATTACH;FMTTYPE=image/jpeg:https://www.artsquest.org/app/uploads/2025/08/rise-fall-tour.jpg
END:VEVENT
BEGIN:VEVENT
DTSTART;TZID=America/New_York:20251130T133000
DTEND;TZID=America/New_York:20251130T150000
DTSTAMP:20260423T111040
CREATED:20251007T173642Z
LAST-MODIFIED:20251007T173655Z
UID:10001674-1764509400-1764514800@www.artsquest.org
SUMMARY:Steelworkers’ Archives Walking Tours
DESCRIPTION:
URL:https://www.artsquest.org/event/steelworkers-archives-walking-tours-2025-11-30-130/
CATEGORIES:Tours
ATTACH;FMTTYPE=image/png:https://www.artsquest.org/app/uploads/2025/10/Steelworkers-Archives-Walking-Tours-1200x392-1.png
END:VEVENT
BEGIN:VEVENT
DTSTART;TZID=America/New_York:20251130T110000
DTEND;TZID=America/New_York:20251130T123000
DTSTAMP:20260423T111040
CREATED:20251007T173609Z
LAST-MODIFIED:20251007T173619Z
UID:10001546-1764500400-1764505800@www.artsquest.org
SUMMARY:Steelworkers’ Archives Walking Tours
DESCRIPTION:
URL:https://www.artsquest.org/event/steelworkers-archives-walking-tours-2025-11-30/
CATEGORIES:Tours
ATTACH;FMTTYPE=image/png:https://www.artsquest.org/app/uploads/2025/10/Steelworkers-Archives-Walking-Tours-1200x392-1.png
END:VEVENT
BEGIN:VEVENT
DTSTART;TZID=America/New_York:20251130T080000
DTEND;TZID=America/New_York:20251130T093000
DTSTAMP:20260423T111040
CREATED:20251007T143854Z
LAST-MODIFIED:20251104T163507Z
UID:10000074-1764489600-1764495000@www.artsquest.org
SUMMARY:The Rise and Fall of Bethlehem Steel Tour
DESCRIPTION:
URL:https://www.artsquest.org/event/the-rise-and-fall-of-bethlehem-steel-tour-2025-11-30/
CATEGORIES:Tours
ATTACH;FMTTYPE=image/jpeg:https://www.artsquest.org/app/uploads/2025/08/rise-fall-tour.jpg
END:VEVENT
BEGIN:VEVENT
DTSTART;TZID=America/New_York:20251129T133000
DTEND;TZID=America/New_York:20251129T150000
DTSTAMP:20260423T111040
CREATED:20251007T173530Z
LAST-MODIFIED:20251007T173543Z
UID:10001673-1764423000-1764428400@www.artsquest.org
SUMMARY:Steelworkers’ Archives Walking Tours
DESCRIPTION:
URL:https://www.artsquest.org/event/steelworkers-archives-walking-tours-2025-11-29-130/
CATEGORIES:Tours
ATTACH;FMTTYPE=image/png:https://www.artsquest.org/app/uploads/2025/10/Steelworkers-Archives-Walking-Tours-1200x392-1.png
END:VEVENT
BEGIN:VEVENT
DTSTART;TZID=America/New_York:20251129T110000
DTEND;TZID=America/New_York:20251129T123000
DTSTAMP:20260423T111040
CREATED:20251007T173435Z
LAST-MODIFIED:20251007T173448Z
UID:10001545-1764414000-1764419400@www.artsquest.org
SUMMARY:Steelworkers’ Archives Walking Tours
DESCRIPTION:
URL:https://www.artsquest.org/event/steelworkers-archives-walking-tours-2025-11-29/
CATEGORIES:Tours
ATTACH;FMTTYPE=image/png:https://www.artsquest.org/app/uploads/2025/10/Steelworkers-Archives-Walking-Tours-1200x392-1.png
END:VEVENT
BEGIN:VEVENT
DTSTART;TZID=America/New_York:20251129T080000
DTEND;TZID=America/New_York:20251129T093000
DTSTAMP:20260423T111040
CREATED:20251007T143822Z
LAST-MODIFIED:20251104T163457Z
UID:10000073-1764403200-1764408600@www.artsquest.org
SUMMARY:The Rise and Fall of Bethlehem Steel Tour
DESCRIPTION:
URL:https://www.artsquest.org/event/the-rise-and-fall-of-bethlehem-steel-tour-2025-11-29/
CATEGORIES:Tours
ATTACH;FMTTYPE=image/jpeg:https://www.artsquest.org/app/uploads/2025/08/rise-fall-tour.jpg
END:VEVENT
BEGIN:VEVENT
DTSTART;TZID=America/New_York:20251128T110000
DTEND;TZID=America/New_York:20251128T123000
DTSTAMP:20260423T111040
CREATED:20251007T173253Z
LAST-MODIFIED:20251007T173304Z
UID:10001544-1764327600-1764333000@www.artsquest.org
SUMMARY:Steelworkers’ Archives Walking Tours
DESCRIPTION:https://secure.artsquest.org/Online/seatSelect.asp?createBO::WSmap=1&BOparam::WSmap::loadBestAvailable::performance_ids=6A6CA81C-C4AF-492A-99D3-2D08FB7CBA9C
URL:https://www.artsquest.org/event/steelworkers-archives-walking-tours-2025-11-28/
CATEGORIES:Tours
ATTACH;FMTTYPE=image/png:https://www.artsquest.org/app/uploads/2025/10/Steelworkers-Archives-Walking-Tours-1200x392-1.png
END:VEVENT
BEGIN:VEVENT
DTSTART;TZID=America/New_York:20251128T080000
DTEND;TZID=America/New_York:20251128T093000
DTSTAMP:20260423T111040
CREATED:20251007T143629Z
LAST-MODIFIED:20251104T163446Z
UID:10000072-1764316800-1764322200@www.artsquest.org
SUMMARY:The Rise and Fall of Bethlehem Steel Tour
DESCRIPTION:
URL:https://www.artsquest.org/event/the-rise-and-fall-of-bethlehem-steel-tour-2025-11-28/
CATEGORIES:Tours
ATTACH;FMTTYPE=image/jpeg:https://www.artsquest.org/app/uploads/2025/08/rise-fall-tour.jpg
END:VEVENT
BEGIN:VEVENT
DTSTART;TZID=America/New_York:20251124T080000
DTEND;TZID=America/New_York:20251124T093000
DTSTAMP:20260423T111040
CREATED:20251007T143539Z
LAST-MODIFIED:20251104T163403Z
UID:10000071-1763971200-1763976600@www.artsquest.org
SUMMARY:The Rise and Fall of Bethlehem Steel Tour
DESCRIPTION:
URL:https://www.artsquest.org/event/the-rise-and-fall-of-bethlehem-steel-tour-2025-11-24/
CATEGORIES:Tours
ATTACH;FMTTYPE=image/jpeg:https://www.artsquest.org/app/uploads/2025/08/rise-fall-tour.jpg
END:VEVENT
BEGIN:VEVENT
DTSTART;TZID=America/New_York:20251123T133000
DTEND;TZID=America/New_York:20251123T150000
DTSTAMP:20260423T111040
CREATED:20251007T173123Z
LAST-MODIFIED:20251007T173136Z
UID:10001672-1763904600-1763910000@www.artsquest.org
SUMMARY:Steelworkers’ Archives Walking Tours
DESCRIPTION:
URL:https://www.artsquest.org/event/steelworkers-archives-walking-tours-2025-11-23-130/
CATEGORIES:Tours
ATTACH;FMTTYPE=image/png:https://www.artsquest.org/app/uploads/2025/10/Steelworkers-Archives-Walking-Tours-1200x392-1.png
END:VEVENT
END:VCALENDAR