BEGIN:VCALENDAR
VERSION:2.0
PRODID:-//ArtsQuest - ECPv6.15.5//NONSGML v1.0//EN
CALSCALE:GREGORIAN
METHOD:PUBLISH
X-WR-CALNAME:ArtsQuest
X-ORIGINAL-URL:https://www.artsquest.org
X-WR-CALDESC:Events for ArtsQuest
REFRESH-INTERVAL;VALUE=DURATION:PT1H
X-Robots-Tag:noindex
X-PUBLISHED-TTL:PT1H
BEGIN:VTIMEZONE
TZID:America/New_York
BEGIN:DAYLIGHT
TZOFFSETFROM:-0500
TZOFFSETTO:-0400
TZNAME:EDT
DTSTART:20250309T070000
END:DAYLIGHT
BEGIN:STANDARD
TZOFFSETFROM:-0400
TZOFFSETTO:-0500
TZNAME:EST
DTSTART:20251102T060000
END:STANDARD
END:VTIMEZONE
BEGIN:VEVENT
DTSTART;TZID=America/New_York:20251113T110000
DTEND;TZID=America/New_York:20251113T123000
DTSTAMP:20260423T162113
CREATED:20251007T172355Z
LAST-MODIFIED:20251007T172408Z
UID:10001535-1763031600-1763037000@www.artsquest.org
SUMMARY:Steelworkers’ Archives Walking Tours
DESCRIPTION:
URL:https://www.artsquest.org/event/steelworkers-archives-walking-tours-2025-11-13/
CATEGORIES:Tours
ATTACH;FMTTYPE=image/png:https://www.artsquest.org/app/uploads/2025/10/Steelworkers-Archives-Walking-Tours-1200x392-1.png
END:VEVENT
BEGIN:VEVENT
DTSTART;TZID=America/New_York:20251110T080000
DTEND;TZID=America/New_York:20251110T093000
DTSTAMP:20260423T162113
CREATED:20251007T142635Z
LAST-MODIFIED:20251104T163227Z
UID:10000063-1762761600-1762767000@www.artsquest.org
SUMMARY:The Rise and Fall of Bethlehem Steel Tour
DESCRIPTION:
URL:https://www.artsquest.org/event/the-rise-and-fall-of-bethlehem-steel-tour-2025-11-10/
CATEGORIES:Tours
ATTACH;FMTTYPE=image/jpeg:https://www.artsquest.org/app/uploads/2025/08/rise-fall-tour.jpg
END:VEVENT
BEGIN:VEVENT
DTSTART;TZID=America/New_York:20251109T133000
DTEND;TZID=America/New_York:20251109T150000
DTSTAMP:20260423T162113
CREATED:20251007T172308Z
LAST-MODIFIED:20251007T172325Z
UID:10001668-1762695000-1762700400@www.artsquest.org
SUMMARY:Steelworkers’ Archives Walking Tours
DESCRIPTION:
URL:https://www.artsquest.org/event/steelworkers-archives-walking-tours-2025-11-9-130/
CATEGORIES:Tours
ATTACH;FMTTYPE=image/png:https://www.artsquest.org/app/uploads/2025/10/Steelworkers-Archives-Walking-Tours-1200x392-1.png
END:VEVENT
BEGIN:VEVENT
DTSTART;TZID=America/New_York:20251109T110000
DTEND;TZID=America/New_York:20251109T123000
DTSTAMP:20260423T162113
CREATED:20251007T172236Z
LAST-MODIFIED:20251007T172247Z
UID:10001534-1762686000-1762691400@www.artsquest.org
SUMMARY:Steelworkers’ Archives Walking Tours
DESCRIPTION:
URL:https://www.artsquest.org/event/steelworkers-archives-walking-tours-2025-11-9/
CATEGORIES:Tours
ATTACH;FMTTYPE=image/png:https://www.artsquest.org/app/uploads/2025/10/Steelworkers-Archives-Walking-Tours-1200x392-1.png
END:VEVENT
BEGIN:VEVENT
DTSTART;TZID=America/New_York:20251109T080000
DTEND;TZID=America/New_York:20251109T093000
DTSTAMP:20260423T162113
CREATED:20251007T142503Z
LAST-MODIFIED:20251104T163215Z
UID:10000062-1762675200-1762680600@www.artsquest.org
SUMMARY:The Rise and Fall of Bethlehem Steel Tour
DESCRIPTION:
URL:https://www.artsquest.org/event/the-rise-and-fall-of-bethlehem-steel-tour-2025-11-9/
CATEGORIES:Tours
ATTACH;FMTTYPE=image/jpeg:https://www.artsquest.org/app/uploads/2025/08/rise-fall-tour.jpg
END:VEVENT
BEGIN:VEVENT
DTSTART;TZID=America/New_York:20251108T133000
DTEND;TZID=America/New_York:20251108T150000
DTSTAMP:20260423T162113
CREATED:20251007T172122Z
LAST-MODIFIED:20251007T172137Z
UID:10001667-1762608600-1762614000@www.artsquest.org
SUMMARY:Steelworkers’ Archives Walking Tours
DESCRIPTION:
URL:https://www.artsquest.org/event/steelworkers-archives-walking-tours-2025-11-8-130/
CATEGORIES:Tours
ATTACH;FMTTYPE=image/png:https://www.artsquest.org/app/uploads/2025/10/Steelworkers-Archives-Walking-Tours-1200x392-1.png
END:VEVENT
BEGIN:VEVENT
DTSTART;TZID=America/New_York:20251108T110000
DTEND;TZID=America/New_York:20251108T123000
DTSTAMP:20260423T162113
CREATED:20251007T171726Z
LAST-MODIFIED:20251007T171740Z
UID:10001533-1762599600-1762605000@www.artsquest.org
SUMMARY:Steelworkers’ Archives Walking Tours
DESCRIPTION:
URL:https://www.artsquest.org/event/steelworkers-archives-walking-tours-2025-11-8/
CATEGORIES:Tours
ATTACH;FMTTYPE=image/png:https://www.artsquest.org/app/uploads/2025/10/Steelworkers-Archives-Walking-Tours-1200x392-1.png
END:VEVENT
BEGIN:VEVENT
DTSTART;TZID=America/New_York:20251108T080000
DTEND;TZID=America/New_York:20251108T093000
DTSTAMP:20260423T162113
CREATED:20251007T142424Z
LAST-MODIFIED:20251104T163204Z
UID:10000061-1762588800-1762594200@www.artsquest.org
SUMMARY:The Rise and Fall of Bethlehem Steel Tour
DESCRIPTION:
URL:https://www.artsquest.org/event/the-rise-and-fall-of-bethlehem-steel-tour-2025-11-8/
CATEGORIES:Tours
ATTACH;FMTTYPE=image/jpeg:https://www.artsquest.org/app/uploads/2025/08/rise-fall-tour.jpg
END:VEVENT
BEGIN:VEVENT
DTSTART;TZID=America/New_York:20251107T110000
DTEND;TZID=America/New_York:20251107T123000
DTSTAMP:20260423T162113
CREATED:20251007T171646Z
LAST-MODIFIED:20251007T171657Z
UID:10001532-1762513200-1762518600@www.artsquest.org
SUMMARY:Steelworkers’ Archives Walking Tours
DESCRIPTION:
URL:https://www.artsquest.org/event/steelworkers-archives-walking-tours-2025-11-7/
CATEGORIES:Tours
ATTACH;FMTTYPE=image/png:https://www.artsquest.org/app/uploads/2025/10/Steelworkers-Archives-Walking-Tours-1200x392-1.png
END:VEVENT
BEGIN:VEVENT
DTSTART;TZID=America/New_York:20251107T080000
DTEND;TZID=America/New_York:20251107T093000
DTSTAMP:20260423T162113
CREATED:20251007T142252Z
LAST-MODIFIED:20251104T163119Z
UID:10000060-1762502400-1762507800@www.artsquest.org
SUMMARY:The Rise and Fall of Bethlehem Steel Tour
DESCRIPTION:
URL:https://www.artsquest.org/event/the-rise-and-fall-of-bethlehem-steel-tour-2025-11-7/
CATEGORIES:Tours
ATTACH;FMTTYPE=image/jpeg:https://www.artsquest.org/app/uploads/2025/08/rise-fall-tour.jpg
END:VEVENT
BEGIN:VEVENT
DTSTART;TZID=America/New_York:20251106T110000
DTEND;TZID=America/New_York:20251106T123000
DTSTAMP:20260423T162113
CREATED:20251007T171603Z
LAST-MODIFIED:20251007T171615Z
UID:10001531-1762426800-1762432200@www.artsquest.org
SUMMARY:Steelworkers’ Archives Walking Tours
DESCRIPTION:
URL:https://www.artsquest.org/event/steelworkers-archives-walking-tours-2025-11-6/
CATEGORIES:Tours
ATTACH;FMTTYPE=image/png:https://www.artsquest.org/app/uploads/2025/10/Steelworkers-Archives-Walking-Tours-1200x392-1.png
END:VEVENT
BEGIN:VEVENT
DTSTART;TZID=America/New_York:20251103T080000
DTEND;TZID=America/New_York:20251103T093000
DTSTAMP:20260423T162113
CREATED:20251006T205740Z
LAST-MODIFIED:20251006T205754Z
UID:10000059-1762156800-1762162200@www.artsquest.org
SUMMARY:The Rise and Fall of Bethlehem Steel Tour
DESCRIPTION:https://secure.artsquest.org/Online/seatSelect.asp?createBO::WSmap=1&BOparam::WSmap::loadBestAvailable::performance_ids=716890E9-4A28-4DF8-A2DD-97969EE0E093
URL:https://www.artsquest.org/event/the-rise-and-fall-of-bethlehem-steel-tour-2025-11-3/
CATEGORIES:Tours
ATTACH;FMTTYPE=image/jpeg:https://www.artsquest.org/app/uploads/2025/08/rise-fall-tour.jpg
END:VEVENT
BEGIN:VEVENT
DTSTART;TZID=America/New_York:20251102T133000
DTEND;TZID=America/New_York:20251102T150000
DTSTAMP:20260423T162113
CREATED:20251007T171439Z
LAST-MODIFIED:20251007T171455Z
UID:10001666-1762090200-1762095600@www.artsquest.org
SUMMARY:Steelworkers’ Archives Walking Tours
DESCRIPTION:https://secure.artsquest.org/Online/seatSelect.asp?createBO::WSmap=1&BOparam::WSmap::loadBestAvailable::performance_ids=A1787343-B694-4E1E-AE1A-6E10C8A0AFFE
URL:https://www.artsquest.org/event/steelworkers-archives-walking-tours-2025-11-2-130/
CATEGORIES:Tours
ATTACH;FMTTYPE=image/png:https://www.artsquest.org/app/uploads/2025/10/Steelworkers-Archives-Walking-Tours-1200x392-1.png
END:VEVENT
BEGIN:VEVENT
DTSTART;TZID=America/New_York:20251102T110000
DTEND;TZID=America/New_York:20251102T123000
DTSTAMP:20260423T162113
CREATED:20251007T170749Z
LAST-MODIFIED:20251007T170954Z
UID:10001530-1762081200-1762086600@www.artsquest.org
SUMMARY:Steelworkers’ Archives Walking Tours
DESCRIPTION:
URL:https://www.artsquest.org/event/steelworkers-archives-walking-tours-2025-11-2/
CATEGORIES:Tours
ATTACH;FMTTYPE=image/png:https://www.artsquest.org/app/uploads/2025/10/Steelworkers-Archives-Walking-Tours-1200x392-1.png
END:VEVENT
BEGIN:VEVENT
DTSTART;TZID=America/New_York:20251102T080000
DTEND;TZID=America/New_York:20251102T093000
DTSTAMP:20260423T162113
CREATED:20251006T205701Z
LAST-MODIFIED:20251006T205716Z
UID:10000058-1762070400-1762075800@www.artsquest.org
SUMMARY:The Rise and Fall of Bethlehem Steel Tour
DESCRIPTION:https://secure.artsquest.org/Online/seatSelect.asp?createBO::WSmap=1&BOparam::WSmap::loadBestAvailable::performance_ids=D42C374C-A1E3-4141-8AA9-BCFD6EAA7046
URL:https://www.artsquest.org/event/the-rise-and-fall-of-bethlehem-steel-tour-2025-11-2/
CATEGORIES:Tours
ATTACH;FMTTYPE=image/jpeg:https://www.artsquest.org/app/uploads/2025/08/rise-fall-tour.jpg
END:VEVENT
BEGIN:VEVENT
DTSTART;TZID=America/New_York:20251101T133000
DTEND;TZID=America/New_York:20251101T150000
DTSTAMP:20260423T162113
CREATED:20251007T165758Z
LAST-MODIFIED:20251007T165812Z
UID:10001665-1762003800-1762009200@www.artsquest.org
SUMMARY:Steelworkers’ Archives Walking Tours
DESCRIPTION:
URL:https://www.artsquest.org/event/steelworkers-archives-walking-tours-2025-11-1-130/
CATEGORIES:Tours
ATTACH;FMTTYPE=image/png:https://www.artsquest.org/app/uploads/2025/10/Steelworkers-Archives-Walking-Tours-1200x392-1.png
END:VEVENT
BEGIN:VEVENT
DTSTART;TZID=America/New_York:20251101T110000
DTEND;TZID=America/New_York:20251101T123000
DTSTAMP:20260423T162113
CREATED:20251007T165835Z
LAST-MODIFIED:20251007T165848Z
UID:10001529-1761994800-1762000200@www.artsquest.org
SUMMARY:Steelworkers’ Archives Walking Tours
DESCRIPTION:
URL:https://www.artsquest.org/event/steelworkers-archives-walking-tours-2025-11-1/
CATEGORIES:Tours
ATTACH;FMTTYPE=image/png:https://www.artsquest.org/app/uploads/2025/10/Steelworkers-Archives-Walking-Tours-1200x392-1.png
END:VEVENT
BEGIN:VEVENT
DTSTART;TZID=America/New_York:20251101T090000
DTEND;TZID=America/New_York:20251101T103000
DTSTAMP:20260423T162113
CREATED:20251006T205607Z
LAST-MODIFIED:20251006T205622Z
UID:10000057-1761987600-1761993000@www.artsquest.org
SUMMARY:The Rise and Fall of Bethlehem Steel Tour
DESCRIPTION:https://secure.artsquest.org/Online/seatSelect.asp?createBO::WSmap=1&BOparam::WSmap::loadBestAvailable::performance_ids=7299FBC5-9158-4A41-81E0-B3CF9D5607FF
URL:https://www.artsquest.org/event/the-rise-and-fall-of-bethlehem-steel-tour-2025-11-1/
CATEGORIES:Tours
ATTACH;FMTTYPE=image/jpeg:https://www.artsquest.org/app/uploads/2025/08/rise-fall-tour.jpg
END:VEVENT
BEGIN:VEVENT
DTSTART;TZID=America/New_York:20251031T110000
DTEND;TZID=America/New_York:20251031T123000
DTSTAMP:20260423T162113
CREATED:20251007T162843Z
LAST-MODIFIED:20251007T162853Z
UID:10001528-1761908400-1761913800@www.artsquest.org
SUMMARY:Steelworkers’ Archives Walking Tours
DESCRIPTION:
URL:https://www.artsquest.org/event/steelworkers-archives-walking-tours-2025-10-31/
CATEGORIES:Tours
ATTACH;FMTTYPE=image/png:https://www.artsquest.org/app/uploads/2025/10/Steelworkers-Archives-Walking-Tours-1200x392-1.png
END:VEVENT
BEGIN:VEVENT
DTSTART;TZID=America/New_York:20251031T090000
DTEND;TZID=America/New_York:20251031T103000
DTSTAMP:20260423T162113
CREATED:20251006T173136Z
LAST-MODIFIED:20251006T173547Z
UID:10000056-1761901200-1761906600@www.artsquest.org
SUMMARY:The Rise and Fall of Bethlehem Steel Tour
DESCRIPTION:
URL:https://www.artsquest.org/event/the-rise-and-fall-of-bethlehem-steel-tour-2025-10-31/
CATEGORIES:Tours
ATTACH;FMTTYPE=image/jpeg:https://www.artsquest.org/app/uploads/2025/08/rise-fall-tour.jpg
END:VEVENT
BEGIN:VEVENT
DTSTART;TZID=America/New_York:20251030T110000
DTEND;TZID=America/New_York:20251030T123000
DTSTAMP:20260423T162113
CREATED:20251007T162804Z
LAST-MODIFIED:20251007T162820Z
UID:10001527-1761822000-1761827400@www.artsquest.org
SUMMARY:Steelworkers’ Archives Walking Tours
DESCRIPTION:https://secure.artsquest.org/Online/seatSelect.asp?createBO::WSmap=1&BOparam::WSmap::loadBestAvailable::performance_ids=5FAC3F9C-27C5-4FC2-9F0D-52E93F2FB5A8
URL:https://www.artsquest.org/event/steelworkers-archives-walking-tours-2025-10-30/
CATEGORIES:Tours
ATTACH;FMTTYPE=image/png:https://www.artsquest.org/app/uploads/2025/10/Steelworkers-Archives-Walking-Tours-1200x392-1.png
END:VEVENT
BEGIN:VEVENT
DTSTART;TZID=America/New_York:20251027T090000
DTEND;TZID=America/New_York:20251027T103000
DTSTAMP:20260423T162113
CREATED:20251006T172957Z
LAST-MODIFIED:20251006T173541Z
UID:10000055-1761555600-1761561000@www.artsquest.org
SUMMARY:The Rise and Fall of Bethlehem Steel Tour
DESCRIPTION:
URL:https://www.artsquest.org/event/the-rise-and-fall-of-bethlehem-steel-tour-2025-10-27/
CATEGORIES:Tours
ATTACH;FMTTYPE=image/jpeg:https://www.artsquest.org/app/uploads/2025/08/rise-fall-tour.jpg
END:VEVENT
BEGIN:VEVENT
DTSTART;TZID=America/New_York:20251026T133000
DTEND;TZID=America/New_York:20251026T150000
DTSTAMP:20260423T162113
CREATED:20251007T162240Z
LAST-MODIFIED:20251007T162255Z
UID:10001664-1761485400-1761490800@www.artsquest.org
SUMMARY:Steelworkers’ Archives Walking Tours
DESCRIPTION:https://secure.artsquest.org/Online/seatSelect.asp?createBO::WSmap=1&BOparam::WSmap::loadBestAvailable::performance_ids=EB5F595F-5619-4155-8508-E848E81431DB
URL:https://www.artsquest.org/event/steelworkers-archives-walking-tours-2025-10-26-130/
CATEGORIES:Tours
ATTACH;FMTTYPE=image/png:https://www.artsquest.org/app/uploads/2025/10/Steelworkers-Archives-Walking-Tours-1200x392-1.png
END:VEVENT
BEGIN:VEVENT
DTSTART;TZID=America/New_York:20251026T110000
DTEND;TZID=America/New_York:20251026T123000
DTSTAMP:20260423T162113
CREATED:20251007T162317Z
LAST-MODIFIED:20251007T162328Z
UID:10001526-1761476400-1761481800@www.artsquest.org
SUMMARY:Steelworkers’ Archives Walking Tours
DESCRIPTION:https://secure.artsquest.org/Online/seatSelect.asp?createBO::WSmap=1&BOparam::WSmap::loadBestAvailable::performance_ids=395A3994-E157-493E-A7AE-A86B0D16705D
URL:https://www.artsquest.org/event/steelworkers-archives-walking-tours-2025-10-26/
CATEGORIES:Tours
ATTACH;FMTTYPE=image/png:https://www.artsquest.org/app/uploads/2025/10/Steelworkers-Archives-Walking-Tours-1200x392-1.png
END:VEVENT
BEGIN:VEVENT
DTSTART;TZID=America/New_York:20251026T090000
DTEND;TZID=America/New_York:20251026T103000
DTSTAMP:20260423T162113
CREATED:20251006T172505Z
LAST-MODIFIED:20251006T173533Z
UID:10000054-1761469200-1761474600@www.artsquest.org
SUMMARY:The Rise and Fall of Bethlehem Steel Tour
DESCRIPTION:
URL:https://www.artsquest.org/event/the-rise-and-fall-of-bethlehem-steel-tour-2025-10-26/
CATEGORIES:Tours
ATTACH;FMTTYPE=image/jpeg:https://www.artsquest.org/app/uploads/2025/08/rise-fall-tour.jpg
END:VEVENT
BEGIN:VEVENT
DTSTART;TZID=America/New_York:20251025T133000
DTEND;TZID=America/New_York:20251025T150000
DTSTAMP:20260423T162113
CREATED:20251007T162152Z
LAST-MODIFIED:20251007T162212Z
UID:10001663-1761399000-1761404400@www.artsquest.org
SUMMARY:Steelworkers’ Archives Walking Tours
DESCRIPTION:
URL:https://www.artsquest.org/event/steelworkers-archives-walking-tours-2025-10-25-130/
CATEGORIES:Tours
ATTACH;FMTTYPE=image/png:https://www.artsquest.org/app/uploads/2025/10/Steelworkers-Archives-Walking-Tours-1200x392-1.png
END:VEVENT
BEGIN:VEVENT
DTSTART;TZID=America/New_York:20251025T110000
DTEND;TZID=America/New_York:20251025T123000
DTSTAMP:20260423T162113
CREATED:20251007T161823Z
LAST-MODIFIED:20251007T161835Z
UID:10001525-1761390000-1761395400@www.artsquest.org
SUMMARY:Steelworkers’ Archives Walking Tours
DESCRIPTION:https://secure.artsquest.org/Online/seatSelect.asp?createBO::WSmap=1&BOparam::WSmap::loadBestAvailable::performance_ids=7165C82B-A743-412D-841E-694B6626A0FC
URL:https://www.artsquest.org/event/steelworkers-archives-walking-tours-2025-10-25/
CATEGORIES:Tours
ATTACH;FMTTYPE=image/png:https://www.artsquest.org/app/uploads/2025/10/Steelworkers-Archives-Walking-Tours-1200x392-1.png
END:VEVENT
BEGIN:VEVENT
DTSTART;TZID=America/New_York:20251025T090000
DTEND;TZID=America/New_York:20251025T103000
DTSTAMP:20260423T162113
CREATED:20251006T172146Z
LAST-MODIFIED:20251006T173528Z
UID:10000053-1761382800-1761388200@www.artsquest.org
SUMMARY:The Rise and Fall of Bethlehem Steel Tour
DESCRIPTION:
URL:https://www.artsquest.org/event/the-rise-and-fall-of-bethlehem-steel-tour-2025-10-25/
CATEGORIES:Tours
ATTACH;FMTTYPE=image/jpeg:https://www.artsquest.org/app/uploads/2025/08/rise-fall-tour.jpg
END:VEVENT
BEGIN:VEVENT
DTSTART;TZID=America/New_York:20251024T110000
DTEND;TZID=America/New_York:20251024T123000
DTSTAMP:20260423T162113
CREATED:20251007T161731Z
LAST-MODIFIED:20251007T161743Z
UID:10001524-1761303600-1761309000@www.artsquest.org
SUMMARY:Steelworkers’ Archives Walking Tours
DESCRIPTION:https://secure.artsquest.org/Online/seatSelect.asp?createBO::WSmap=1&BOparam::WSmap::loadBestAvailable::performance_ids=E618D51C-35D3-4D59-A474-B26FB4D22CD2
URL:https://www.artsquest.org/event/steelworkers-archives-walking-tours-2025-10-24/
CATEGORIES:Tours
ATTACH;FMTTYPE=image/png:https://www.artsquest.org/app/uploads/2025/10/Steelworkers-Archives-Walking-Tours-1200x392-1.png
END:VEVENT
BEGIN:VEVENT
DTSTART;TZID=America/New_York:20251024T090000
DTEND;TZID=America/New_York:20251024T103000
DTSTAMP:20260423T162113
CREATED:20251006T171949Z
LAST-MODIFIED:20251006T173501Z
UID:10000044-1761296400-1761301800@www.artsquest.org
SUMMARY:The Rise and Fall of Bethlehem Steel Tour
DESCRIPTION:
URL:https://www.artsquest.org/event/the-rise-and-fall-of-bethlehem-steel-tour-2025-10-24/
CATEGORIES:Tours
ATTACH;FMTTYPE=image/jpeg:https://www.artsquest.org/app/uploads/2025/08/rise-fall-tour.jpg
END:VEVENT
END:VCALENDAR