BEGIN:VCALENDAR
VERSION:2.0
PRODID:-//ArtsQuest - ECPv6.15.5//NONSGML v1.0//EN
CALSCALE:GREGORIAN
METHOD:PUBLISH
X-WR-CALNAME:ArtsQuest
X-ORIGINAL-URL:https://www.artsquest.org
X-WR-CALDESC:Events for ArtsQuest
REFRESH-INTERVAL;VALUE=DURATION:PT1H
X-Robots-Tag:noindex
X-PUBLISHED-TTL:PT1H
BEGIN:VTIMEZONE
TZID:America/New_York
BEGIN:DAYLIGHT
TZOFFSETFROM:-0500
TZOFFSETTO:-0400
TZNAME:EDT
DTSTART:20250309T070000
END:DAYLIGHT
BEGIN:STANDARD
TZOFFSETFROM:-0400
TZOFFSETTO:-0500
TZNAME:EST
DTSTART:20251102T060000
END:STANDARD
END:VTIMEZONE
BEGIN:VEVENT
DTSTART;TZID=America/New_York:20251129T133000
DTEND;TZID=America/New_York:20251129T150000
DTSTAMP:20260423T134334
CREATED:20251007T173530Z
LAST-MODIFIED:20251007T173543Z
UID:10001673-1764423000-1764428400@www.artsquest.org
SUMMARY:Steelworkers’ Archives Walking Tours
DESCRIPTION:
URL:https://www.artsquest.org/event/steelworkers-archives-walking-tours-2025-11-29-130/
CATEGORIES:Tours
ATTACH;FMTTYPE=image/png:https://www.artsquest.org/app/uploads/2025/10/Steelworkers-Archives-Walking-Tours-1200x392-1.png
END:VEVENT
BEGIN:VEVENT
DTSTART;TZID=America/New_York:20251129T110000
DTEND;TZID=America/New_York:20251129T123000
DTSTAMP:20260423T134334
CREATED:20251007T173435Z
LAST-MODIFIED:20251007T173448Z
UID:10001545-1764414000-1764419400@www.artsquest.org
SUMMARY:Steelworkers’ Archives Walking Tours
DESCRIPTION:
URL:https://www.artsquest.org/event/steelworkers-archives-walking-tours-2025-11-29/
CATEGORIES:Tours
ATTACH;FMTTYPE=image/png:https://www.artsquest.org/app/uploads/2025/10/Steelworkers-Archives-Walking-Tours-1200x392-1.png
END:VEVENT
BEGIN:VEVENT
DTSTART;TZID=America/New_York:20251129T080000
DTEND;TZID=America/New_York:20251129T093000
DTSTAMP:20260423T134334
CREATED:20251007T143822Z
LAST-MODIFIED:20251104T163457Z
UID:10000073-1764403200-1764408600@www.artsquest.org
SUMMARY:The Rise and Fall of Bethlehem Steel Tour
DESCRIPTION:
URL:https://www.artsquest.org/event/the-rise-and-fall-of-bethlehem-steel-tour-2025-11-29/
CATEGORIES:Tours
ATTACH;FMTTYPE=image/jpeg:https://www.artsquest.org/app/uploads/2025/08/rise-fall-tour.jpg
END:VEVENT
BEGIN:VEVENT
DTSTART;TZID=America/New_York:20251128T110000
DTEND;TZID=America/New_York:20251128T123000
DTSTAMP:20260423T134334
CREATED:20251007T173253Z
LAST-MODIFIED:20251007T173304Z
UID:10001544-1764327600-1764333000@www.artsquest.org
SUMMARY:Steelworkers’ Archives Walking Tours
DESCRIPTION:https://secure.artsquest.org/Online/seatSelect.asp?createBO::WSmap=1&BOparam::WSmap::loadBestAvailable::performance_ids=6A6CA81C-C4AF-492A-99D3-2D08FB7CBA9C
URL:https://www.artsquest.org/event/steelworkers-archives-walking-tours-2025-11-28/
CATEGORIES:Tours
ATTACH;FMTTYPE=image/png:https://www.artsquest.org/app/uploads/2025/10/Steelworkers-Archives-Walking-Tours-1200x392-1.png
END:VEVENT
BEGIN:VEVENT
DTSTART;TZID=America/New_York:20251128T080000
DTEND;TZID=America/New_York:20251128T093000
DTSTAMP:20260423T134334
CREATED:20251007T143629Z
LAST-MODIFIED:20251104T163446Z
UID:10000072-1764316800-1764322200@www.artsquest.org
SUMMARY:The Rise and Fall of Bethlehem Steel Tour
DESCRIPTION:
URL:https://www.artsquest.org/event/the-rise-and-fall-of-bethlehem-steel-tour-2025-11-28/
CATEGORIES:Tours
ATTACH;FMTTYPE=image/jpeg:https://www.artsquest.org/app/uploads/2025/08/rise-fall-tour.jpg
END:VEVENT
BEGIN:VEVENT
DTSTART;TZID=America/New_York:20251124T080000
DTEND;TZID=America/New_York:20251124T093000
DTSTAMP:20260423T134334
CREATED:20251007T143539Z
LAST-MODIFIED:20251104T163403Z
UID:10000071-1763971200-1763976600@www.artsquest.org
SUMMARY:The Rise and Fall of Bethlehem Steel Tour
DESCRIPTION:
URL:https://www.artsquest.org/event/the-rise-and-fall-of-bethlehem-steel-tour-2025-11-24/
CATEGORIES:Tours
ATTACH;FMTTYPE=image/jpeg:https://www.artsquest.org/app/uploads/2025/08/rise-fall-tour.jpg
END:VEVENT
BEGIN:VEVENT
DTSTART;TZID=America/New_York:20251123T133000
DTEND;TZID=America/New_York:20251123T150000
DTSTAMP:20260423T134334
CREATED:20251007T173123Z
LAST-MODIFIED:20251007T173136Z
UID:10001672-1763904600-1763910000@www.artsquest.org
SUMMARY:Steelworkers’ Archives Walking Tours
DESCRIPTION:
URL:https://www.artsquest.org/event/steelworkers-archives-walking-tours-2025-11-23-130/
CATEGORIES:Tours
ATTACH;FMTTYPE=image/png:https://www.artsquest.org/app/uploads/2025/10/Steelworkers-Archives-Walking-Tours-1200x392-1.png
END:VEVENT
BEGIN:VEVENT
DTSTART;TZID=America/New_York:20251123T110000
DTEND;TZID=America/New_York:20251123T123000
DTSTAMP:20260423T134334
CREATED:20251007T173042Z
LAST-MODIFIED:20251007T173054Z
UID:10001542-1763895600-1763901000@www.artsquest.org
SUMMARY:Steelworkers’ Archives Walking Tours
DESCRIPTION:
URL:https://www.artsquest.org/event/steelworkers-archives-walking-tours-2025-11-23/
CATEGORIES:Tours
ATTACH;FMTTYPE=image/png:https://www.artsquest.org/app/uploads/2025/10/Steelworkers-Archives-Walking-Tours-1200x392-1.png
END:VEVENT
BEGIN:VEVENT
DTSTART;TZID=America/New_York:20251123T080000
DTEND;TZID=America/New_York:20251123T093000
DTSTAMP:20260423T134334
CREATED:20251007T143504Z
LAST-MODIFIED:20251104T163353Z
UID:10000070-1763884800-1763890200@www.artsquest.org
SUMMARY:The Rise and Fall of Bethlehem Steel Tour
DESCRIPTION:
URL:https://www.artsquest.org/event/the-rise-and-fall-of-bethlehem-steel-tour-2025-11-23/
CATEGORIES:Tours
ATTACH;FMTTYPE=image/jpeg:https://www.artsquest.org/app/uploads/2025/08/rise-fall-tour.jpg
END:VEVENT
BEGIN:VEVENT
DTSTART;TZID=America/New_York:20251122T133000
DTEND;TZID=America/New_York:20251122T150000
DTSTAMP:20260423T134334
CREATED:20251007T173007Z
LAST-MODIFIED:20251007T173020Z
UID:10001671-1763818200-1763823600@www.artsquest.org
SUMMARY:Steelworkers’ Archives Walking Tours
DESCRIPTION:https://secure.artsquest.org/Online/seatSelect.asp?createBO::WSmap=1&BOparam::WSmap::loadBestAvailable::performance_ids=52DF07A4-0161-400D-A060-1F5E3854376D
URL:https://www.artsquest.org/event/steelworkers-archives-walking-tours-2025-11-22-130/
CATEGORIES:Tours
ATTACH;FMTTYPE=image/png:https://www.artsquest.org/app/uploads/2025/10/Steelworkers-Archives-Walking-Tours-1200x392-1.png
END:VEVENT
BEGIN:VEVENT
DTSTART;TZID=America/New_York:20251122T110000
DTEND;TZID=America/New_York:20251122T123000
DTSTAMP:20260423T134334
CREATED:20251007T172939Z
LAST-MODIFIED:20251007T172948Z
UID:10001541-1763809200-1763814600@www.artsquest.org
SUMMARY:Steelworkers’ Archives Walking Tours
DESCRIPTION:
URL:https://www.artsquest.org/event/steelworkers-archives-walking-tours-2025-11-22/
CATEGORIES:Tours
ATTACH;FMTTYPE=image/png:https://www.artsquest.org/app/uploads/2025/10/Steelworkers-Archives-Walking-Tours-1200x392-1.png
END:VEVENT
BEGIN:VEVENT
DTSTART;TZID=America/New_York:20251122T080000
DTEND;TZID=America/New_York:20251122T093000
DTSTAMP:20260423T134334
CREATED:20251007T143422Z
LAST-MODIFIED:20251104T163344Z
UID:10000069-1763798400-1763803800@www.artsquest.org
SUMMARY:The Rise and Fall of Bethlehem Steel Tour
DESCRIPTION:
URL:https://www.artsquest.org/event/the-rise-and-fall-of-bethlehem-steel-tour-2025-11-22/
CATEGORIES:Tours
ATTACH;FMTTYPE=image/jpeg:https://www.artsquest.org/app/uploads/2025/08/rise-fall-tour.jpg
END:VEVENT
BEGIN:VEVENT
DTSTART;TZID=America/New_York:20251121T110000
DTEND;TZID=America/New_York:20251121T123000
DTSTAMP:20260423T134334
CREATED:20251007T172859Z
LAST-MODIFIED:20251007T172911Z
UID:10001540-1763722800-1763728200@www.artsquest.org
SUMMARY:Steelworkers’ Archives Walking Tours
DESCRIPTION:
URL:https://www.artsquest.org/event/steelworkers-archives-walking-tours-2025-11-21/
CATEGORIES:Tours
ATTACH;FMTTYPE=image/png:https://www.artsquest.org/app/uploads/2025/10/Steelworkers-Archives-Walking-Tours-1200x392-1.png
END:VEVENT
BEGIN:VEVENT
DTSTART;TZID=America/New_York:20251121T080000
DTEND;TZID=America/New_York:20251121T093000
DTSTAMP:20260423T134334
CREATED:20251007T143337Z
LAST-MODIFIED:20251104T163335Z
UID:10000068-1763712000-1763717400@www.artsquest.org
SUMMARY:The Rise and Fall of Bethlehem Steel Tour
DESCRIPTION:
URL:https://www.artsquest.org/event/the-rise-and-fall-of-bethlehem-steel-tour-2025-11-21/
CATEGORIES:Tours
ATTACH;FMTTYPE=image/jpeg:https://www.artsquest.org/app/uploads/2025/08/rise-fall-tour.jpg
END:VEVENT
BEGIN:VEVENT
DTSTART;TZID=America/New_York:20251120T110000
DTEND;TZID=America/New_York:20251120T123000
DTSTAMP:20260423T134334
CREATED:20251007T172826Z
LAST-MODIFIED:20251007T172837Z
UID:10001539-1763636400-1763641800@www.artsquest.org
SUMMARY:Steelworkers’ Archives Walking Tours
DESCRIPTION:
URL:https://www.artsquest.org/event/steelworkers-archives-walking-tours-2025-11-20/
CATEGORIES:Tours
ATTACH;FMTTYPE=image/png:https://www.artsquest.org/app/uploads/2025/10/Steelworkers-Archives-Walking-Tours-1200x392-1.png
END:VEVENT
BEGIN:VEVENT
DTSTART;TZID=America/New_York:20251117T080000
DTEND;TZID=America/New_York:20251117T093000
DTSTAMP:20260423T134334
CREATED:20251007T143259Z
LAST-MODIFIED:20251104T163316Z
UID:10000067-1763366400-1763371800@www.artsquest.org
SUMMARY:The Rise and Fall of Bethlehem Steel Tour
DESCRIPTION:
URL:https://www.artsquest.org/event/the-rise-and-fall-of-bethlehem-steel-tour-2025-11-17/
CATEGORIES:Tours
ATTACH;FMTTYPE=image/jpeg:https://www.artsquest.org/app/uploads/2025/08/rise-fall-tour.jpg
END:VEVENT
BEGIN:VEVENT
DTSTART;TZID=America/New_York:20251116T133000
DTEND;TZID=America/New_York:20251116T150000
DTSTAMP:20260423T134334
CREATED:20251007T172743Z
LAST-MODIFIED:20251007T172802Z
UID:10001670-1763299800-1763305200@www.artsquest.org
SUMMARY:Steelworkers’ Archives Walking Tours
DESCRIPTION:
URL:https://www.artsquest.org/event/steelworkers-archives-walking-tours-2025-11-16-130/
CATEGORIES:Tours
ATTACH;FMTTYPE=image/png:https://www.artsquest.org/app/uploads/2025/10/Steelworkers-Archives-Walking-Tours-1200x392-1.png
END:VEVENT
BEGIN:VEVENT
DTSTART;TZID=America/New_York:20251116T110000
DTEND;TZID=America/New_York:20251116T123000
DTSTAMP:20260423T134334
CREATED:20251007T172702Z
LAST-MODIFIED:20251007T172717Z
UID:10001538-1763290800-1763296200@www.artsquest.org
SUMMARY:Steelworkers’ Archives Walking Tours
DESCRIPTION:
URL:https://www.artsquest.org/event/steelworkers-archives-walking-tours-2025-11-16/
CATEGORIES:Tours
ATTACH;FMTTYPE=image/png:https://www.artsquest.org/app/uploads/2025/10/Steelworkers-Archives-Walking-Tours-1200x392-1.png
END:VEVENT
BEGIN:VEVENT
DTSTART;TZID=America/New_York:20251116T080000
DTEND;TZID=America/New_York:20251116T093000
DTSTAMP:20260423T134334
CREATED:20251007T143223Z
LAST-MODIFIED:20251104T163306Z
UID:10000066-1763280000-1763285400@www.artsquest.org
SUMMARY:The Rise and Fall of Bethlehem Steel Tour
DESCRIPTION:
URL:https://www.artsquest.org/event/the-rise-and-fall-of-bethlehem-steel-tour-2025-11-16/
CATEGORIES:Tours
ATTACH;FMTTYPE=image/jpeg:https://www.artsquest.org/app/uploads/2025/08/rise-fall-tour.jpg
END:VEVENT
BEGIN:VEVENT
DTSTART;TZID=America/New_York:20251115T133000
DTEND;TZID=America/New_York:20251115T150000
DTSTAMP:20260423T134334
CREATED:20251007T172555Z
LAST-MODIFIED:20251007T172607Z
UID:10001669-1763213400-1763218800@www.artsquest.org
SUMMARY:Steelworkers’ Archives Walking Tours
DESCRIPTION:
URL:https://www.artsquest.org/event/steelworkers-archives-walking-tours-2025-11-15-130/
CATEGORIES:Tours
ATTACH;FMTTYPE=image/png:https://www.artsquest.org/app/uploads/2025/10/Steelworkers-Archives-Walking-Tours-1200x392-1.png
END:VEVENT
BEGIN:VEVENT
DTSTART;TZID=America/New_York:20251115T110000
DTEND;TZID=America/New_York:20251115T123000
DTSTAMP:20260423T134334
CREATED:20251007T172513Z
LAST-MODIFIED:20251007T172525Z
UID:10001537-1763204400-1763209800@www.artsquest.org
SUMMARY:Steelworkers’ Archives Walking Tours
DESCRIPTION:
URL:https://www.artsquest.org/event/steelworkers-archives-walking-tours-2025-11-15/
CATEGORIES:Tours
ATTACH;FMTTYPE=image/png:https://www.artsquest.org/app/uploads/2025/10/Steelworkers-Archives-Walking-Tours-1200x392-1.png
END:VEVENT
BEGIN:VEVENT
DTSTART;TZID=America/New_York:20251115T080000
DTEND;TZID=America/New_York:20251115T093000
DTSTAMP:20260423T134334
CREATED:20251007T142811Z
LAST-MODIFIED:20251104T163257Z
UID:10000065-1763193600-1763199000@www.artsquest.org
SUMMARY:The Rise and Fall of Bethlehem Steel Tour
DESCRIPTION:
URL:https://www.artsquest.org/event/the-rise-and-fall-of-bethlehem-steel-tour-2025-11-15/
CATEGORIES:Tours
ATTACH;FMTTYPE=image/jpeg:https://www.artsquest.org/app/uploads/2025/08/rise-fall-tour.jpg
END:VEVENT
BEGIN:VEVENT
DTSTART;TZID=America/New_York:20251114T110000
DTEND;TZID=America/New_York:20251114T123000
DTSTAMP:20260423T134334
CREATED:20251007T172442Z
LAST-MODIFIED:20251007T172452Z
UID:10001536-1763118000-1763123400@www.artsquest.org
SUMMARY:Steelworkers’ Archives Walking Tours
DESCRIPTION:
URL:https://www.artsquest.org/event/steelworkers-archives-walking-tours-2025-11-14/
CATEGORIES:Tours
ATTACH;FMTTYPE=image/png:https://www.artsquest.org/app/uploads/2025/10/Steelworkers-Archives-Walking-Tours-1200x392-1.png
END:VEVENT
BEGIN:VEVENT
DTSTART;TZID=America/New_York:20251114T080000
DTEND;TZID=America/New_York:20251114T093000
DTSTAMP:20260423T134334
CREATED:20251007T142722Z
LAST-MODIFIED:20251104T163248Z
UID:10000064-1763107200-1763112600@www.artsquest.org
SUMMARY:The Rise and Fall of Bethlehem Steel Tour
DESCRIPTION:
URL:https://www.artsquest.org/event/the-rise-and-fall-of-bethlehem-steel-tour-2025-11-14/
CATEGORIES:Tours
ATTACH;FMTTYPE=image/jpeg:https://www.artsquest.org/app/uploads/2025/08/rise-fall-tour.jpg
END:VEVENT
BEGIN:VEVENT
DTSTART;TZID=America/New_York:20251113T110000
DTEND;TZID=America/New_York:20251113T123000
DTSTAMP:20260423T134334
CREATED:20251007T172355Z
LAST-MODIFIED:20251007T172408Z
UID:10001535-1763031600-1763037000@www.artsquest.org
SUMMARY:Steelworkers’ Archives Walking Tours
DESCRIPTION:
URL:https://www.artsquest.org/event/steelworkers-archives-walking-tours-2025-11-13/
CATEGORIES:Tours
ATTACH;FMTTYPE=image/png:https://www.artsquest.org/app/uploads/2025/10/Steelworkers-Archives-Walking-Tours-1200x392-1.png
END:VEVENT
BEGIN:VEVENT
DTSTART;TZID=America/New_York:20251110T080000
DTEND;TZID=America/New_York:20251110T093000
DTSTAMP:20260423T134334
CREATED:20251007T142635Z
LAST-MODIFIED:20251104T163227Z
UID:10000063-1762761600-1762767000@www.artsquest.org
SUMMARY:The Rise and Fall of Bethlehem Steel Tour
DESCRIPTION:
URL:https://www.artsquest.org/event/the-rise-and-fall-of-bethlehem-steel-tour-2025-11-10/
CATEGORIES:Tours
ATTACH;FMTTYPE=image/jpeg:https://www.artsquest.org/app/uploads/2025/08/rise-fall-tour.jpg
END:VEVENT
BEGIN:VEVENT
DTSTART;TZID=America/New_York:20251109T133000
DTEND;TZID=America/New_York:20251109T150000
DTSTAMP:20260423T134334
CREATED:20251007T172308Z
LAST-MODIFIED:20251007T172325Z
UID:10001668-1762695000-1762700400@www.artsquest.org
SUMMARY:Steelworkers’ Archives Walking Tours
DESCRIPTION:
URL:https://www.artsquest.org/event/steelworkers-archives-walking-tours-2025-11-9-130/
CATEGORIES:Tours
ATTACH;FMTTYPE=image/png:https://www.artsquest.org/app/uploads/2025/10/Steelworkers-Archives-Walking-Tours-1200x392-1.png
END:VEVENT
BEGIN:VEVENT
DTSTART;TZID=America/New_York:20251109T110000
DTEND;TZID=America/New_York:20251109T123000
DTSTAMP:20260423T134334
CREATED:20251007T172236Z
LAST-MODIFIED:20251007T172247Z
UID:10001534-1762686000-1762691400@www.artsquest.org
SUMMARY:Steelworkers’ Archives Walking Tours
DESCRIPTION:
URL:https://www.artsquest.org/event/steelworkers-archives-walking-tours-2025-11-9/
CATEGORIES:Tours
ATTACH;FMTTYPE=image/png:https://www.artsquest.org/app/uploads/2025/10/Steelworkers-Archives-Walking-Tours-1200x392-1.png
END:VEVENT
BEGIN:VEVENT
DTSTART;TZID=America/New_York:20251109T080000
DTEND;TZID=America/New_York:20251109T093000
DTSTAMP:20260423T134334
CREATED:20251007T142503Z
LAST-MODIFIED:20251104T163215Z
UID:10000062-1762675200-1762680600@www.artsquest.org
SUMMARY:The Rise and Fall of Bethlehem Steel Tour
DESCRIPTION:
URL:https://www.artsquest.org/event/the-rise-and-fall-of-bethlehem-steel-tour-2025-11-9/
CATEGORIES:Tours
ATTACH;FMTTYPE=image/jpeg:https://www.artsquest.org/app/uploads/2025/08/rise-fall-tour.jpg
END:VEVENT
BEGIN:VEVENT
DTSTART;TZID=America/New_York:20251108T133000
DTEND;TZID=America/New_York:20251108T150000
DTSTAMP:20260423T134334
CREATED:20251007T172122Z
LAST-MODIFIED:20251007T172137Z
UID:10001667-1762608600-1762614000@www.artsquest.org
SUMMARY:Steelworkers’ Archives Walking Tours
DESCRIPTION:
URL:https://www.artsquest.org/event/steelworkers-archives-walking-tours-2025-11-8-130/
CATEGORIES:Tours
ATTACH;FMTTYPE=image/png:https://www.artsquest.org/app/uploads/2025/10/Steelworkers-Archives-Walking-Tours-1200x392-1.png
END:VEVENT
END:VCALENDAR