BEGIN:VCALENDAR
VERSION:2.0
PRODID:-//ArtsQuest - ECPv6.15.5//NONSGML v1.0//EN
CALSCALE:GREGORIAN
METHOD:PUBLISH
X-ORIGINAL-URL:https://www.artsquest.org
X-WR-CALDESC:Events for ArtsQuest
REFRESH-INTERVAL;VALUE=DURATION:PT1H
X-Robots-Tag:noindex
X-PUBLISHED-TTL:PT1H
BEGIN:VTIMEZONE
TZID:America/New_York
BEGIN:DAYLIGHT
TZOFFSETFROM:-0500
TZOFFSETTO:-0400
TZNAME:EDT
DTSTART:20250309T070000
END:DAYLIGHT
BEGIN:STANDARD
TZOFFSETFROM:-0400
TZOFFSETTO:-0500
TZNAME:EST
DTSTART:20251102T060000
END:STANDARD
END:VTIMEZONE
BEGIN:VEVENT
DTSTART;TZID=America/New_York:20250925T150000
DTEND;TZID=America/New_York:20250925T170000
DTSTAMP:20260423T070759
CREATED:20250903T222053Z
LAST-MODIFIED:20251009T194009Z
UID:10001160-1758812400-1758819600@www.artsquest.org
SUMMARY:Open Mic Night
DESCRIPTION:
URL:https://www.artsquest.org/event/open-mic-night/2025-09-25/
LOCATION:Williams Brew Stage\, 101 Founders Way\, Bethlehem\, PA\, 18015\, United States
CATEGORIES:Concerts,Free
ATTACH;FMTTYPE=image/jpeg:https://www.artsquest.org/app/uploads/2025/09/2025_Open_mic_night.jpg
END:VEVENT
BEGIN:VEVENT
DTSTART;TZID=America/New_York:20250918T150000
DTEND;TZID=America/New_York:20250918T180000
DTSTAMP:20260423T070759
CREATED:20250903T214531Z
LAST-MODIFIED:20260402T203231Z
UID:10001130-1758207600-1758218400@www.artsquest.org
SUMMARY:Jazz Jam
DESCRIPTION:
URL:https://www.artsquest.org/event/jazz-jam/2025-09-18/
LOCATION:Williams Brew Stage\, 101 Founders Way\, Bethlehem\, PA\, 18015\, United States
CATEGORIES:Concerts,Free
ATTACH;FMTTYPE=image/jpeg:https://www.artsquest.org/app/uploads/2025/09/WBS_JazzJam_1920x1080.jpg
END:VEVENT
END:VCALENDAR