BEGIN:VCALENDAR
VERSION:2.0
PRODID:-//ArtsQuest - ECPv6.15.5//NONSGML v1.0//EN
CALSCALE:GREGORIAN
METHOD:PUBLISH
X-WR-CALNAME:ArtsQuest
X-ORIGINAL-URL:https://www.artsquest.org
X-WR-CALDESC:Events for ArtsQuest
REFRESH-INTERVAL;VALUE=DURATION:PT1H
X-Robots-Tag:noindex
X-PUBLISHED-TTL:PT1H
BEGIN:VTIMEZONE
TZID:America/New_York
BEGIN:DAYLIGHT
TZOFFSETFROM:-0500
TZOFFSETTO:-0400
TZNAME:EDT
DTSTART:20260308T070000
END:DAYLIGHT
BEGIN:STANDARD
TZOFFSETFROM:-0400
TZOFFSETTO:-0500
TZNAME:EST
DTSTART:20261101T060000
END:STANDARD
END:VTIMEZONE
BEGIN:VEVENT
DTSTART;TZID=America/New_York:20260606T214500
DTEND;TZID=America/New_York:20260606T231500
DTSTAMP:20260421T042615
CREATED:20260209T150024Z
LAST-MODIFIED:20260304T164045Z
UID:10003070-1780782300-1780787700@www.artsquest.org
SUMMARY:The Omen (50th Anniversary)
DESCRIPTION:
URL:https://www.artsquest.org/event/the-omen-50th-anniversary/
LOCATION:Frank Banko Alehouse Cinemas\, 101 Founders Way\, Bethlehem\, PA\, 18015\, United States
CATEGORIES:Film
ATTACH;FMTTYPE=image/jpeg:https://www.artsquest.org/app/uploads/2026/02/FILM_TheOmenCrop_1920x1080.jpg
END:VEVENT
BEGIN:VEVENT
DTSTART;TZID=America/New_York:20260607T173000
DTEND;TZID=America/New_York:20260607T195500
DTSTAMP:20260421T042615
CREATED:20260327T140057Z
LAST-MODIFIED:20260414T190625Z
UID:10003968-1780853400-1780862100@www.artsquest.org
SUMMARY:Hook feat. Q&A w/ Raushan Hammond
DESCRIPTION:
URL:https://www.artsquest.org/event/hook-feat-qa-w-raushan-hammond/
LOCATION:Frank Banko Alehouse Cinemas\, 101 Founders Way\, Bethlehem\, PA\, 18015\, United States
CATEGORIES:Film
ATTACH;FMTTYPE=image/jpeg:https://www.artsquest.org/app/uploads/2026/03/FILM_Hook_1920x1080.jpg
END:VEVENT
BEGIN:VEVENT
DTSTART;TZID=America/New_York:20260608T150000
DTEND;TZID=America/New_York:20260608T170000
DTSTAMP:20260421T042615
CREATED:20260413T140043Z
LAST-MODIFIED:20260414T135554Z
UID:10004160-1780930800-1780938000@www.artsquest.org
SUMMARY:Open Screenings
DESCRIPTION:
URL:https://www.artsquest.org/event/open-screenings-1/
LOCATION:Frank Banko Alehouse Cinemas\, 101 Founders Way\, Bethlehem\, PA\, 18015\, United States
CATEGORIES:Film
ATTACH;FMTTYPE=image/jpeg:https://www.artsquest.org/app/uploads/2026/04/openscreening_1920x1080-scaled.jpg
END:VEVENT
BEGIN:VEVENT
DTSTART;TZID=America/New_York:20260610T133000
DTEND;TZID=America/New_York:20260610T144900
DTSTAMP:20260421T042615
CREATED:20260406T140009Z
LAST-MODIFIED:20260407T205755Z
UID:10004076-1781098200-1781102940@www.artsquest.org
SUMMARY:The Aristocats (Sensory-Friendly)
DESCRIPTION:
URL:https://www.artsquest.org/event/the-aristocats-sensory-friendly/
LOCATION:Frank Banko Alehouse Cinemas\, 101 Founders Way\, Bethlehem\, PA\, 18015\, United States
CATEGORIES:Film
ATTACH;FMTTYPE=image/jpeg:https://www.artsquest.org/app/uploads/2026/03/FILM_Aristocats_1920x1080.jpg
END:VEVENT
BEGIN:VEVENT
DTSTART;TZID=America/New_York:20260610T183000
DTEND;TZID=America/New_York:20260610T195000
DTSTAMP:20260421T042615
CREATED:20260330T160957Z
LAST-MODIFIED:20260414T142635Z
UID:10004023-1781116200-1781121000@www.artsquest.org
SUMMARY:The Aristocats
DESCRIPTION:
URL:https://www.artsquest.org/event/the-aristocats/
LOCATION:Levitt Pavilion SteelStacks\, 789 E 1st St\, Bethlehem\, PA\, 18015
CATEGORIES:Film
ATTACH;FMTTYPE=image/jpeg:https://www.artsquest.org/app/uploads/2026/03/FILM_Aristocats_1920x1080.jpg
END:VEVENT
BEGIN:VEVENT
DTSTART;TZID=America/New_York:20260610T190000
DTEND;TZID=America/New_York:20260610T210000
DTSTAMP:20260421T042615
CREATED:20260210T150014Z
LAST-MODIFIED:20260312T165353Z
UID:10003216-1781118000-1781125200@www.artsquest.org
SUMMARY:Do The Right Thing
DESCRIPTION:
URL:https://www.artsquest.org/event/do-the-right-thing/
LOCATION:Frank Banko Alehouse Cinemas\, 101 Founders Way\, Bethlehem\, PA\, 18015\, United States
CATEGORIES:Film
ATTACH;FMTTYPE=image/jpeg:https://www.artsquest.org/app/uploads/2026/02/FILM_DoTheRightThing_1920x1080.jpg
END:VEVENT
BEGIN:VEVENT
DTSTART;TZID=America/New_York:20260611T193000
DTEND;TZID=America/New_York:20260611T211500
DTSTAMP:20260421T042615
CREATED:20260407T182138Z
LAST-MODIFIED:20260414T151516Z
UID:10004110-1781206200-1781212500@www.artsquest.org
SUMMARY:She's the Man (20th Anniversary)
DESCRIPTION:
URL:https://www.artsquest.org/event/shes-the-man-20th-anniversary/
LOCATION:Frank Banko Alehouse Cinemas\, 101 Founders Way\, Bethlehem\, PA\, 18015\, United States
CATEGORIES:Film
ATTACH;FMTTYPE=image/jpeg:https://www.artsquest.org/app/uploads/2026/04/FILM_ShestheMan_1920x1080.jpg
END:VEVENT
BEGIN:VEVENT
DTSTART;TZID=America/New_York:20260614T173000
DTEND;TZID=America/New_York:20260614T195500
DTSTAMP:20260421T042615
CREATED:20260414T140048Z
LAST-MODIFIED:20260415T131901Z
UID:10004122-1781458200-1781466900@www.artsquest.org
SUMMARY:Oklahoma! w/ Programming Assistant Natalie Osborne
DESCRIPTION:
URL:https://www.artsquest.org/event/oklahoma-w-programming-assistant-natalie-osborne/
LOCATION:Frank Banko Alehouse Cinemas\, 101 Founders Way\, Bethlehem\, PA\, 18015\, United States
CATEGORIES:Film
ATTACH;FMTTYPE=image/jpeg:https://www.artsquest.org/app/uploads/2026/04/FILM_Oklahoma_1920x1080.jpg
END:VEVENT
BEGIN:VEVENT
DTSTART;TZID=America/New_York:20260617T191500
DTEND;TZID=America/New_York:20260617T204500
DTSTAMP:20260421T042615
CREATED:20260312T140028Z
LAST-MODIFIED:20260312T165419Z
UID:10003539-1781723700-1781729100@www.artsquest.org
SUMMARY:Stand by Me (40th Anniversary)
DESCRIPTION:
URL:https://www.artsquest.org/event/stand-by-me-40th-anniversary/
LOCATION:Frank Banko Alehouse Cinemas\, 101 Founders Way\, Bethlehem\, PA\, 18015\, United States
CATEGORIES:Film
ATTACH;FMTTYPE=image/jpeg:https://www.artsquest.org/app/uploads/2026/03/FILM_StandByMe_1920x1080.jpg
END:VEVENT
BEGIN:VEVENT
DTSTART;TZID=America/New_York:20260618T193000
DTEND;TZID=America/New_York:20260618T210000
DTSTAMP:20260421T042615
CREATED:20260407T183436Z
LAST-MODIFIED:20260407T183603Z
UID:10004111-1781811000-1781816400@www.artsquest.org
SUMMARY:Copa 71
DESCRIPTION:
URL:https://www.artsquest.org/event/copa-71/
LOCATION:Frank Banko Alehouse Cinemas\, 101 Founders Way\, Bethlehem\, PA\, 18015\, United States
CATEGORIES:Film
ATTACH;FMTTYPE=image/jpeg:https://www.artsquest.org/app/uploads/2026/04/FILM_Copa71_1920x1080.jpg
END:VEVENT
BEGIN:VEVENT
DTSTART;TZID=America/New_York:20260621T181500
DTEND;TZID=America/New_York:20260621T202000
DTSTAMP:20260421T042615
CREATED:20260409T140052Z
LAST-MODIFIED:20260408T182045Z
UID:10004169-1782065700-1782073200@www.artsquest.org
SUMMARY:The Natural
DESCRIPTION:
URL:https://www.artsquest.org/event/the-natural/
LOCATION:Frank Banko Alehouse Cinemas\, 101 Founders Way\, Bethlehem\, PA\, 18015\, United States
CATEGORIES:Film
ATTACH;FMTTYPE=image/jpeg:https://www.artsquest.org/app/uploads/2026/04/FILM_TheNatural_1920x1080.jpg
END:VEVENT
BEGIN:VEVENT
DTSTART;TZID=America/New_York:20260624T191500
DTEND;TZID=America/New_York:20260624T211000
DTSTAMP:20260421T042615
CREATED:20260312T140025Z
LAST-MODIFIED:20260312T203014Z
UID:10003540-1782328500-1782335400@www.artsquest.org
SUMMARY:Planet of the Apes
DESCRIPTION:
URL:https://www.artsquest.org/event/planet-of-the-apes/
LOCATION:Frank Banko Alehouse Cinemas\, 101 Founders Way\, Bethlehem\, PA\, 18015\, United States
CATEGORIES:Film
ATTACH;FMTTYPE=image/jpeg:https://www.artsquest.org/app/uploads/2026/03/FILM_PlanetoftheApes_1920x1080.jpg
END:VEVENT
BEGIN:VEVENT
DTSTART;TZID=America/New_York:20260625T190000
DTEND;TZID=America/New_York:20260625T203000
DTSTAMP:20260421T042615
CREATED:20260316T140032Z
LAST-MODIFIED:20260420T200654Z
UID:10003545-1782414000-1782419400@www.artsquest.org
SUMMARY:Salsa
DESCRIPTION:
URL:https://www.artsquest.org/event/salsa/
LOCATION:Frank Banko Alehouse Cinemas\, 101 Founders Way\, Bethlehem\, PA\, 18015\, United States
CATEGORIES:Film
ATTACH;FMTTYPE=image/jpeg:https://www.artsquest.org/app/uploads/2026/03/FILM_Salsa_1920x1080.jpg
END:VEVENT
BEGIN:VEVENT
DTSTART;TZID=America/New_York:20260626T214500
DTEND;TZID=America/New_York:20260626T233700
DTSTAMP:20260421T042615
CREATED:20260407T184142Z
LAST-MODIFIED:20260407T194520Z
UID:10004112-1782510300-1782517020@www.artsquest.org
SUMMARY:Shaolin Soccer: Director's Cut (25th Anniversary)
DESCRIPTION:
URL:https://www.artsquest.org/event/shaolin-soccer-directors-cut-25th-anniversary/
LOCATION:Frank Banko Alehouse Cinemas\, 101 Founders Way\, Bethlehem\, PA\, 18015\, United States
CATEGORIES:Film
ATTACH;FMTTYPE=image/jpeg:https://www.artsquest.org/app/uploads/2026/04/FILM_ShaolinSoccer_1920x1080.jpg
END:VEVENT
BEGIN:VEVENT
DTSTART;TZID=America/New_York:20260626T233000
DTEND;TZID=America/New_York:20260627T013000
DTSTAMP:20260421T042615
CREATED:20251222T150054Z
LAST-MODIFIED:20260304T163613Z
UID:10002590-1782516600-1782523800@www.artsquest.org
SUMMARY:The Rocky Horror Picture Show (50th Anniversary)
DESCRIPTION:
URL:https://www.artsquest.org/event/the-rocky-horror-picture-show-50th-anniversary-6/
LOCATION:Frank Banko Alehouse Cinemas\, 101 Founders Way\, Bethlehem\, PA\, 18015\, United States
CATEGORIES:Film
ATTACH;FMTTYPE=image/jpeg:https://www.artsquest.org/app/uploads/2025/12/FILM_RockyHorrorCrop_1920x1080.jpg
END:VEVENT
BEGIN:VEVENT
DTSTART;TZID=America/New_York:20260627T214500
DTEND;TZID=America/New_York:20260627T232500
DTSTAMP:20260421T042615
CREATED:20251209T150029Z
LAST-MODIFIED:20260205T185522Z
UID:10002528-1782596700-1782602700@www.artsquest.org
SUMMARY:INU-OH
DESCRIPTION:
URL:https://www.artsquest.org/event/inu-oh/
LOCATION:Frank Banko Alehouse Cinemas\, 101 Founders Way\, Bethlehem\, PA\, 18015\, United States
CATEGORIES:Film
ATTACH;FMTTYPE=image/jpeg:https://www.artsquest.org/app/uploads/2025/12/FILM_inuoh_1200x392.jpg
END:VEVENT
BEGIN:VEVENT
DTSTART;TZID=America/New_York:20260628T183000
DTEND;TZID=America/New_York:20260628T200000
DTSTAMP:20260421T042615
CREATED:20251217T150038Z
LAST-MODIFIED:20260302T170433Z
UID:10002573-1782671400-1782676800@www.artsquest.org
SUMMARY:So I Married an Axe Murderer w/ Food & Beverage Manager (Levy Restaurant) Jason Kugler
DESCRIPTION:
URL:https://www.artsquest.org/event/so-i-married-an-axe-murderer-w-food-beverage-manager-levy-restaurant-jason-kugler/
LOCATION:Frank Banko Alehouse Cinemas\, 101 Founders Way\, Bethlehem\, PA\, 18015\, United States
CATEGORIES:Film
ATTACH;FMTTYPE=image/jpeg:https://www.artsquest.org/app/uploads/2025/12/FILM_axemuderer_1200x392.jpg
END:VEVENT
BEGIN:VEVENT
DTSTART;TZID=America/New_York:20260701T191500
DTEND;TZID=America/New_York:20260701T212000
DTSTAMP:20260421T042615
CREATED:20260312T140013Z
LAST-MODIFIED:20260312T165535Z
UID:10003541-1782933300-1782940800@www.artsquest.org
SUMMARY:A Place in the Sun (75th Anniversary)
DESCRIPTION:
URL:https://www.artsquest.org/event/a-place-in-the-sun-75th-anniversary/
LOCATION:Frank Banko Alehouse Cinemas\, 101 Founders Way\, Bethlehem\, PA\, 18015\, United States
CATEGORIES:Film
ATTACH;FMTTYPE=image/jpeg:https://www.artsquest.org/app/uploads/2026/03/FILM_PlaceintheSun_1920x1080.jpg
END:VEVENT
BEGIN:VEVENT
DTSTART;TZID=America/New_York:20260708T133000
DTEND;TZID=America/New_York:20260708T150000
DTSTAMP:20260421T042615
CREATED:20260406T140024Z
LAST-MODIFIED:20260414T151533Z
UID:10004077-1783517400-1783522800@www.artsquest.org
SUMMARY:The Lion King (1994) (Sensory-Friendly)
DESCRIPTION:
URL:https://www.artsquest.org/event/the-lion-king-1994-sensory-friendly/
LOCATION:Frank Banko Alehouse Cinemas\, 101 Founders Way\, Bethlehem\, PA\, 18015\, United States
CATEGORIES:Film
ATTACH;FMTTYPE=image/jpeg:https://www.artsquest.org/app/uploads/2026/03/FreeFamilyMovieSeries_1920x1080.jpg
END:VEVENT
BEGIN:VEVENT
DTSTART;TZID=America/New_York:20260708T183000
DTEND;TZID=America/New_York:20260708T200000
DTSTAMP:20260421T042615
CREATED:20260330T161422Z
LAST-MODIFIED:20260414T151524Z
UID:10004024-1783535400-1783540800@www.artsquest.org
SUMMARY:The Lion King (1994)
DESCRIPTION:
URL:https://www.artsquest.org/event/the-lion-king-1994/
LOCATION:Levitt Pavilion SteelStacks\, 789 E 1st St\, Bethlehem\, PA\, 18015
CATEGORIES:Film
ATTACH;FMTTYPE=image/jpeg:https://www.artsquest.org/app/uploads/2026/03/FreeFamilyMovieSeries_1920x1080.jpg
END:VEVENT
BEGIN:VEVENT
DTSTART;TZID=America/New_York:20260708T191500
DTEND;TZID=America/New_York:20260708T210500
DTSTAMP:20260421T042615
CREATED:20260312T140057Z
LAST-MODIFIED:20260312T165547Z
UID:10003542-1783538100-1783544700@www.artsquest.org
SUMMARY:Dirty Dancing
DESCRIPTION:
URL:https://www.artsquest.org/event/dirty-dancing/
LOCATION:Frank Banko Alehouse Cinemas\, 101 Founders Way\, Bethlehem\, PA\, 18015\, United States
CATEGORIES:Film
ATTACH;FMTTYPE=image/jpeg:https://www.artsquest.org/app/uploads/2026/03/FILM_DirtyDancing_1920x1080.jpg
END:VEVENT
BEGIN:VEVENT
DTSTART;TZID=America/New_York:20260711T120000
DTEND;TZID=America/New_York:20260711T134500
DTSTAMP:20260421T042615
CREATED:20260330T140017Z
LAST-MODIFIED:20260303T184208Z
UID:10003488-1783771200-1783777500@www.artsquest.org
SUMMARY:The Harder They Come
DESCRIPTION:
URL:https://www.artsquest.org/event/the-harder-they-come/
LOCATION:Frank Banko Alehouse Cinemas\, 101 Founders Way\, Bethlehem\, PA\, 18015\, United States
CATEGORIES:Film
ATTACH;FMTTYPE=image/jpeg:https://www.artsquest.org/app/uploads/2026/03/FILM_TheHarderTheyCome_1920x1080.jpg
END:VEVENT
BEGIN:VEVENT
DTSTART;TZID=America/New_York:20260711T214500
DTEND;TZID=America/New_York:20260711T231500
DTSTAMP:20260421T042615
CREATED:20260216T150014Z
LAST-MODIFIED:20260312T203024Z
UID:10003242-1783806300-1783811700@www.artsquest.org
SUMMARY:The Fly (40th Anniversary)
DESCRIPTION:
URL:https://www.artsquest.org/event/the-fly-40th-anniversary/
LOCATION:Frank Banko Alehouse Cinemas\, 101 Founders Way\, Bethlehem\, PA\, 18015\, United States
CATEGORIES:Film
ATTACH;FMTTYPE=image/jpeg:https://www.artsquest.org/app/uploads/2026/02/FILM_TheFly_1920x1080.jpg
END:VEVENT
BEGIN:VEVENT
DTSTART;TZID=America/New_York:20260712T181500
DTEND;TZID=America/New_York:20260712T202300
DTSTAMP:20260421T042615
CREATED:20260409T140044Z
LAST-MODIFIED:20260408T183300Z
UID:10004170-1783880100-1783887780@www.artsquest.org
SUMMARY:42
DESCRIPTION:
URL:https://www.artsquest.org/event/42/
LOCATION:Frank Banko Alehouse Cinemas\, 101 Founders Way\, Bethlehem\, PA\, 18015\, United States
CATEGORIES:Film
ATTACH;FMTTYPE=image/jpeg:https://www.artsquest.org/app/uploads/2026/04/FILM_42_1920x1080.jpg
END:VEVENT
BEGIN:VEVENT
DTSTART;TZID=America/New_York:20260715T133000
DTEND;TZID=America/New_York:20260715T150000
DTSTAMP:20260421T042615
CREATED:20260406T140005Z
LAST-MODIFIED:20260407T210034Z
UID:10004078-1784122200-1784127600@www.artsquest.org
SUMMARY:Aladdin (1992) (Sensory-Friendly)
DESCRIPTION:
URL:https://www.artsquest.org/event/aladdin-1992-sensory-friendly/
LOCATION:Frank Banko Alehouse Cinemas\, 101 Founders Way\, Bethlehem\, PA\, 18015\, United States
CATEGORIES:Film
ATTACH;FMTTYPE=image/jpeg:https://www.artsquest.org/app/uploads/2026/03/FILM_Aladdin_1920x1080.jpg
END:VEVENT
BEGIN:VEVENT
DTSTART;TZID=America/New_York:20260715T183000
DTEND;TZID=America/New_York:20260715T200000
DTSTAMP:20260421T042615
CREATED:20260330T161856Z
LAST-MODIFIED:20260414T142657Z
UID:10004025-1784140200-1784145600@www.artsquest.org
SUMMARY:Aladdin (1992)
DESCRIPTION:
URL:https://www.artsquest.org/event/aladdin-1992/
LOCATION:Levitt Pavilion SteelStacks\, 789 E 1st St\, Bethlehem\, PA\, 18015
CATEGORIES:Film
ATTACH;FMTTYPE=image/jpeg:https://www.artsquest.org/app/uploads/2026/03/FILM_Aladdin_1920x1080.jpg
END:VEVENT
BEGIN:VEVENT
DTSTART;TZID=America/New_York:20260715T191500
DTEND;TZID=America/New_York:20260715T212000
DTSTAMP:20260421T042615
CREATED:20260312T140034Z
LAST-MODIFIED:20260312T165600Z
UID:10003543-1784142900-1784150400@www.artsquest.org
SUMMARY:Cool Hand Luke
DESCRIPTION:
URL:https://www.artsquest.org/event/cool-hand-luke/
LOCATION:Frank Banko Alehouse Cinemas\, 101 Founders Way\, Bethlehem\, PA\, 18015\, United States
CATEGORIES:Film
ATTACH;FMTTYPE=image/jpeg:https://www.artsquest.org/app/uploads/2026/03/FILM_CoolHandLuke_1920x1080.jpg
END:VEVENT
BEGIN:VEVENT
DTSTART;TZID=America/New_York:20260722T133000
DTEND;TZID=America/New_York:20260722T151600
DTSTAMP:20260421T042615
CREATED:20260406T140016Z
LAST-MODIFIED:20260407T210005Z
UID:10004079-1784727000-1784733360@www.artsquest.org
SUMMARY:Paddington in Peru (Sensory-Friendly)
DESCRIPTION:
URL:https://www.artsquest.org/event/paddington-in-peru-sensory-friendly/
LOCATION:Frank Banko Alehouse Cinemas\, 101 Founders Way\, Bethlehem\, PA\, 18015\, United States
CATEGORIES:Film
ATTACH;FMTTYPE=image/jpeg:https://www.artsquest.org/app/uploads/2026/03/FILM_Paddington_1920x1080.jpg
END:VEVENT
BEGIN:VEVENT
DTSTART;TZID=America/New_York:20260722T183000
DTEND;TZID=America/New_York:20260722T202000
DTSTAMP:20260421T042615
CREATED:20260330T162849Z
LAST-MODIFIED:20260414T142713Z
UID:10004026-1784745000-1784751600@www.artsquest.org
SUMMARY:Paddington in Peru
DESCRIPTION:
URL:https://www.artsquest.org/event/paddington-in-peru/
LOCATION:Levitt Pavilion SteelStacks\, 789 E 1st St\, Bethlehem\, PA\, 18015
CATEGORIES:Film
ATTACH;FMTTYPE=image/jpeg:https://www.artsquest.org/app/uploads/2026/03/FILM_Paddington_1920x1080.jpg
END:VEVENT
BEGIN:VEVENT
DTSTART;TZID=America/New_York:20260722T191500
DTEND;TZID=America/New_York:20260722T212500
DTSTAMP:20260421T042615
CREATED:20260312T140020Z
LAST-MODIFIED:20260312T165636Z
UID:10003533-1784747700-1784755500@www.artsquest.org
SUMMARY:Selena
DESCRIPTION:
URL:https://www.artsquest.org/event/selena/
LOCATION:Frank Banko Alehouse Cinemas\, 101 Founders Way\, Bethlehem\, PA\, 18015\, United States
CATEGORIES:Film
ATTACH;FMTTYPE=image/jpeg:https://www.artsquest.org/app/uploads/2026/03/FILM_Selena_1920x1080.jpg
END:VEVENT
END:VCALENDAR